BEGIN:VCALENDAR
VERSION:2.0
PRODID:-//GoiásFomento - Agência de Fomento - ECPv6.15.20//NONSGML v1.0//EN
CALSCALE:GREGORIAN
METHOD:PUBLISH
X-WR-CALNAME:GoiásFomento - Agência de Fomento
X-ORIGINAL-URL:https://www.goiasfomento.com
X-WR-CALDESC:Eventos para GoiásFomento - Agência de Fomento
REFRESH-INTERVAL;VALUE=DURATION:PT1H
X-Robots-Tag:noindex
X-PUBLISHED-TTL:PT1H
BEGIN:VTIMEZONE
TZID:America/Sao_Paulo
BEGIN:STANDARD
TZOFFSETFROM:-0300
TZOFFSETTO:-0300
TZNAME:-03
DTSTART:20240101T000000
END:STANDARD
END:VTIMEZONE
BEGIN:VEVENT
DTSTART;TZID=America/Sao_Paulo:20250127T080000
DTEND;TZID=America/Sao_Paulo:20250127T083000
DTSTAMP:20260424T231554
CREATED:20250127T193939Z
LAST-MODIFIED:20250127T193939Z
UID:39547-1737964800-1737966600@www.goiasfomento.com
SUMMARY:Rufino Veríssimo: Despachos Internos.
DESCRIPTION:
URL:https://www.goiasfomento.com/agenda/rufino-verissimo-despachos-internos-118/
LOCATION:Gabinete da Diretoria de Operações da GoiásFomento – Agência de Fomento de Goiás.
CATEGORIES:Diretoria de Operações
END:VEVENT
BEGIN:VEVENT
DTSTART;TZID=America/Sao_Paulo:20250127T083000
DTEND;TZID=America/Sao_Paulo:20250127T090000
DTSTAMP:20260424T231554
CREATED:20250127T194106Z
LAST-MODIFIED:20250127T194106Z
UID:39549-1737966600-1737968400@www.goiasfomento.com
SUMMARY:Rufino Veríssimo: Reunião com Rafael Soffa Rézio – Gerente de Programas e Políticas Sociais.
DESCRIPTION:
URL:https://www.goiasfomento.com/agenda/rufino-verissimo-reuniao-com-rafael-soffa-rezio-gerente-de-programas-e-politicas-sociais-5/
LOCATION:Gabinete da Diretoria de Operações da GoiásFomento – Agência de Fomento de Goiás.
CATEGORIES:Diretoria de Operações
END:VEVENT
BEGIN:VEVENT
DTSTART;TZID=America/Sao_Paulo:20250127T090000
DTEND;TZID=America/Sao_Paulo:20250127T100000
DTSTAMP:20260424T231554
CREATED:20250127T194243Z
LAST-MODIFIED:20250127T194243Z
UID:39551-1737968400-1737972000@www.goiasfomento.com
SUMMARY:Rufino Veríssimo: Despachos Internos.
DESCRIPTION:
URL:https://www.goiasfomento.com/agenda/rufino-verissimo-despachos-internos-119/
LOCATION:Gabinete da Diretoria de Operações da GoiásFomento – Agência de Fomento de Goiás.
CATEGORIES:Diretoria de Operações
END:VEVENT
BEGIN:VEVENT
DTSTART;TZID=America/Sao_Paulo:20250127T100000
DTEND;TZID=America/Sao_Paulo:20250127T110000
DTSTAMP:20260424T231554
CREATED:20250127T194527Z
LAST-MODIFIED:20250127T194651Z
UID:39557-1737972000-1737975600@www.goiasfomento.com
SUMMARY:Rufino Veríssimo: Reunião com Bruno Alvarenga Campos Martins - Gerente de Atendimento.
DESCRIPTION:
URL:https://www.goiasfomento.com/agenda/rufino-verissimo-bruno-alvarenga-campos-martins-gerente-de-atendimento-2/
LOCATION:Gabinete da Diretoria de Operações da GoiásFomento – Agência de Fomento de Goiás.
CATEGORIES:Diretoria de Operações
END:VEVENT
BEGIN:VEVENT
DTSTART;TZID=America/Sao_Paulo:20250127T110000
DTEND;TZID=America/Sao_Paulo:20250127T120000
DTSTAMP:20260424T231554
CREATED:20250127T194316Z
LAST-MODIFIED:20250127T194316Z
UID:39553-1737975600-1737979200@www.goiasfomento.com
SUMMARY:Rufino Veríssimo: Despachos Internos.
DESCRIPTION:
URL:https://www.goiasfomento.com/agenda/rufino-verissimo-despachos-internos-120/
LOCATION:Gabinete da Diretoria de Operações da GoiásFomento – Agência de Fomento de Goiás.
CATEGORIES:Diretoria de Operações
END:VEVENT
BEGIN:VEVENT
DTSTART;TZID=America/Sao_Paulo:20250127T140000
DTEND;TZID=America/Sao_Paulo:20250127T153000
DTSTAMP:20260424T231554
CREATED:20250127T194346Z
LAST-MODIFIED:20250127T194346Z
UID:39555-1737986400-1737991800@www.goiasfomento.com
SUMMARY:Rufino Veríssimo: Despachos Internos.
DESCRIPTION:
URL:https://www.goiasfomento.com/agenda/rufino-verissimo-despachos-internos-121/
LOCATION:Gabinete da Diretoria de Operações da GoiásFomento – Agência de Fomento de Goiás.
CATEGORIES:Diretoria de Operações
END:VEVENT
BEGIN:VEVENT
DTSTART;TZID=America/Sao_Paulo:20250127T153000
DTEND;TZID=America/Sao_Paulo:20250127T170000
DTSTAMP:20260424T231554
CREATED:20250127T193716Z
LAST-MODIFIED:20250127T193716Z
UID:39543-1737991800-1737997200@www.goiasfomento.com
SUMMARY:Rufino Veríssimo: Reunião com Fernando Reis - Chefe de Gabinete GF\, Bruno - Gerente - Geate\, Dineuvan - Chefe de Gabinete Dep. Flávia Morais e Assis Mendes e a Susana Silvério - Secretaria Municipal da Indústria e Comércio de Edeia/GO
DESCRIPTION:
URL:https://www.goiasfomento.com/agenda/rufino-verissimo-reuniao-com-fernando-reis-chefe-de-gabinete-gf-bruno-gerente-geate-dineuvan-chefe-de-gabinete-dep-flavia-morais-e-assis-mendes-e-a-susana-silverio-secretaria-municipal-d/
LOCATION:Sala de Reuniões da Diretoria – Agência de Fomento de Goiás.
CATEGORIES:Diretoria de Operações
END:VEVENT
BEGIN:VEVENT
DTSTART;TZID=America/Sao_Paulo:20250127T170000
DTEND;TZID=America/Sao_Paulo:20250127T180000
DTSTAMP:20260424T231554
CREATED:20250127T193822Z
LAST-MODIFIED:20250127T193822Z
UID:39545-1737997200-1738000800@www.goiasfomento.com
SUMMARY:Rufino Veríssimo: Despachos Internos.
DESCRIPTION:
URL:https://www.goiasfomento.com/agenda/rufino-verissimo-despachos-internos-117/
LOCATION:Gabinete da Diretoria de Operações da GoiásFomento – Agência de Fomento de Goiás.
CATEGORIES:Diretoria de Operações
END:VEVENT
END:VCALENDAR