BEGIN:VCALENDAR
VERSION:2.0
PRODID:-//GoiásFomento - Agência de Fomento - ECPv6.15.20//NONSGML v1.0//EN
CALSCALE:GREGORIAN
METHOD:PUBLISH
X-ORIGINAL-URL:https://www.goiasfomento.com
X-WR-CALDESC:Eventos para GoiásFomento - Agência de Fomento
REFRESH-INTERVAL;VALUE=DURATION:PT1H
X-Robots-Tag:noindex
X-PUBLISHED-TTL:PT1H
BEGIN:VTIMEZONE
TZID:America/Sao_Paulo
BEGIN:STANDARD
TZOFFSETFROM:-0300
TZOFFSETTO:-0300
TZNAME:-03
DTSTART:20230101T000000
END:STANDARD
END:VTIMEZONE
BEGIN:VEVENT
DTSTART;VALUE=DATE:20241231
DTEND;VALUE=DATE:20250101
DTSTAMP:20260425T074031
CREATED:20241204T151612Z
LAST-MODIFIED:20241204T151612Z
UID:38615-1735603200-1735689599@www.goiasfomento.com
SUMMARY:Rufino Veríssimo: Ponto Facultativo conforme Decreto Estadual Nº 10.583 de 02 de dezembro de 2024.
DESCRIPTION:
URL:https://www.goiasfomento.com/agenda/rufino-verissimo-ponto-facultativo-conforme-decreto-estadual-no-10-583-de-02-de-dezembro-de-2024-2/
LOCATION:Gabinete da Diretoria de Operações da GoiásFomento – Agência de Fomento de Goiás.
CATEGORIES:Diretoria de Operações
END:VEVENT
END:VCALENDAR