BEGIN:VCALENDAR
VERSION:2.0
PRODID:-//GoiásFomento - Agência de Fomento - ECPv6.15.20//NONSGML v1.0//EN
CALSCALE:GREGORIAN
METHOD:PUBLISH
X-WR-CALNAME:GoiásFomento - Agência de Fomento
X-ORIGINAL-URL:https://www.goiasfomento.com
X-WR-CALDESC:Eventos para GoiásFomento - Agência de Fomento
REFRESH-INTERVAL;VALUE=DURATION:PT1H
X-Robots-Tag:noindex
X-PUBLISHED-TTL:PT1H
BEGIN:VTIMEZONE
TZID:America/Sao_Paulo
BEGIN:STANDARD
TZOFFSETFROM:-0300
TZOFFSETTO:-0300
TZNAME:-03
DTSTART:20230101T000000
END:STANDARD
END:VTIMEZONE
BEGIN:VEVENT
DTSTART;TZID=America/Sao_Paulo:20241218T080000
DTEND;TZID=America/Sao_Paulo:20241218T100000
DTSTAMP:20260425T091826
CREATED:20241218T113725Z
LAST-MODIFIED:20241218T113725Z
UID:38936-1734508800-1734516000@www.goiasfomento.com
SUMMARY:Rufino Veríssimo: Despachos Internos.
DESCRIPTION:
URL:https://www.goiasfomento.com/agenda/rufino-verissimo-despachos-internos-70/
LOCATION:Gabinete da Diretoria de Operações da GoiásFomento – Agência de Fomento de Goiás.
CATEGORIES:Diretoria de Operações
END:VEVENT
BEGIN:VEVENT
DTSTART;TZID=America/Sao_Paulo:20241218T100000
DTEND;TZID=America/Sao_Paulo:20241218T180000
DTSTAMP:20260425T091826
CREATED:20241218T121332Z
LAST-MODIFIED:20241218T121401Z
UID:38946-1734516000-1734544800@www.goiasfomento.com
SUMMARY:Rufino Veríssimo: Entregas de Cartões Sociais - Itapuranga-Goiás
DESCRIPTION:
URL:https://www.goiasfomento.com/agenda/rufino-verissimo-entregas-de-cartao-social-itapuranga-goias/
LOCATION:Itapuranga-Goiás
CATEGORIES:Diretoria de Operações
END:VEVENT
END:VCALENDAR