BEGIN:VCALENDAR
VERSION:2.0
PRODID:-//GoiásFomento - Agência de Fomento - ECPv6.15.20//NONSGML v1.0//EN
CALSCALE:GREGORIAN
METHOD:PUBLISH
X-WR-CALNAME:GoiásFomento - Agência de Fomento
X-ORIGINAL-URL:https://www.goiasfomento.com
X-WR-CALDESC:Eventos para GoiásFomento - Agência de Fomento
REFRESH-INTERVAL;VALUE=DURATION:PT1H
X-Robots-Tag:noindex
X-PUBLISHED-TTL:PT1H
BEGIN:VTIMEZONE
TZID:America/Sao_Paulo
BEGIN:STANDARD
TZOFFSETFROM:-0300
TZOFFSETTO:-0300
TZNAME:-03
DTSTART:20230101T000000
END:STANDARD
END:VTIMEZONE
BEGIN:VEVENT
DTSTART;TZID=America/Sao_Paulo:20241217T080000
DTEND;TZID=America/Sao_Paulo:20241217T090000
DTSTAMP:20260425T091818
CREATED:20241217T122858Z
LAST-MODIFIED:20241217T122858Z
UID:38924-1734422400-1734426000@www.goiasfomento.com
SUMMARY:Rufino Veríssimo: Despachos Internos.
DESCRIPTION:
URL:https://www.goiasfomento.com/agenda/rufino-verissimo-despachos-internos-67/
LOCATION:Gabinete da Diretoria de Operações da GoiásFomento – Agência de Fomento de Goiás.
CATEGORIES:Diretoria de Operações
END:VEVENT
BEGIN:VEVENT
DTSTART;TZID=America/Sao_Paulo:20241217T090000
DTEND;TZID=America/Sao_Paulo:20241217T100000
DTSTAMP:20260425T091818
CREATED:20241217T123215Z
LAST-MODIFIED:20241217T123215Z
UID:38926-1734426000-1734429600@www.goiasfomento.com
SUMMARY:Rufino Veríssimo: Reunião com Presidente Pedro Leonardo - SEAPA.
DESCRIPTION:
URL:https://www.goiasfomento.com/agenda/rufino-verissimo-reuniao-com-presidente-pedro-leonardo-seapa/
LOCATION:Secretaria de Estado de Agricultura\, Pecuária e Abastecimento de Goiás
CATEGORIES:Diretoria de Operações
END:VEVENT
BEGIN:VEVENT
DTSTART;TZID=America/Sao_Paulo:20241217T100000
DTEND;TZID=America/Sao_Paulo:20241217T120000
DTSTAMP:20260425T091818
CREATED:20241217T134621Z
LAST-MODIFIED:20241217T140719Z
UID:38931-1734429600-1734436800@www.goiasfomento.com
SUMMARY:Rufino Veríssimo: Despachos Internos.
DESCRIPTION:
URL:https://www.goiasfomento.com/agenda/rufino-verissimo-despachos-internos-68/
LOCATION:Gabinete da Diretoria de Operações da GoiásFomento – Agência de Fomento de Goiás.
CATEGORIES:Diretoria de Operações
END:VEVENT
BEGIN:VEVENT
DTSTART;TZID=America/Sao_Paulo:20241217T140000
DTEND;TZID=America/Sao_Paulo:20241217T180000
DTSTAMP:20260425T091818
CREATED:20241217T190527Z
LAST-MODIFIED:20241217T190527Z
UID:38934-1734444000-1734458400@www.goiasfomento.com
SUMMARY:Rufino Veríssimo: Despachos Internos.
DESCRIPTION:
URL:https://www.goiasfomento.com/agenda/rufino-verissimo-despachos-internos-69/
LOCATION:Gabinete da Diretoria de Operações da GoiásFomento – Agência de Fomento de Goiás.
CATEGORIES:Diretoria de Operações
END:VEVENT
END:VCALENDAR