BEGIN:VCALENDAR
VERSION:2.0
PRODID:-//GoiásFomento - Agência de Fomento - ECPv6.15.20//NONSGML v1.0//EN
CALSCALE:GREGORIAN
METHOD:PUBLISH
X-ORIGINAL-URL:https://www.goiasfomento.com
X-WR-CALDESC:Eventos para GoiásFomento - Agência de Fomento
REFRESH-INTERVAL;VALUE=DURATION:PT1H
X-Robots-Tag:noindex
X-PUBLISHED-TTL:PT1H
BEGIN:VTIMEZONE
TZID:America/Sao_Paulo
BEGIN:STANDARD
TZOFFSETFROM:-0300
TZOFFSETTO:-0300
TZNAME:-03
DTSTART:20230101T000000
END:STANDARD
END:VTIMEZONE
BEGIN:VEVENT
DTSTART;TZID=America/Sao_Paulo:20241216T080000
DTEND;TZID=America/Sao_Paulo:20241216T083000
DTSTAMP:20260425T091953
CREATED:20241216T113839Z
LAST-MODIFIED:20241216T113907Z
UID:38865-1734336000-1734337800@www.goiasfomento.com
SUMMARY:Rufino Veríssimo: Abertura do Treinamento dos Colaboradores.
DESCRIPTION:
URL:https://www.goiasfomento.com/agenda/rufino-verissimo-abertura-do-treinamento-dos-colaboradores/
LOCATION:Auditório da Agência de Fomento de Goiás.
CATEGORIES:Diretoria de Operações
END:VEVENT
BEGIN:VEVENT
DTSTART;TZID=America/Sao_Paulo:20241216T083000
DTEND;TZID=America/Sao_Paulo:20241216T100000
DTSTAMP:20260425T091953
CREATED:20241216T133312Z
LAST-MODIFIED:20241216T133312Z
UID:38877-1734337800-1734343200@www.goiasfomento.com
SUMMARY:Rufino Veríssimo: Despachos Internos.
DESCRIPTION:
URL:https://www.goiasfomento.com/agenda/rufino-verissimo-despachos-internos-63/
LOCATION:Gabinete da Diretoria de Operações da GoiásFomento – Agência de Fomento de Goiás.
CATEGORIES:Diretoria de Operações
END:VEVENT
BEGIN:VEVENT
DTSTART;TZID=America/Sao_Paulo:20241216T100000
DTEND;TZID=America/Sao_Paulo:20241216T110000
DTSTAMP:20260425T091953
CREATED:20241216T133234Z
LAST-MODIFIED:20241216T133234Z
UID:38875-1734343200-1734346800@www.goiasfomento.com
SUMMARY:Rufino Veríssimo: Reunião com os Gerentes da Diretoria de Operações da Agência de Fomento de Goiás.
DESCRIPTION:
URL:https://www.goiasfomento.com/agenda/rufino-verissimo-reuniao-com-os-gerentes-da-diretoria-de-operacoes-da-agencia-de-fomento-de-goias-4/
LOCATION:Gabinete da Diretoria de Operações da GoiásFomento – Agência de Fomento de Goiás.
CATEGORIES:Diretoria de Operações
END:VEVENT
BEGIN:VEVENT
DTSTART;TZID=America/Sao_Paulo:20241216T110000
DTEND;TZID=America/Sao_Paulo:20241216T120000
DTSTAMP:20260425T091953
CREATED:20241216T191730Z
LAST-MODIFIED:20241216T191730Z
UID:38893-1734346800-1734350400@www.goiasfomento.com
SUMMARY:Rufino Veríssimo: Despachos Internos.
DESCRIPTION:
URL:https://www.goiasfomento.com/agenda/rufino-verissimo-despachos-internos-64/
LOCATION:Gabinete da Diretoria de Operações da GoiásFomento – Agência de Fomento de Goiás.
CATEGORIES:Diretoria de Operações
END:VEVENT
BEGIN:VEVENT
DTSTART;TZID=America/Sao_Paulo:20241216T140000
DTEND;TZID=America/Sao_Paulo:20241216T160000
DTSTAMP:20260425T091953
CREATED:20241216T191758Z
LAST-MODIFIED:20241216T191758Z
UID:38895-1734357600-1734364800@www.goiasfomento.com
SUMMARY:Rufino Veríssimo: Despachos Internos.
DESCRIPTION:
URL:https://www.goiasfomento.com/agenda/rufino-verissimo-despachos-internos-65/
LOCATION:Gabinete da Diretoria de Operações da GoiásFomento – Agência de Fomento de Goiás.
CATEGORIES:Diretoria de Operações
END:VEVENT
BEGIN:VEVENT
DTSTART;TZID=America/Sao_Paulo:20241216T160000
DTEND;TZID=America/Sao_Paulo:20241216T170000
DTSTAMP:20260425T091953
CREATED:20241216T192141Z
LAST-MODIFIED:20241216T192141Z
UID:38897-1734364800-1734368400@www.goiasfomento.com
SUMMARY:Rufino Veríssimo: Reuniãocom Rafael Soffa Rézio – Gerente de Programas e Políticas Sociais.
DESCRIPTION:
URL:https://www.goiasfomento.com/agenda/rufino-verissimo-reuniaocom-rafael-soffa-rezio-gerente-de-programas-e-politicas-sociais/
LOCATION:Gabinete da Diretoria de Operações da GoiásFomento – Agência de Fomento de Goiás.
CATEGORIES:Diretoria de Operações
END:VEVENT
BEGIN:VEVENT
DTSTART;TZID=America/Sao_Paulo:20241216T170000
DTEND;TZID=America/Sao_Paulo:20241216T180000
DTSTAMP:20260425T091953
CREATED:20241216T192242Z
LAST-MODIFIED:20241216T192242Z
UID:38899-1734368400-1734372000@www.goiasfomento.com
SUMMARY:Rufino Veríssimo: Despachos Internos.
DESCRIPTION:
URL:https://www.goiasfomento.com/agenda/rufino-verissimo-despachos-internos-66/
LOCATION:Gabinete da Diretoria de Operações da GoiásFomento – Agência de Fomento de Goiás.
CATEGORIES:Diretoria de Operações
END:VEVENT
END:VCALENDAR