BEGIN:VCALENDAR
VERSION:2.0
PRODID:-//GoiásFomento - Agência de Fomento - ECPv6.15.20//NONSGML v1.0//EN
CALSCALE:GREGORIAN
METHOD:PUBLISH
X-ORIGINAL-URL:https://www.goiasfomento.com
X-WR-CALDESC:Eventos para GoiásFomento - Agência de Fomento
REFRESH-INTERVAL;VALUE=DURATION:PT1H
X-Robots-Tag:noindex
X-PUBLISHED-TTL:PT1H
BEGIN:VTIMEZONE
TZID:America/Sao_Paulo
BEGIN:STANDARD
TZOFFSETFROM:-0300
TZOFFSETTO:-0300
TZNAME:-03
DTSTART:20230101T000000
END:STANDARD
END:VTIMEZONE
BEGIN:VEVENT
DTSTART;TZID=America/Sao_Paulo:20241211T080000
DTEND;TZID=America/Sao_Paulo:20241211T090000
DTSTAMP:20260425T091952
CREATED:20241211T115053Z
LAST-MODIFIED:20241211T115053Z
UID:38751-1733904000-1733907600@www.goiasfomento.com
SUMMARY:Rufino Veríssimo: Reunião com Paulo Cesar Paiva – Assessor de Estratégia e Planejamento.
DESCRIPTION:
URL:https://www.goiasfomento.com/agenda/rufino-verissimo-reuniao-com-paulo-cesar-paiva-assessor-de-estrategia-e-planejamento-5/
LOCATION:Gabinete da Diretoria de Operações da GoiásFomento – Agência de Fomento de Goiás.
CATEGORIES:Diretoria de Operações
END:VEVENT
BEGIN:VEVENT
DTSTART;TZID=America/Sao_Paulo:20241211T090000
DTEND;TZID=America/Sao_Paulo:20241211T113000
DTSTAMP:20260425T091952
CREATED:20241211T115223Z
LAST-MODIFIED:20241211T143717Z
UID:38753-1733907600-1733916600@www.goiasfomento.com
SUMMARY:Rufino Veríssimo: Prêmios de Governança e do Goiás Mais Transparente 2024.
DESCRIPTION:
URL:https://www.goiasfomento.com/agenda/rufino-verissimo-premios-de-governanca-e-do-goias-mais-transparente-2024/
LOCATION:Garibaldi Bar e Restaurante – Goiânia-Goiás  – Av. T-4\, 1764 – Setor Serrinha\, Goiânia – GO\, 74835-090
CATEGORIES:Diretoria de Operações
END:VEVENT
BEGIN:VEVENT
DTSTART;TZID=America/Sao_Paulo:20241211T113000
DTEND;TZID=America/Sao_Paulo:20241211T120000
DTSTAMP:20260425T091952
CREATED:20241211T144047Z
LAST-MODIFIED:20241211T144047Z
UID:38757-1733916600-1733918400@www.goiasfomento.com
SUMMARY:Rufino Veríssimo: Despachos Internos.
DESCRIPTION:
URL:https://www.goiasfomento.com/agenda/rufino-verissimo-despachos-internos-54/
LOCATION:Gabinete da Diretoria de Operações da GoiásFomento – Agência de Fomento de Goiás.
CATEGORIES:Diretoria de Operações
END:VEVENT
BEGIN:VEVENT
DTSTART;TZID=America/Sao_Paulo:20241211T140000
DTEND;TZID=America/Sao_Paulo:20241211T143000
DTSTAMP:20260425T091952
CREATED:20241211T172403Z
LAST-MODIFIED:20241211T172403Z
UID:38759-1733925600-1733927400@www.goiasfomento.com
SUMMARY:Rufino Veríssimo: Despachos Internos.
DESCRIPTION:
URL:https://www.goiasfomento.com/agenda/rufino-verissimo-despachos-internos-55/
LOCATION:Gabinete da Diretoria de Operações da GoiásFomento – Agência de Fomento de Goiás.
CATEGORIES:Diretoria de Operações
END:VEVENT
BEGIN:VEVENT
DTSTART;TZID=America/Sao_Paulo:20241211T143000
DTEND;TZID=America/Sao_Paulo:20241211T153000
DTSTAMP:20260425T091952
CREATED:20241211T185525Z
LAST-MODIFIED:20241211T185525Z
UID:38761-1733927400-1733931000@www.goiasfomento.com
SUMMARY:Rufino Veríssimo: Paulo Resende - Secretário de São Simão.
DESCRIPTION:
URL:https://www.goiasfomento.com/agenda/rufino-verissimo-paulo-resende-secretario-de-sao-simao/
LOCATION:Gabinete da Diretoria de Operações da GoiásFomento – Agência de Fomento de Goiás.
CATEGORIES:Diretoria de Operações
END:VEVENT
BEGIN:VEVENT
DTSTART;TZID=America/Sao_Paulo:20241211T153000
DTEND;TZID=America/Sao_Paulo:20241211T160000
DTSTAMP:20260425T091952
CREATED:20241211T185704Z
LAST-MODIFIED:20241211T185704Z
UID:38763-1733931000-1733932800@www.goiasfomento.com
SUMMARY:Rufino Veríssimo: Reunião da Diretoria Executiva da Agência de Fomento de Goiás.
DESCRIPTION:
URL:https://www.goiasfomento.com/agenda/rufino-verissimo-reuniao-da-diretoria-executiva-da-agencia-de-fomento-de-goias-2/
LOCATION:Gabinete da Diretoria de Operações da GoiásFomento – Agência de Fomento de Goiás.
CATEGORIES:Diretoria de Operações
END:VEVENT
BEGIN:VEVENT
DTSTART;TZID=America/Sao_Paulo:20241211T163000
DTEND;TZID=America/Sao_Paulo:20241211T180000
DTSTAMP:20260425T091952
CREATED:20241211T190638Z
LAST-MODIFIED:20241211T190638Z
UID:38773-1733934600-1733940000@www.goiasfomento.com
SUMMARY:Rufino Veríssimo: Despachos Internos.
DESCRIPTION:
URL:https://www.goiasfomento.com/agenda/rufino-verissimo-despachos-internos-56/
LOCATION:Gabinete da Diretoria de Operações da GoiásFomento – Agência de Fomento de Goiás.
CATEGORIES:Diretoria de Operações
END:VEVENT
END:VCALENDAR