BEGIN:VCALENDAR
VERSION:2.0
PRODID:-//GoiásFomento - Agência de Fomento - ECPv6.15.20//NONSGML v1.0//EN
CALSCALE:GREGORIAN
METHOD:PUBLISH
X-ORIGINAL-URL:https://www.goiasfomento.com
X-WR-CALDESC:Eventos para GoiásFomento - Agência de Fomento
REFRESH-INTERVAL;VALUE=DURATION:PT1H
X-Robots-Tag:noindex
X-PUBLISHED-TTL:PT1H
BEGIN:VTIMEZONE
TZID:America/Sao_Paulo
BEGIN:STANDARD
TZOFFSETFROM:-0300
TZOFFSETTO:-0300
TZNAME:-03
DTSTART:20230101T000000
END:STANDARD
END:VTIMEZONE
BEGIN:VEVENT
DTSTART;TZID=America/Sao_Paulo:20241209T080000
DTEND;TZID=America/Sao_Paulo:20241209T090000
DTSTAMP:20260425T091951
CREATED:20241209T113530Z
LAST-MODIFIED:20241209T113530Z
UID:38689-1733731200-1733734800@www.goiasfomento.com
SUMMARY:Rufino Veríssimo: Abertura do Treinamento da Finep.
DESCRIPTION:
URL:https://www.goiasfomento.com/agenda/rufino-verissimo-abertura-do-treinamento-da-finep/
LOCATION:Auditório da Agência de Fomento de Goiás.
CATEGORIES:Diretoria de Operações
END:VEVENT
BEGIN:VEVENT
DTSTART;TZID=America/Sao_Paulo:20241209T100000
DTEND;TZID=America/Sao_Paulo:20241209T113000
DTSTAMP:20260425T091951
CREATED:20241209T134040Z
LAST-MODIFIED:20241209T134040Z
UID:38699-1733738400-1733743800@www.goiasfomento.com
SUMMARY:Rufino Veríssimo: Reunião da Direx com os Diretores da Empresa ENTREPAY.
DESCRIPTION:
URL:https://www.goiasfomento.com/agenda/rufino-verissimo-reuniao-da-direx-com-os-diretores-da-empresa-entrepay/
LOCATION:Sala de Reuniões da Diretoria – Agência de Fomento de Goiás.
CATEGORIES:Diretoria de Operações
END:VEVENT
BEGIN:VEVENT
DTSTART;TZID=America/Sao_Paulo:20241209T113000
DTEND;TZID=America/Sao_Paulo:20241209T120000
DTSTAMP:20260425T091951
CREATED:20241209T134927Z
LAST-MODIFIED:20241209T134927Z
UID:38709-1733743800-1733745600@www.goiasfomento.com
SUMMARY:Rufino Veríssimo: Despachos Internos.
DESCRIPTION:
URL:https://www.goiasfomento.com/agenda/rufino-verissimo-despachos-internos-48/
LOCATION:Gabinete da Diretoria de Operações da GoiásFomento – Agência de Fomento de Goiás.
CATEGORIES:Diretoria de Operações
END:VEVENT
BEGIN:VEVENT
DTSTART;TZID=America/Sao_Paulo:20241209T140000
DTEND;TZID=America/Sao_Paulo:20241209T150000
DTSTAMP:20260425T091951
CREATED:20241209T192525Z
LAST-MODIFIED:20241209T192525Z
UID:38714-1733752800-1733756400@www.goiasfomento.com
SUMMARY:Rufino Veríssimo: Despachos Internos.
DESCRIPTION:
URL:https://www.goiasfomento.com/agenda/rufino-verissimo-despachos-internos-49/
LOCATION:Gabinete da Diretoria de Operações da GoiásFomento – Agência de Fomento de Goiás.
CATEGORIES:Diretoria de Operações
END:VEVENT
BEGIN:VEVENT
DTSTART;TZID=America/Sao_Paulo:20241209T150000
DTEND;TZID=America/Sao_Paulo:20241209T163000
DTSTAMP:20260425T091951
CREATED:20241209T192451Z
LAST-MODIFIED:20241209T192451Z
UID:38712-1733756400-1733761800@www.goiasfomento.com
SUMMARY:Rufino Veríssimo: Reunião com os Gerentes da Diretora de Operações.
DESCRIPTION:
URL:https://www.goiasfomento.com/agenda/rufino-verissimo-reuniao-com-os-gerentes-da-diretora-de-operacoes-3/
LOCATION:Gabinete da Diretoria de Operações da GoiásFomento – Agência de Fomento de Goiás.
CATEGORIES:Diretoria de Operações
END:VEVENT
BEGIN:VEVENT
DTSTART;TZID=America/Sao_Paulo:20241209T163000
DTEND;TZID=America/Sao_Paulo:20241209T180000
DTSTAMP:20260425T091951
CREATED:20241209T192557Z
LAST-MODIFIED:20241209T192557Z
UID:38716-1733761800-1733767200@www.goiasfomento.com
SUMMARY:Rufino Veríssimo: Despachos Internos.
DESCRIPTION:
URL:https://www.goiasfomento.com/agenda/rufino-verissimo-despachos-internos-50/
LOCATION:Gabinete da Diretoria de Operações da GoiásFomento – Agência de Fomento de Goiás.
CATEGORIES:Diretoria de Operações
END:VEVENT
END:VCALENDAR