BEGIN:VCALENDAR
VERSION:2.0
PRODID:-//GoiásFomento - Agência de Fomento - ECPv6.15.20//NONSGML v1.0//EN
CALSCALE:GREGORIAN
METHOD:PUBLISH
X-ORIGINAL-URL:https://www.goiasfomento.com
X-WR-CALDESC:Eventos para GoiásFomento - Agência de Fomento
REFRESH-INTERVAL;VALUE=DURATION:PT1H
X-Robots-Tag:noindex
X-PUBLISHED-TTL:PT1H
BEGIN:VTIMEZONE
TZID:America/Sao_Paulo
BEGIN:STANDARD
TZOFFSETFROM:-0300
TZOFFSETTO:-0300
TZNAME:-03
DTSTART:20230101T000000
END:STANDARD
END:VTIMEZONE
BEGIN:VEVENT
DTSTART;TZID=America/Sao_Paulo:20241204T080000
DTEND;TZID=America/Sao_Paulo:20241204T103000
DTSTAMP:20260425T091928
CREATED:20241204T120108Z
LAST-MODIFIED:20241204T120108Z
UID:38536-1733299200-1733308200@www.goiasfomento.com
SUMMARY:Rufino Veríssimo: Despachos Internos.
DESCRIPTION:
URL:https://www.goiasfomento.com/agenda/rufino-verissimo-despachos-internos-39/
LOCATION:Gabinete da Diretoria de Operações da GoiásFomento – Agência de Fomento de Goiás.
CATEGORIES:Diretoria de Operações
END:VEVENT
BEGIN:VEVENT
DTSTART;TZID=America/Sao_Paulo:20241204T103000
DTEND;TZID=America/Sao_Paulo:20241204T120000
DTSTAMP:20260425T091928
CREATED:20241204T122319Z
LAST-MODIFIED:20241204T122319Z
UID:38538-1733308200-1733313600@www.goiasfomento.com
SUMMARY:Rufino Veríssimo: Online - Reunião Técnica FomentoGoiás e Fomento Mato Grosso.
DESCRIPTION:
URL:https://www.goiasfomento.com/agenda/rufino-verissimo-online-reuniao-tecnica-fomentogoias-e-fomento-mato-grosso/
LOCATION:Gabinete da Diretoria de Operações da GoiásFomento – Agência de Fomento de Goiás.
CATEGORIES:Diretoria de Operações
END:VEVENT
BEGIN:VEVENT
DTSTART;TZID=America/Sao_Paulo:20241204T140000
DTEND;TZID=America/Sao_Paulo:20241204T143000
DTSTAMP:20260425T091928
CREATED:20241204T172922Z
LAST-MODIFIED:20241204T173709Z
UID:38618-1733320800-1733322600@www.goiasfomento.com
SUMMARY:Rufino Veríssimo: Reunião com Wagner Siqueira Coelho - Gerente de Prospecção de Negócios.
DESCRIPTION:
URL:https://www.goiasfomento.com/agenda/rufino-verissimo-reuniao-com-wagner-siqueira-coelho-gerente-de-prospeccao-de-negocios-2/
LOCATION:Gabinete da Diretoria de Operações da GoiásFomento – Agência de Fomento de Goiás.
CATEGORIES:Diretoria de Operações
END:VEVENT
BEGIN:VEVENT
DTSTART;TZID=America/Sao_Paulo:20241204T143000
DTEND;TZID=America/Sao_Paulo:20241204T150000
DTSTAMP:20260425T091928
CREATED:20241204T174020Z
LAST-MODIFIED:20241204T174020Z
UID:38623-1733322600-1733324400@www.goiasfomento.com
SUMMARY:Rufino Veríssimo: Despachos Internos.
DESCRIPTION:
URL:https://www.goiasfomento.com/agenda/rufino-verissimo-despachos-internos-40/
LOCATION:Gabinete da Diretoria de Operações da GoiásFomento – Agência de Fomento de Goiás.
CATEGORIES:Diretoria de Operações
END:VEVENT
BEGIN:VEVENT
DTSTART;TZID=America/Sao_Paulo:20241204T150000
DTEND;TZID=America/Sao_Paulo:20241204T153000
DTSTAMP:20260425T091928
CREATED:20241204T173926Z
LAST-MODIFIED:20241204T173926Z
UID:38621-1733324400-1733326200@www.goiasfomento.com
SUMMARY:Rufino Veríssimo: Reunião com Edimar Mendes - Contabilidade da Agência de Fomento de Goiás.
DESCRIPTION:
URL:https://www.goiasfomento.com/agenda/rufino-verissimo-reuniao-com-edimar-mendes-contabilidade-da-agencia-de-fomento-de-goias/
LOCATION:Gabinete da Diretoria de Operações da GoiásFomento – Agência de Fomento de Goiás.
CATEGORIES:Diretoria de Operações
END:VEVENT
END:VCALENDAR