BEGIN:VCALENDAR
VERSION:2.0
PRODID:-//GoiásFomento - Agência de Fomento - ECPv6.15.20//NONSGML v1.0//EN
CALSCALE:GREGORIAN
METHOD:PUBLISH
X-WR-CALNAME:GoiásFomento - Agência de Fomento
X-ORIGINAL-URL:https://www.goiasfomento.com
X-WR-CALDESC:Eventos para GoiásFomento - Agência de Fomento
REFRESH-INTERVAL;VALUE=DURATION:PT1H
X-Robots-Tag:noindex
X-PUBLISHED-TTL:PT1H
BEGIN:VTIMEZONE
TZID:America/Sao_Paulo
BEGIN:STANDARD
TZOFFSETFROM:-0300
TZOFFSETTO:-0300
TZNAME:-03
DTSTART:20230101T000000
END:STANDARD
END:VTIMEZONE
BEGIN:VEVENT
DTSTART;TZID=America/Sao_Paulo:20241129T080000
DTEND;TZID=America/Sao_Paulo:20241129T083000
DTSTAMP:20260425T091705
CREATED:20241129T114415Z
LAST-MODIFIED:20241129T114415Z
UID:38409-1732867200-1732869000@www.goiasfomento.com
SUMMARY:Rufino Veríssimo: Despachos Internos.
DESCRIPTION:
URL:https://www.goiasfomento.com/agenda/rufino-verissimo-despachos-internos-28/
LOCATION:Gabinete da Diretoria de Operações da GoiásFomento – Agência de Fomento de Goiás.
CATEGORIES:Diretoria de Operações
END:VEVENT
BEGIN:VEVENT
DTSTART;TZID=America/Sao_Paulo:20241129T083000
DTEND;TZID=America/Sao_Paulo:20241129T093000
DTSTAMP:20260425T091705
CREATED:20241129T115325Z
LAST-MODIFIED:20241129T115325Z
UID:38411-1732869000-1732872600@www.goiasfomento.com
SUMMARY:Rufino Veríssimo: Reunião do Agronegócio com os Gerentes Guido\, Alexsander\, Paulo Paiva e Porthos.
DESCRIPTION:
URL:https://www.goiasfomento.com/agenda/rufino-verissimo-reuniao-do-agronegocio-com-os-gerentes-guido-alexsander-paulo-paiva-e-porthos/
LOCATION:Sala de Reuniões da Diretoria – Agência de Fomento de Goiás.
CATEGORIES:Diretoria de Operações
END:VEVENT
BEGIN:VEVENT
DTSTART;TZID=America/Sao_Paulo:20241129T093000
DTEND;TZID=America/Sao_Paulo:20241129T100000
DTSTAMP:20260425T091705
CREATED:20241129T172936Z
LAST-MODIFIED:20241129T174734Z
UID:38423-1732872600-1732874400@www.goiasfomento.com
SUMMARY:Rufino Veríssimo: Despachos Internos.
DESCRIPTION:
URL:https://www.goiasfomento.com/agenda/rufino-verissimo-despachos-internos-29/
LOCATION:Gabinete da Diretoria de Operações da GoiásFomento – Agência de Fomento de Goiás.
CATEGORIES:Diretoria de Operações
END:VEVENT
BEGIN:VEVENT
DTSTART;TZID=America/Sao_Paulo:20241129T100000
DTEND;TZID=America/Sao_Paulo:20241129T103000
DTSTAMP:20260425T091705
CREATED:20241129T173202Z
LAST-MODIFIED:20241129T173202Z
UID:38426-1732874400-1732876200@www.goiasfomento.com
SUMMARY:Rufino Veríssimo: Reunião com a Controladoria-Geral do Estado (CGE) - Governo de Goiás.
DESCRIPTION:
URL:https://www.goiasfomento.com/agenda/rufino-verissimo-reuniao-com-a-controladoria-geral-do-estado-cge-governo-de-goias/
LOCATION:Sala de Reuniões da Diretoria – Agência de Fomento de Goiás.
CATEGORIES:Diretoria de Operações
END:VEVENT
BEGIN:VEVENT
DTSTART;TZID=America/Sao_Paulo:20241129T103000
DTEND;TZID=America/Sao_Paulo:20241129T110000
DTSTAMP:20260425T091705
CREATED:20241129T174115Z
LAST-MODIFIED:20241129T174115Z
UID:38428-1732876200-1732878000@www.goiasfomento.com
SUMMARY:Rufino Veríssimo: Bruno Alvarenga Campos Martins - Gerente de Atendimento.
DESCRIPTION:
URL:https://www.goiasfomento.com/agenda/rufino-verissimo-bruno-alvarenga-campos-martins-gerente-de-atendimento/
LOCATION:Gabinete da Diretoria de Operações da GoiásFomento – Agência de Fomento de Goiás.
CATEGORIES:Diretoria de Operações
END:VEVENT
BEGIN:VEVENT
DTSTART;TZID=America/Sao_Paulo:20241129T110000
DTEND;TZID=America/Sao_Paulo:20241129T120000
DTSTAMP:20260425T091705
CREATED:20241129T174545Z
LAST-MODIFIED:20241129T174638Z
UID:38430-1732878000-1732881600@www.goiasfomento.com
SUMMARY:Rufino Veríssimo: Despachos Internos.
DESCRIPTION:
URL:https://www.goiasfomento.com/agenda/rufino-verissimo-despachos-internos-despachos-internos/
LOCATION:Gabinete da Diretoria de Operações da GoiásFomento – Agência de Fomento de Goiás.
CATEGORIES:Diretoria de Operações
END:VEVENT
BEGIN:VEVENT
DTSTART;TZID=America/Sao_Paulo:20241129T140000
DTEND;TZID=America/Sao_Paulo:20241129T143000
DTSTAMP:20260425T091705
CREATED:20241129T174908Z
LAST-MODIFIED:20241129T174908Z
UID:38434-1732888800-1732890600@www.goiasfomento.com
SUMMARY:Rufino Veríssimo: Despachos Internos.
DESCRIPTION:
URL:https://www.goiasfomento.com/agenda/rufino-verissimo-despachos-internos-30/
LOCATION:Gabinete da Diretoria de Operações da GoiásFomento – Agência de Fomento de Goiás.
CATEGORIES:Diretoria de Operações
END:VEVENT
BEGIN:VEVENT
DTSTART;TZID=America/Sao_Paulo:20241129T143000
DTEND;TZID=America/Sao_Paulo:20241129T153000
DTSTAMP:20260425T091705
CREATED:20241129T175047Z
LAST-MODIFIED:20241129T175047Z
UID:38436-1732890600-1732894200@www.goiasfomento.com
SUMMARY:Rufino Veríssimo: Reunião com Presidente da FACIEG\, Márcio e com  Associação Comercial de Morrinhos.
DESCRIPTION:
URL:https://www.goiasfomento.com/agenda/rufino-verissimo-reuniao-com-presidente-da-facieg-marcio-e-com-associacao-comercial-de-morrinhos/
LOCATION:Sala de Reuniões da Diretoria – Agência de Fomento de Goiás.
CATEGORIES:Diretoria de Operações
END:VEVENT
BEGIN:VEVENT
DTSTART;TZID=America/Sao_Paulo:20241129T153000
DTEND;TZID=America/Sao_Paulo:20241129T163000
DTSTAMP:20260425T091705
CREATED:20241129T182047Z
LAST-MODIFIED:20241129T185537Z
UID:38438-1732894200-1732897800@www.goiasfomento.com
SUMMARY:Rufino Veríssimo: Bruno Alvarenga Campos Martins - Gerente de Atendimento e com Wagner Siqueira Coelho - Gerente de Prospecção de Negócios.
DESCRIPTION:
URL:https://www.goiasfomento.com/agenda/rufino-verissimo-bruno-alvarenga-campos-martins-gerente-de-atendimento-e-com-wagner-siqueira-coelho-gerente-de-prospeccao-de-negocios/
LOCATION:Gabinete da Diretoria de Operações da GoiásFomento – Agência de Fomento de Goiás.
CATEGORIES:Diretoria de Operações
END:VEVENT
BEGIN:VEVENT
DTSTART;TZID=America/Sao_Paulo:20241129T163000
DTEND;TZID=America/Sao_Paulo:20241129T180000
DTSTAMP:20260425T091705
CREATED:20241129T185648Z
LAST-MODIFIED:20241129T185648Z
UID:38440-1732897800-1732903200@www.goiasfomento.com
SUMMARY:Rufino Veríssimo: Despachos Internos.
DESCRIPTION:
URL:https://www.goiasfomento.com/agenda/rufino-verissimo-despachos-internos-31/
LOCATION:Gabinete da Diretoria de Operações da GoiásFomento – Agência de Fomento de Goiás.
CATEGORIES:Diretoria de Operações
END:VEVENT
END:VCALENDAR