BEGIN:VCALENDAR
VERSION:2.0
PRODID:-//GoiásFomento - Agência de Fomento - ECPv6.15.20//NONSGML v1.0//EN
CALSCALE:GREGORIAN
METHOD:PUBLISH
X-ORIGINAL-URL:https://www.goiasfomento.com
X-WR-CALDESC:Eventos para GoiásFomento - Agência de Fomento
REFRESH-INTERVAL;VALUE=DURATION:PT1H
X-Robots-Tag:noindex
X-PUBLISHED-TTL:PT1H
BEGIN:VTIMEZONE
TZID:America/Sao_Paulo
BEGIN:STANDARD
TZOFFSETFROM:-0300
TZOFFSETTO:-0300
TZNAME:-03
DTSTART:20230101T000000
END:STANDARD
END:VTIMEZONE
BEGIN:VEVENT
DTSTART;TZID=America/Sao_Paulo:20241128T080000
DTEND;TZID=America/Sao_Paulo:20241128T090000
DTSTAMP:20260425T091953
CREATED:20241128T150135Z
LAST-MODIFIED:20241128T150135Z
UID:38391-1732780800-1732784400@www.goiasfomento.com
SUMMARY:Rufino Veríssimo: Despachos Internos.
DESCRIPTION:
URL:https://www.goiasfomento.com/agenda/rufino-verissimo-despachos-internos-26/
LOCATION:Gabinete da Diretoria de Operações da GoiásFomento – Agência de Fomento de Goiás.
CATEGORIES:Diretoria de Operações
END:VEVENT
BEGIN:VEVENT
DTSTART;TZID=America/Sao_Paulo:20241128T090000
DTEND;TZID=America/Sao_Paulo:20241128T110000
DTSTAMP:20260425T091953
CREATED:20241128T150112Z
LAST-MODIFIED:20241128T150112Z
UID:38389-1732784400-1732791600@www.goiasfomento.com
SUMMARY:Rufino Veríssimo: Cerimônia de Entrega de Habilitações e Certificados para novos Motoristas  Profissionais em Goiás.
DESCRIPTION:
URL:https://www.goiasfomento.com/agenda/rufino-verissimo-cerimonia-de-entrega-de-habilitacoes-e-certificados-para-novos-motoristas-profissionais-em-goias/
LOCATION:Auditório Mauro Borges – Palácio Pedro Ludovico Teixeira.
CATEGORIES:Diretoria de Operações
END:VEVENT
BEGIN:VEVENT
DTSTART;TZID=America/Sao_Paulo:20241128T110000
DTEND;TZID=America/Sao_Paulo:20241128T120000
DTSTAMP:20260425T091953
CREATED:20241128T150205Z
LAST-MODIFIED:20241128T150205Z
UID:38393-1732791600-1732795200@www.goiasfomento.com
SUMMARY:Rufino Veríssimo: Despachos Internos.
DESCRIPTION:
URL:https://www.goiasfomento.com/agenda/rufino-verissimo-despachos-internos-27/
LOCATION:Gabinete da Diretoria de Operações da GoiásFomento – Agência de Fomento de Goiás.
CATEGORIES:Diretoria de Operações
END:VEVENT
END:VCALENDAR