BEGIN:VCALENDAR
VERSION:2.0
PRODID:-//GoiásFomento - Agência de Fomento - ECPv6.15.20//NONSGML v1.0//EN
CALSCALE:GREGORIAN
METHOD:PUBLISH
X-WR-CALNAME:GoiásFomento - Agência de Fomento
X-ORIGINAL-URL:https://www.goiasfomento.com
X-WR-CALDESC:Eventos para GoiásFomento - Agência de Fomento
REFRESH-INTERVAL;VALUE=DURATION:PT1H
X-Robots-Tag:noindex
X-PUBLISHED-TTL:PT1H
BEGIN:VTIMEZONE
TZID:America/Sao_Paulo
BEGIN:STANDARD
TZOFFSETFROM:-0300
TZOFFSETTO:-0300
TZNAME:-03
DTSTART:20230101T000000
END:STANDARD
END:VTIMEZONE
BEGIN:VEVENT
DTSTART;TZID=America/Sao_Paulo:20241125T063000
DTEND;TZID=America/Sao_Paulo:20241125T143000
DTSTAMP:20260425T091826
CREATED:20241125T120526Z
LAST-MODIFIED:20241127T181348Z
UID:38317-1732516200-1732545000@www.goiasfomento.com
SUMMARY:Rufino Veríssimo: Reunião com a Prefeitura de Itumbiara - Goiás para alinhamento dos Programas Sociais Municipais.
DESCRIPTION:
URL:https://www.goiasfomento.com/agenda/rufino-verissimo-reuniao-com-as-prefeituras-de-itumbiara-goias-para-alinhamento-dos-programas-sociais-municipais/
LOCATION:Itumbiara – GO
CATEGORIES:Diretoria de Operações
END:VEVENT
BEGIN:VEVENT
DTSTART;TZID=America/Sao_Paulo:20241125T143000
DTEND;TZID=America/Sao_Paulo:20241125T150000
DTSTAMP:20260425T091826
CREATED:20241125T180753Z
LAST-MODIFIED:20241125T180901Z
UID:38328-1732545000-1732546800@www.goiasfomento.com
SUMMARY:Rufino Veríssimo: Despachos Internos.
DESCRIPTION:
URL:https://www.goiasfomento.com/agenda/rufino-verissimo-despachos-internos-23/
LOCATION:Gabinete da Diretoria de Operações da GoiásFomento – Agência de Fomento de Goiás.
CATEGORIES:Diretoria de Operações
END:VEVENT
BEGIN:VEVENT
DTSTART;TZID=America/Sao_Paulo:20241125T150000
DTEND;TZID=America/Sao_Paulo:20241125T160000
DTSTAMP:20260425T091826
CREATED:20241125T180715Z
LAST-MODIFIED:20241125T180715Z
UID:38326-1732546800-1732550400@www.goiasfomento.com
SUMMARY:Rufino Veríssimo: Reunião com os Gerentes da Diretoria de Operações da Agência de Fomento de Goiás.
DESCRIPTION:
URL:https://www.goiasfomento.com/agenda/rufino-verissimo-reuniao-com-os-gerentes-da-diretoria-de-operacoes-da-agencia-de-fomento-de-goias-2/
LOCATION:Gabinete da Diretoria de Operações da GoiásFomento – Agência de Fomento de Goiás.
CATEGORIES:Diretoria de Operações
END:VEVENT
BEGIN:VEVENT
DTSTART;TZID=America/Sao_Paulo:20241125T160000
DTEND;TZID=America/Sao_Paulo:20241125T170000
DTSTAMP:20260425T091826
CREATED:20241125T193525Z
LAST-MODIFIED:20241125T193532Z
UID:38330-1732550400-1732554000@www.goiasfomento.com
SUMMARY:Rufino Veríssimo: Reunião da Direx com Guido Juliano Martins de Araújo - Gerente de Agronegócio.
DESCRIPTION:
URL:https://www.goiasfomento.com/agenda/rufino-verissimo-reuniao-da-direx-com-guido-juliano-martins-de-araujo-gerente-de-agronegocio/
LOCATION:Gabinete da Diretoria Administrativa e Financeira – Agência de Fomento de Goiás.
CATEGORIES:Diretoria de Operações
END:VEVENT
BEGIN:VEVENT
DTSTART;TZID=America/Sao_Paulo:20241125T170000
DTEND;TZID=America/Sao_Paulo:20241125T180000
DTSTAMP:20260425T091826
CREATED:20241125T194329Z
LAST-MODIFIED:20241125T194329Z
UID:38341-1732554000-1732557600@www.goiasfomento.com
SUMMARY:Rufino Veríssimo: Despachos Internos.
DESCRIPTION:
URL:https://www.goiasfomento.com/agenda/rufino-verissimo-despachos-internos-24/
LOCATION:Gabinete da Diretoria de Operações da GoiásFomento – Agência de Fomento de Goiás.
CATEGORIES:Diretoria de Operações
END:VEVENT
END:VCALENDAR