BEGIN:VCALENDAR
VERSION:2.0
PRODID:-//GoiásFomento - Agência de Fomento - ECPv6.15.20//NONSGML v1.0//EN
CALSCALE:GREGORIAN
METHOD:PUBLISH
X-WR-CALNAME:GoiásFomento - Agência de Fomento
X-ORIGINAL-URL:https://www.goiasfomento.com
X-WR-CALDESC:Eventos para GoiásFomento - Agência de Fomento
REFRESH-INTERVAL;VALUE=DURATION:PT1H
X-Robots-Tag:noindex
X-PUBLISHED-TTL:PT1H
BEGIN:VTIMEZONE
TZID:America/Sao_Paulo
BEGIN:STANDARD
TZOFFSETFROM:-0300
TZOFFSETTO:-0300
TZNAME:-03
DTSTART:20230101T000000
END:STANDARD
END:VTIMEZONE
BEGIN:VEVENT
DTSTART;TZID=America/Sao_Paulo:20241114T080000
DTEND;TZID=America/Sao_Paulo:20241114T093000
DTSTAMP:20260425T105400
CREATED:20241114T131147Z
LAST-MODIFIED:20241114T131147Z
UID:38149-1731571200-1731576600@www.goiasfomento.com
SUMMARY:Rufino Veríssimo: Despachos Internos.
DESCRIPTION:
URL:https://www.goiasfomento.com/agenda/rufino-verissimo-despachos-internos-12/
LOCATION:Gabinete da Diretoria de Operações da GoiásFomento – Agência de Fomento de Goiás.
CATEGORIES:Diretoria de Operações
END:VEVENT
BEGIN:VEVENT
DTSTART;TZID=America/Sao_Paulo:20241114T093000
DTEND;TZID=America/Sao_Paulo:20241114T103000
DTSTAMP:20260425T105400
CREATED:20241114T131056Z
LAST-MODIFIED:20241114T131056Z
UID:38147-1731576600-1731580200@www.goiasfomento.com
SUMMARY:Rufino Veríssimo: Reunião da Direx.
DESCRIPTION:
URL:https://www.goiasfomento.com/agenda/rufino-verissimo-reuniao-da-direx/
LOCATION:Gabinete da Diretoria Administrativa e Financeira – Agência de Fomento de Goiás.
CATEGORIES:Diretoria de Operações
END:VEVENT
BEGIN:VEVENT
DTSTART;TZID=America/Sao_Paulo:20241114T103000
DTEND;TZID=America/Sao_Paulo:20241114T110000
DTSTAMP:20260425T105400
CREATED:20241114T135401Z
LAST-MODIFIED:20241114T135401Z
UID:38152-1731580200-1731582000@www.goiasfomento.com
SUMMARY:Rufino Veríssimo: Reunião com Rafael Soffa Rézio – Gerente de Programas e Políticas Sociais.
DESCRIPTION:
URL:https://www.goiasfomento.com/agenda/rufino-verissimo-reuniao-com-rafael-soffa-rezio-gerente-de-programas-e-politicas-sociais-2/
LOCATION:Gabinete da Diretoria de Operações da GoiásFomento – Agência de Fomento de Goiás.
CATEGORIES:Diretoria de Operações
END:VEVENT
BEGIN:VEVENT
DTSTART;TZID=America/Sao_Paulo:20241114T110000
DTEND;TZID=America/Sao_Paulo:20241114T120000
DTSTAMP:20260425T105400
CREATED:20241114T152030Z
LAST-MODIFIED:20241114T152030Z
UID:38154-1731582000-1731585600@www.goiasfomento.com
SUMMARY:Rufino Veríssimo: Despachos Internos.
DESCRIPTION:
URL:https://www.goiasfomento.com/agenda/rufino-verissimo-despachos-internos-13/
LOCATION:Gabinete da Diretoria de Operações da GoiásFomento – Agência de Fomento de Goiás.
CATEGORIES:Diretoria de Operações
END:VEVENT
BEGIN:VEVENT
DTSTART;TZID=America/Sao_Paulo:20241114T140000
DTEND;TZID=America/Sao_Paulo:20241114T143000
DTSTAMP:20260425T105400
CREATED:20241114T173152Z
LAST-MODIFIED:20241114T173729Z
UID:38156-1731592800-1731594600@www.goiasfomento.com
SUMMARY:Rufino Veríssimo: Reunião com José Marco Ferreira de Barri - Gerente Financeiro.
DESCRIPTION:
URL:https://www.goiasfomento.com/agenda/rufino-verissimo-reuniao-com-jose-marco-ferreira-de-barri-gerente-financeiro/
LOCATION:Gabinete da Diretoria de Operações da GoiásFomento – Agência de Fomento de Goiás.
CATEGORIES:Diretoria de Operações
END:VEVENT
BEGIN:VEVENT
DTSTART;TZID=America/Sao_Paulo:20241114T143000
DTEND;TZID=America/Sao_Paulo:20241114T170000
DTSTAMP:20260425T105400
CREATED:20241114T173220Z
LAST-MODIFIED:20241114T194852Z
UID:38158-1731594600-1731603600@www.goiasfomento.com
SUMMARY:Rufino Veríssimo: Despachos Internos.
DESCRIPTION:
URL:https://www.goiasfomento.com/agenda/rufino-verissimo-despachos/
LOCATION:Gabinete da Diretoria de Operações da GoiásFomento – Agência de Fomento de Goiás.
CATEGORIES:Diretoria de Operações
END:VEVENT
BEGIN:VEVENT
DTSTART;TZID=America/Sao_Paulo:20241114T170000
DTEND;TZID=America/Sao_Paulo:20241114T200000
DTSTAMP:20260425T105400
CREATED:20241114T124948Z
LAST-MODIFIED:20241114T124948Z
UID:38136-1731603600-1731614400@www.goiasfomento.com
SUMMARY:Rufino Veríssimo: Abertura do Natal do Bem 2024.
DESCRIPTION:
URL:https://www.goiasfomento.com/agenda/rufino-verissimo-abertura-do-natal-do-bem-2024/
LOCATION:Centro Cultural Oscar Niemeyer\, Av. Dep. Jamel Cecílio\, Km 01 – Chácaras Alto da Glória\, Goiânia – GO\, 74891-135\, Brasil
CATEGORIES:Diretoria de Operações
END:VEVENT
END:VCALENDAR