BEGIN:VCALENDAR
VERSION:2.0
PRODID:-//GoiásFomento - Agência de Fomento - ECPv6.15.20//NONSGML v1.0//EN
CALSCALE:GREGORIAN
METHOD:PUBLISH
X-WR-CALNAME:GoiásFomento - Agência de Fomento
X-ORIGINAL-URL:https://www.goiasfomento.com
X-WR-CALDESC:Eventos para GoiásFomento - Agência de Fomento
REFRESH-INTERVAL;VALUE=DURATION:PT1H
X-Robots-Tag:noindex
X-PUBLISHED-TTL:PT1H
BEGIN:VTIMEZONE
TZID:America/Sao_Paulo
BEGIN:STANDARD
TZOFFSETFROM:-0300
TZOFFSETTO:-0300
TZNAME:-03
DTSTART:20230101T000000
END:STANDARD
END:VTIMEZONE
BEGIN:VEVENT
DTSTART;TZID=America/Sao_Paulo:20241112T080000
DTEND;TZID=America/Sao_Paulo:20241112T090000
DTSTAMP:20260425T105400
CREATED:20241112T112515Z
LAST-MODIFIED:20241112T113516Z
UID:38057-1731398400-1731402000@www.goiasfomento.com
SUMMARY:Rufino Veríssimo: Despachos Internos.
DESCRIPTION:
URL:https://www.goiasfomento.com/agenda/vinicius-luz-despachos-internos-137/
LOCATION:Gabinete da Diretoria de Operações da GoiásFomento – Agência de Fomento de Goiás.
CATEGORIES:Diretoria de Operações
END:VEVENT
BEGIN:VEVENT
DTSTART;TZID=America/Sao_Paulo:20241112T090000
DTEND;TZID=America/Sao_Paulo:20241112T100000
DTSTAMP:20260425T105400
CREATED:20241112T113348Z
LAST-MODIFIED:20241112T113348Z
UID:38067-1731402000-1731405600@www.goiasfomento.com
SUMMARY:Rufino Veríssimo: Reunião da Diretoria Executiva e os Gerentes da Agência de Fomento de Goiás.
DESCRIPTION:
URL:https://www.goiasfomento.com/agenda/rufino-verissimo-reuniao-da-diretoria-executiva-e-os-gerentes-da-agencia-de-fomento-de-goias/
LOCATION:Gabinete da Diretoria Administrativa e Financeira – Agência de Fomento de Goiás.
CATEGORIES:Diretoria de Operações
END:VEVENT
BEGIN:VEVENT
DTSTART;TZID=America/Sao_Paulo:20241112T100000
DTEND;TZID=America/Sao_Paulo:20241112T103000
DTSTAMP:20260425T105400
CREATED:20241112T144934Z
LAST-MODIFIED:20241112T144934Z
UID:38088-1731405600-1731407400@www.goiasfomento.com
SUMMARY:Rufino Veríssimo: Reunião com Luiz Alberto de Sousa Filho - Gerente da Rede Credenciada.
DESCRIPTION:
URL:https://www.goiasfomento.com/agenda/rufino-verissimo-reuniao-com-luiz-alberto-de-sousa-filho-gerente-da-rede-credenciada/
LOCATION:Gabinete da Diretoria de Operações da GoiásFomento – Agência de Fomento de Goiás.
CATEGORIES:Diretoria de Operações
END:VEVENT
BEGIN:VEVENT
DTSTART;TZID=America/Sao_Paulo:20241112T103000
DTEND;TZID=America/Sao_Paulo:20241112T113000
DTSTAMP:20260425T105400
CREATED:20241112T145014Z
LAST-MODIFIED:20241112T145237Z
UID:38090-1731407400-1731411000@www.goiasfomento.com
SUMMARY:Rufino Veríssimo: Despachos Internos.
DESCRIPTION:
URL:https://www.goiasfomento.com/agenda/rufino-verissimo-despachos-internos-11/
LOCATION:Gabinete da Diretoria de Operações da GoiásFomento – Agência de Fomento de Goiás.
CATEGORIES:Diretoria de Operações
END:VEVENT
BEGIN:VEVENT
DTSTART;TZID=America/Sao_Paulo:20241112T113000
DTEND;TZID=America/Sao_Paulo:20241112T120000
DTSTAMP:20260425T105400
CREATED:20241112T145347Z
LAST-MODIFIED:20241112T145347Z
UID:38092-1731411000-1731412800@www.goiasfomento.com
SUMMARY:Rufino Veríssimo: Reunião com Alexsander de Oliveira Linhares - Gerente de Parcerias e Operações Estruturadas.
DESCRIPTION:
URL:https://www.goiasfomento.com/agenda/rufino-verissimo-reuniao-com-alexsander-de-oliveira-linhares-gerente-de-parcerias-e-operacoes-estruturadas/
LOCATION:Gabinete da Diretoria de Operações da GoiásFomento – Agência de Fomento de Goiás.
CATEGORIES:Diretoria de Operações
END:VEVENT
BEGIN:VEVENT
DTSTART;TZID=America/Sao_Paulo:20241112T140000
DTEND;TZID=America/Sao_Paulo:20241112T160000
DTSTAMP:20260425T105400
CREATED:20241113T112312Z
LAST-MODIFIED:20241113T112401Z
UID:38098-1731420000-1731427200@www.goiasfomento.com
SUMMARY:Rufino Veríssimo: Reunião com  Gerentes da Dirop.
DESCRIPTION:
URL:https://www.goiasfomento.com/agenda/ufino-verissimo-reuniao-com-gerentes-da-dirop/
LOCATION:Gabinete da Diretoria de Operações da GoiásFomento – Agência de Fomento de Goiás.
CATEGORIES:Diretoria de Operações
END:VEVENT
BEGIN:VEVENT
DTSTART;TZID=America/Sao_Paulo:20241112T160000
DTEND;TZID=America/Sao_Paulo:20241112T180000
DTSTAMP:20260425T105400
CREATED:20241113T112131Z
LAST-MODIFIED:20241113T112153Z
UID:38096-1731427200-1731434400@www.goiasfomento.com
SUMMARY:Rufino Veríssimo: Reunião com Paulo Cesar Paiva – Assessor de Estratégia e Planejamento.
DESCRIPTION:
URL:https://www.goiasfomento.com/agenda/rufino-verissimo-reuniao-com-paulo-cesar-paiva-assessor-de-estrategia-e-planejamento-2/
LOCATION:Gabinete da Diretoria de Operações da GoiásFomento – Agência de Fomento de Goiás.
CATEGORIES:Diretoria de Operações
END:VEVENT
END:VCALENDAR