BEGIN:VCALENDAR
VERSION:2.0
PRODID:-//GoiásFomento - Agência de Fomento - ECPv6.15.20//NONSGML v1.0//EN
CALSCALE:GREGORIAN
METHOD:PUBLISH
X-WR-CALNAME:GoiásFomento - Agência de Fomento
X-ORIGINAL-URL:https://www.goiasfomento.com
X-WR-CALDESC:Eventos para GoiásFomento - Agência de Fomento
REFRESH-INTERVAL;VALUE=DURATION:PT1H
X-Robots-Tag:noindex
X-PUBLISHED-TTL:PT1H
BEGIN:VTIMEZONE
TZID:America/Sao_Paulo
BEGIN:STANDARD
TZOFFSETFROM:-0300
TZOFFSETTO:-0300
TZNAME:-03
DTSTART:20230101T000000
END:STANDARD
END:VTIMEZONE
BEGIN:VEVENT
DTSTART;TZID=America/Sao_Paulo:20240930T080000
DTEND;TZID=America/Sao_Paulo:20240930T120000
DTSTAMP:20260425T121653
CREATED:20240930T121007Z
LAST-MODIFIED:20240930T121007Z
UID:37162-1727683200-1727697600@www.goiasfomento.com
SUMMARY:Vinícius Luz: Despachos Internos.
DESCRIPTION:
URL:https://www.goiasfomento.com/agenda/vinicius-luz-despachos-internos-86/
LOCATION:Gabinete da Diretoria de Operações da GoiásFomento – Agência de Fomento de Goiás.
CATEGORIES:Diretoria de Operações
END:VEVENT
BEGIN:VEVENT
DTSTART;TZID=America/Sao_Paulo:20240930T140000
DTEND;TZID=America/Sao_Paulo:20240930T150000
DTSTAMP:20260425T121653
CREATED:20241001T110145Z
LAST-MODIFIED:20241001T110145Z
UID:37189-1727704800-1727708400@www.goiasfomento.com
SUMMARY:Vinícius Luz: Reunião com Assessor de Estratégia e Planejamento.
DESCRIPTION:
URL:https://www.goiasfomento.com/agenda/vinicius-luz-reuniao-com-assessor-de-estrategia-e-planejamento/
LOCATION:Gabinete da Diretoria de Operações da GoiásFomento – Agência de Fomento de Goiás.
CATEGORIES:Diretoria de Operações
END:VEVENT
BEGIN:VEVENT
DTSTART;TZID=America/Sao_Paulo:20240930T150000
DTEND;TZID=America/Sao_Paulo:20240930T180000
DTSTAMP:20260425T121653
CREATED:20240930T121035Z
LAST-MODIFIED:20241001T110018Z
UID:37164-1727708400-1727719200@www.goiasfomento.com
SUMMARY:Vinícius Luz: Despachos Internos.
DESCRIPTION:
URL:https://www.goiasfomento.com/agenda/vinicius-luz-despachos-internos-87/
LOCATION:Gabinete da Diretoria de Operações da GoiásFomento – Agência de Fomento de Goiás.
CATEGORIES:Diretoria de Operações
END:VEVENT
END:VCALENDAR