BEGIN:VCALENDAR
VERSION:2.0
PRODID:-//GoiásFomento - Agência de Fomento - ECPv6.15.20//NONSGML v1.0//EN
CALSCALE:GREGORIAN
METHOD:PUBLISH
X-ORIGINAL-URL:https://www.goiasfomento.com
X-WR-CALDESC:Eventos para GoiásFomento - Agência de Fomento
REFRESH-INTERVAL;VALUE=DURATION:PT1H
X-Robots-Tag:noindex
X-PUBLISHED-TTL:PT1H
BEGIN:VTIMEZONE
TZID:America/Sao_Paulo
BEGIN:STANDARD
TZOFFSETFROM:-0300
TZOFFSETTO:-0300
TZNAME:-03
DTSTART:20230101T000000
END:STANDARD
END:VTIMEZONE
BEGIN:VEVENT
DTSTART;TZID=America/Sao_Paulo:20240830T080000
DTEND;TZID=America/Sao_Paulo:20240830T103000
DTSTAMP:20260425T140826
CREATED:20240829T193827Z
LAST-MODIFIED:20240829T193827Z
UID:36486-1725004800-1725013800@www.goiasfomento.com
SUMMARY:Vinícius Luz:  Goiás Social em Goiânia.
DESCRIPTION:
URL:https://www.goiasfomento.com/agenda/vinicius-luz-goias-social-em-goiania/
LOCATION:Praça da Feira Livre  –  Av. Mangalo\, Esqu. Com a Rua Aurora\, St. Morada do Sol –  Goiânia-Go.
CATEGORIES:Diretoria de Operações
END:VEVENT
BEGIN:VEVENT
DTSTART;TZID=America/Sao_Paulo:20240830T103000
DTEND;TZID=America/Sao_Paulo:20240830T120000
DTSTAMP:20260425T140826
CREATED:20240830T135956Z
LAST-MODIFIED:20240830T135956Z
UID:36496-1725013800-1725019200@www.goiasfomento.com
SUMMARY:Vinícius Luz: Despachos Internos.
DESCRIPTION:
URL:https://www.goiasfomento.com/agenda/vinicius-luz-despachos-internos-43/
LOCATION:Gabinete da Diretoria de Operações da GoiásFomento – Agência de Fomento de Goiás.
CATEGORIES:Diretoria de Operações
END:VEVENT
BEGIN:VEVENT
DTSTART;TZID=America/Sao_Paulo:20240830T140000
DTEND;TZID=America/Sao_Paulo:20240830T180000
DTSTAMP:20260425T140826
CREATED:20240830T140039Z
LAST-MODIFIED:20240830T140039Z
UID:36498-1725026400-1725040800@www.goiasfomento.com
SUMMARY:Vinícius Luz: Despachos Internos.
DESCRIPTION:
URL:https://www.goiasfomento.com/agenda/vinicius-luz-despachos-internos-44/
LOCATION:Gabinete da Diretoria de Operações da GoiásFomento – Agência de Fomento de Goiás.
CATEGORIES:Diretoria de Operações
END:VEVENT
END:VCALENDAR