BEGIN:VCALENDAR
VERSION:2.0
PRODID:-//GoiásFomento - Agência de Fomento - ECPv6.15.20//NONSGML v1.0//EN
CALSCALE:GREGORIAN
METHOD:PUBLISH
X-ORIGINAL-URL:https://www.goiasfomento.com
X-WR-CALDESC:Eventos para GoiásFomento - Agência de Fomento
REFRESH-INTERVAL;VALUE=DURATION:PT1H
X-Robots-Tag:noindex
X-PUBLISHED-TTL:PT1H
BEGIN:VTIMEZONE
TZID:America/Sao_Paulo
BEGIN:STANDARD
TZOFFSETFROM:-0300
TZOFFSETTO:-0300
TZNAME:-03
DTSTART:20250101T000000
END:STANDARD
END:VTIMEZONE
BEGIN:VEVENT
DTSTART;TZID=America/Sao_Paulo:20260302T080000
DTEND;TZID=America/Sao_Paulo:20260302T120000
DTSTAMP:20260423T212345
CREATED:20260302T134025Z
LAST-MODIFIED:20260302T134025Z
UID:48911-1772438400-1772452800@www.goiasfomento.com
SUMMARY:Vinícius Luz: Atendimentos e Despachos Internos.
DESCRIPTION:
URL:https://www.goiasfomento.com/agenda/vinicius-luz-atendimentos-e-despachos-internos-292/
LOCATION:Gabinete da Diretoria de Operações da GoiásFomento – Agência de Fomento de Goiás.
CATEGORIES:Diretoria de Operações
END:VEVENT
BEGIN:VEVENT
DTSTART;TZID=America/Sao_Paulo:20260302T140000
DTEND;TZID=America/Sao_Paulo:20260302T180000
DTSTAMP:20260423T212345
CREATED:20260302T184302Z
LAST-MODIFIED:20260302T200909Z
UID:48917-1772460000-1772474400@www.goiasfomento.com
SUMMARY:Vinícius Luz: Atendimentos e Despachos Internos.
DESCRIPTION:
URL:https://www.goiasfomento.com/agenda/vinicius-luz-atendimentos-e-despachos-internos-293/
LOCATION:Gabinete da Diretoria de Operações da GoiásFomento – Agência de Fomento de Goiás.
CATEGORIES:Diretoria de Operações
END:VEVENT
BEGIN:VEVENT
DTSTART;TZID=America/Sao_Paulo:20260303T080000
DTEND;TZID=America/Sao_Paulo:20260303T120000
DTSTAMP:20260423T212345
CREATED:20260303T132512Z
LAST-MODIFIED:20260303T132512Z
UID:48936-1772524800-1772539200@www.goiasfomento.com
SUMMARY:Vinícius Luz: Atendimentos e Despachos Internos.
DESCRIPTION:
URL:https://www.goiasfomento.com/agenda/vinicius-luz-atendimentos-e-despachos-internos-294/
LOCATION:Gabinete da Diretoria de Operações da GoiásFomento – Agência de Fomento de Goiás.
CATEGORIES:Diretoria de Operações
END:VEVENT
BEGIN:VEVENT
DTSTART;TZID=America/Sao_Paulo:20260303T140000
DTEND;TZID=America/Sao_Paulo:20260303T180000
DTSTAMP:20260423T212345
CREATED:20260303T132541Z
LAST-MODIFIED:20260303T132541Z
UID:48938-1772546400-1772560800@www.goiasfomento.com
SUMMARY:Vinícius Luz: Atendimentos e Despachos Internos.
DESCRIPTION:
URL:https://www.goiasfomento.com/agenda/vinicius-luz-atendimentos-e-despachos-internos-295/
LOCATION:Gabinete da Diretoria de Operações da GoiásFomento – Agência de Fomento de Goiás.
CATEGORIES:Diretoria de Operações
END:VEVENT
BEGIN:VEVENT
DTSTART;TZID=America/Sao_Paulo:20260304T080000
DTEND;TZID=America/Sao_Paulo:20260304T120000
DTSTAMP:20260423T212345
CREATED:20260305T131647Z
LAST-MODIFIED:20260305T131647Z
UID:48980-1772611200-1772625600@www.goiasfomento.com
SUMMARY:Vinícius Luz: Atendimentos e Despachos Internos.
DESCRIPTION:
URL:https://www.goiasfomento.com/agenda/vinicius-luz-atendimentos-e-despachos-internos-296/
LOCATION:Gabinete da Diretoria de Operações da GoiásFomento – Agência de Fomento de Goiás.
CATEGORIES:Diretoria de Operações
END:VEVENT
BEGIN:VEVENT
DTSTART;TZID=America/Sao_Paulo:20260304T140000
DTEND;TZID=America/Sao_Paulo:20260304T180000
DTSTAMP:20260423T212345
CREATED:20260305T131711Z
LAST-MODIFIED:20260305T131905Z
UID:48982-1772632800-1772647200@www.goiasfomento.com
SUMMARY:Vinícius Luz: Atendimentos e Despachos Internos.
DESCRIPTION:
URL:https://www.goiasfomento.com/agenda/vinicius-luz-atendimentos-e-despachos-internos-297/
LOCATION:Gabinete da Diretoria de Operações da GoiásFomento – Agência de Fomento de Goiás.
CATEGORIES:Diretoria de Operações
END:VEVENT
BEGIN:VEVENT
DTSTART;TZID=America/Sao_Paulo:20260305T080000
DTEND;TZID=America/Sao_Paulo:20260305T120000
DTSTAMP:20260423T212345
CREATED:20260305T131754Z
LAST-MODIFIED:20260305T131754Z
UID:48984-1772697600-1772712000@www.goiasfomento.com
SUMMARY:Vinícius Luz: Atendimentos e Despachos Internos.
DESCRIPTION:
URL:https://www.goiasfomento.com/agenda/vinicius-luz-atendimentos-e-despachos-internos-298/
LOCATION:Gabinete da Diretoria de Operações da GoiásFomento – Agência de Fomento de Goiás.
CATEGORIES:Diretoria de Operações
END:VEVENT
BEGIN:VEVENT
DTSTART;TZID=America/Sao_Paulo:20260305T140000
DTEND;TZID=America/Sao_Paulo:20260305T180000
DTSTAMP:20260423T212345
CREATED:20260305T131929Z
LAST-MODIFIED:20260305T131929Z
UID:48986-1772719200-1772733600@www.goiasfomento.com
SUMMARY:Vinícius Luz: Atendimentos e Despachos Internos.
DESCRIPTION:
URL:https://www.goiasfomento.com/agenda/vinicius-luz-atendimentos-e-despachos-internos-299/
LOCATION:Gabinete da Diretoria de Operações da GoiásFomento – Agência de Fomento de Goiás.
CATEGORIES:Diretoria de Operações
END:VEVENT
BEGIN:VEVENT
DTSTART;TZID=America/Sao_Paulo:20260306T080000
DTEND;TZID=America/Sao_Paulo:20260306T083000
DTSTAMP:20260423T212345
CREATED:20260306T145913Z
LAST-MODIFIED:20260306T145921Z
UID:49026-1772784000-1772785800@www.goiasfomento.com
SUMMARY:Vinícius Luz: Atendimentos e Despachos Internos.
DESCRIPTION:
URL:https://www.goiasfomento.com/agenda/vinicius-luz-atendimentos-e-despachos-internos-300/
LOCATION:Gabinete da Diretoria de Operações da GoiásFomento – Agência de Fomento de Goiás.
CATEGORIES:Diretoria de Operações
END:VEVENT
BEGIN:VEVENT
DTSTART;TZID=America/Sao_Paulo:20260306T083000
DTEND;TZID=America/Sao_Paulo:20260306T103000
DTSTAMP:20260423T212345
CREATED:20260306T150133Z
LAST-MODIFIED:20260306T150532Z
UID:49032-1772785800-1772793000@www.goiasfomento.com
SUMMARY:Vinícius Luz: Goiás Social Mulher - Entrega do Cartões de Crédito Social e Bolsa Qualificação.
DESCRIPTION:
URL:https://www.goiasfomento.com/agenda/vinicius-luz-goias-social-mulher-entrega-do-cartoes-de-credito-social-e-bolsa-qualificacao/
LOCATION:Praça  Civíca – Praça Dr. Pedro Ludovico Teixeira – St. Central\, Goiânia – GO\, 74003-010
CATEGORIES:Diretoria de Operações
END:VEVENT
BEGIN:VEVENT
DTSTART;TZID=America/Sao_Paulo:20260306T103000
DTEND;TZID=America/Sao_Paulo:20260306T120000
DTSTAMP:20260423T212345
CREATED:20260306T150039Z
LAST-MODIFIED:20260306T150039Z
UID:49030-1772793000-1772798400@www.goiasfomento.com
SUMMARY:Vinícius Luz: Atendimentos e Despachos Internos.
DESCRIPTION:
URL:https://www.goiasfomento.com/agenda/vinicius-luz-atendimentos-e-despachos-internos-302/
LOCATION:Gabinete da Diretoria de Operações da GoiásFomento – Agência de Fomento de Goiás.
CATEGORIES:Diretoria de Operações
END:VEVENT
BEGIN:VEVENT
DTSTART;TZID=America/Sao_Paulo:20260306T140000
DTEND;TZID=America/Sao_Paulo:20260306T180000
DTSTAMP:20260423T212345
CREATED:20260306T150011Z
LAST-MODIFIED:20260306T150011Z
UID:49028-1772805600-1772820000@www.goiasfomento.com
SUMMARY:Vinícius Luz: Atendimentos e Despachos Internos.
DESCRIPTION:
URL:https://www.goiasfomento.com/agenda/vinicius-luz-atendimentos-e-despachos-internos-301/
LOCATION:Gabinete da Diretoria de Operações da GoiásFomento – Agência de Fomento de Goiás.
CATEGORIES:Diretoria de Operações
END:VEVENT
BEGIN:VEVENT
DTSTART;TZID=America/Sao_Paulo:20260309T080000
DTEND;TZID=America/Sao_Paulo:20260309T120000
DTSTAMP:20260423T212345
CREATED:20260309T150734Z
LAST-MODIFIED:20260309T150943Z
UID:49038-1773043200-1773057600@www.goiasfomento.com
SUMMARY:Vinícius Luz: GoiásFomento Até Você em Bela Vista de Goiás.
DESCRIPTION:
URL:https://www.goiasfomento.com/agenda/vinicius-luz-goiasfomento-ate-voceem-bela-vista-de-goias/
LOCATION:Bela Vista de Goiás
CATEGORIES:Diretoria de Operações
END:VEVENT
BEGIN:VEVENT
DTSTART;TZID=America/Sao_Paulo:20260309T140000
DTEND;TZID=America/Sao_Paulo:20260309T180000
DTSTAMP:20260423T212345
CREATED:20260309T151027Z
LAST-MODIFIED:20260309T151027Z
UID:49041-1773064800-1773079200@www.goiasfomento.com
SUMMARY:Vinícius Luz: Atendimentos e Despachos Internos.
DESCRIPTION:
URL:https://www.goiasfomento.com/agenda/vinicius-luz-atendimentos-e-despachos-internos-303/
LOCATION:Gabinete da Diretoria de Operações da GoiásFomento – Agência de Fomento de Goiás.
CATEGORIES:Diretoria de Operações
END:VEVENT
BEGIN:VEVENT
DTSTART;TZID=America/Sao_Paulo:20260310T080000
DTEND;TZID=America/Sao_Paulo:20260310T090000
DTSTAMP:20260423T212345
CREATED:20260310T200619Z
LAST-MODIFIED:20260310T200619Z
UID:49148-1773129600-1773133200@www.goiasfomento.com
SUMMARY:Vinícius Luz: Atendimentos e Despachos Internos.
DESCRIPTION:
URL:https://www.goiasfomento.com/agenda/vinicius-luz-atendimentos-e-despachos-internos-304/
LOCATION:Gabinete da Diretoria de Operações da GoiásFomento – Agência de Fomento de Goiás.
CATEGORIES:Diretoria de Operações
END:VEVENT
BEGIN:VEVENT
DTSTART;TZID=America/Sao_Paulo:20260310T090000
DTEND;TZID=America/Sao_Paulo:20260310T103000
DTSTAMP:20260423T212345
CREATED:20260310T200834Z
LAST-MODIFIED:20260310T200834Z
UID:49154-1773133200-1773138600@www.goiasfomento.com
SUMMARY:Vinícius Luz: Premiação Correspondentes VIP Evento anual de premiação aos Correspondentes de Crédito da GoiásFomento pelos resultados obtidos no ano de 2025.
DESCRIPTION:
URL:https://www.goiasfomento.com/agenda/vinicius-luz-premiacao-correspondentes-vip-evento-anual-de-premiacao-aos-correspondentes-de-credito-da-goiasfomento-pelos-resultados-obtidos-no-ano-de-2025/
CATEGORIES:Diretoria de Operações
END:VEVENT
BEGIN:VEVENT
DTSTART;TZID=America/Sao_Paulo:20260310T103000
DTEND;TZID=America/Sao_Paulo:20260310T120000
DTSTAMP:20260423T212345
CREATED:20260310T200641Z
LAST-MODIFIED:20260310T200641Z
UID:49150-1773138600-1773144000@www.goiasfomento.com
SUMMARY:Vinícius Luz: Atendimentos e Despachos Internos.
DESCRIPTION:
URL:https://www.goiasfomento.com/agenda/vinicius-luz-atendimentos-e-despachos-internos-305/
LOCATION:Gabinete da Diretoria de Operações da GoiásFomento – Agência de Fomento de Goiás.
CATEGORIES:Diretoria de Operações
END:VEVENT
BEGIN:VEVENT
DTSTART;TZID=America/Sao_Paulo:20260310T140000
DTEND;TZID=America/Sao_Paulo:20260310T180000
DTSTAMP:20260423T212345
CREATED:20260310T200704Z
LAST-MODIFIED:20260310T200704Z
UID:49152-1773151200-1773165600@www.goiasfomento.com
SUMMARY:Vinícius Luz: Atendimentos e Despachos Internos.
DESCRIPTION:
URL:https://www.goiasfomento.com/agenda/vinicius-luz-atendimentos-e-despachos-internos-306/
LOCATION:Gabinete da Diretoria de Operações da GoiásFomento – Agência de Fomento de Goiás.
CATEGORIES:Diretoria de Operações
END:VEVENT
BEGIN:VEVENT
DTSTART;TZID=America/Sao_Paulo:20260311T080000
DTEND;TZID=America/Sao_Paulo:20260311T100000
DTSTAMP:20260423T212345
CREATED:20260311T194456Z
LAST-MODIFIED:20260311T194456Z
UID:49163-1773216000-1773223200@www.goiasfomento.com
SUMMARY:Vinícius Luz: Atendimentos e Despachos Internos.
DESCRIPTION:
URL:https://www.goiasfomento.com/agenda/vinicius-luz-atendimentos-e-despachos-internos-308/
LOCATION:Gabinete da Diretoria de Operações da GoiásFomento – Agência de Fomento de Goiás.
CATEGORIES:Diretoria de Operações
END:VEVENT
BEGIN:VEVENT
DTSTART;TZID=America/Sao_Paulo:20260311T100000
DTEND;TZID=America/Sao_Paulo:20260311T120000
DTSTAMP:20260423T212345
CREATED:20260311T194804Z
LAST-MODIFIED:20260311T194833Z
UID:49165-1773223200-1773230400@www.goiasfomento.com
SUMMARY:Vinícius Luz: Abertura CONVERGÊNCIA - PALESTRA INTERNACIONAL - Convergência 2026.
DESCRIPTION:
URL:https://www.goiasfomento.com/agenda/vinicius-luz-abertura-evento-convergencia-palestra-internacional-convergencia-2026/
LOCATION:Teatro Escola Basileu França
CATEGORIES:Diretoria de Operações
END:VEVENT
BEGIN:VEVENT
DTSTART;TZID=America/Sao_Paulo:20260311T140000
DTEND;TZID=America/Sao_Paulo:20260311T173000
DTSTAMP:20260423T212345
CREATED:20260311T194329Z
LAST-MODIFIED:20260311T195115Z
UID:49161-1773237600-1773250200@www.goiasfomento.com
SUMMARY:Vinícius Luz: Atendimentos e Despachos Internos.
DESCRIPTION:
URL:https://www.goiasfomento.com/agenda/vinicius-luz-atendimentos-e-despachos-internos-307/
LOCATION:Gabinete da Diretoria de Operações da GoiásFomento – Agência de Fomento de Goiás.
CATEGORIES:Diretoria de Operações
END:VEVENT
BEGIN:VEVENT
DTSTART;TZID=America/Sao_Paulo:20260311T173000
DTEND;TZID=America/Sao_Paulo:20260311T190000
DTSTAMP:20260423T212345
CREATED:20260311T194943Z
LAST-MODIFIED:20260311T195053Z
UID:49168-1773250200-1773255600@www.goiasfomento.com
SUMMARY:Vinícius Luz: Entrega do Bolsa uniforme para os 76 mil alunos.
DESCRIPTION:
URL:https://www.goiasfomento.com/agenda/vinicius-luz-entrega-do-bolsa-uniforme-para-os-76-mil-alunos-evento-confirmado/
LOCATION:Colégio da Polícia Militar de Goiás Hugo de Carvalho Ramos\, Avenida E\, Qd. B11 – N° 600 – Jardim Goiás\, Goiânia – GO\, 74810-030\, Brasil
CATEGORIES:Diretoria de Operações
END:VEVENT
BEGIN:VEVENT
DTSTART;TZID=America/Sao_Paulo:20260312T080000
DTEND;TZID=America/Sao_Paulo:20260312T100000
DTSTAMP:20260423T212345
CREATED:20260312T182101Z
LAST-MODIFIED:20260312T190535Z
UID:49200-1773302400-1773309600@www.goiasfomento.com
SUMMARY:Vinícius Luz: Atendimentos e Despachos Internos.
DESCRIPTION:
URL:https://www.goiasfomento.com/agenda/vinicius-luz-atendimentos-e-despachos-internos-309/
LOCATION:Gabinete da Diretoria de Operações da GoiásFomento – Agência de Fomento de Goiás.
CATEGORIES:Diretoria de Operações
END:VEVENT
BEGIN:VEVENT
DTSTART;TZID=America/Sao_Paulo:20260312T100000
DTEND;TZID=America/Sao_Paulo:20260312T110000
DTSTAMP:20260423T212345
CREATED:20260312T190652Z
LAST-MODIFIED:20260312T190652Z
UID:49222-1773309600-1773313200@www.goiasfomento.com
SUMMARY:Vinícius Luz: Reunião Prof. Christiano - Danival Vieira - UFJ.
DESCRIPTION:
URL:https://www.goiasfomento.com/agenda/vinicius-luz-reuniao-prof-christiano-danival-vieira-ufj/
LOCATION:Gabinete da Diretoria de Operações da GoiásFomento – Agência de Fomento de Goiás.
CATEGORIES:Diretoria de Operações
END:VEVENT
BEGIN:VEVENT
DTSTART;TZID=America/Sao_Paulo:20260312T110000
DTEND;TZID=America/Sao_Paulo:20260312T120000
DTSTAMP:20260423T212345
CREATED:20260312T190812Z
LAST-MODIFIED:20260312T190812Z
UID:49226-1773313200-1773316800@www.goiasfomento.com
SUMMARY:Vinícius Luz: Atendimentos e Despachos Internos.
DESCRIPTION:
URL:https://www.goiasfomento.com/agenda/vinicius-luz-atendimentos-e-despachos-internos-311/
LOCATION:Gabinete da Diretoria de Operações da GoiásFomento – Agência de Fomento de Goiás.
CATEGORIES:Diretoria de Operações
END:VEVENT
BEGIN:VEVENT
DTSTART;TZID=America/Sao_Paulo:20260312T140000
DTEND;TZID=America/Sao_Paulo:20260312T180000
DTSTAMP:20260423T212345
CREATED:20260312T182128Z
LAST-MODIFIED:20260312T182128Z
UID:49202-1773324000-1773338400@www.goiasfomento.com
SUMMARY:Vinícius Luz: Atendimentos e Despachos Internos.
DESCRIPTION:
URL:https://www.goiasfomento.com/agenda/vinicius-luz-atendimentos-e-despachos-internos-310/
LOCATION:Gabinete da Diretoria de Operações da GoiásFomento – Agência de Fomento de Goiás.
CATEGORIES:Diretoria de Operações
END:VEVENT
BEGIN:VEVENT
DTSTART;TZID=America/Sao_Paulo:20260313T080000
DTEND;TZID=America/Sao_Paulo:20260313T180000
DTSTAMP:20260423T212345
CREATED:20260313T194503Z
LAST-MODIFIED:20260313T194701Z
UID:49234-1773388800-1773424800@www.goiasfomento.com
SUMMARY:Vinícius Luz:  GoiásFomento até Você em Caçu - GO.
DESCRIPTION:
URL:https://www.goiasfomento.com/agenda/vinicius-luz-goiasfomento-ate-voce-em-cacu-go/
LOCATION:Caçu de  Goiás
CATEGORIES:Diretoria de Operações
END:VEVENT
BEGIN:VEVENT
DTSTART;TZID=America/Sao_Paulo:20260316T080000
DTEND;TZID=America/Sao_Paulo:20260316T120000
DTSTAMP:20260423T212345
CREATED:20260316T190830Z
LAST-MODIFIED:20260316T190830Z
UID:49249-1773648000-1773662400@www.goiasfomento.com
SUMMARY:Vinícius Luz: Atendimentos e Despachos Internos.
DESCRIPTION:
URL:https://www.goiasfomento.com/agenda/vinicius-luz-atendimentos-e-despachos-internos-312/
LOCATION:Gabinete da Diretoria de Operações da GoiásFomento – Agência de Fomento de Goiás.
CATEGORIES:Diretoria de Operações
END:VEVENT
BEGIN:VEVENT
DTSTART;TZID=America/Sao_Paulo:20260316T140000
DTEND;TZID=America/Sao_Paulo:20260316T180000
DTSTAMP:20260423T212345
CREATED:20260316T191004Z
LAST-MODIFIED:20260316T192236Z
UID:49251-1773669600-1773684000@www.goiasfomento.com
SUMMARY:Vinícius Luz: Atendimentos e Despachos Internos.
DESCRIPTION:
URL:https://www.goiasfomento.com/agenda/vinicius-luz-atendimentos-e-despachos-internos-313/
LOCATION:Gabinete da Diretoria de Operações da GoiásFomento – Agência de Fomento de Goiás.
CATEGORIES:Diretoria de Operações
END:VEVENT
BEGIN:VEVENT
DTSTART;TZID=America/Sao_Paulo:20260317T080000
DTEND;TZID=America/Sao_Paulo:20260317T120000
DTSTAMP:20260423T212345
CREATED:20260317T131823Z
LAST-MODIFIED:20260317T131823Z
UID:49289-1773734400-1773748800@www.goiasfomento.com
SUMMARY:Vinícius Luz: Atendimentos e Despachos Internos.
DESCRIPTION:
URL:https://www.goiasfomento.com/agenda/vinicius-luz-atendimentos-e-despachos-internos-314/
LOCATION:Gabinete da Diretoria de Operações da GoiásFomento – Agência de Fomento de Goiás.
CATEGORIES:Diretoria de Operações
END:VEVENT
END:VCALENDAR