BEGIN:VCALENDAR
VERSION:2.0
PRODID:-//GoiásFomento - Agência de Fomento - ECPv6.15.20//NONSGML v1.0//EN
CALSCALE:GREGORIAN
METHOD:PUBLISH
X-WR-CALNAME:GoiásFomento - Agência de Fomento
X-ORIGINAL-URL:https://www.goiasfomento.com
X-WR-CALDESC:Eventos para GoiásFomento - Agência de Fomento
REFRESH-INTERVAL;VALUE=DURATION:PT1H
X-Robots-Tag:noindex
X-PUBLISHED-TTL:PT1H
BEGIN:VTIMEZONE
TZID:America/Sao_Paulo
BEGIN:STANDARD
TZOFFSETFROM:-0300
TZOFFSETTO:-0300
TZNAME:-03
DTSTART:20250101T000000
END:STANDARD
END:VTIMEZONE
BEGIN:VEVENT
DTSTART;TZID=America/Sao_Paulo:20260202T080000
DTEND;TZID=America/Sao_Paulo:20260202T120000
DTSTAMP:20260423T225748
CREATED:20260119T143532Z
LAST-MODIFIED:20260119T143532Z
UID:48066-1770019200-1770033600@www.goiasfomento.com
SUMMARY:Vinícius Luz: Atendimentos e Despachos Internos.
DESCRIPTION:
URL:https://www.goiasfomento.com/agenda/vinicius-luz-atendimentos-e-despachos-internos-250/
LOCATION:Gabinete da Diretoria de Operações da GoiásFomento – Agência de Fomento de Goiás.
CATEGORIES:Diretoria de Operações
END:VEVENT
BEGIN:VEVENT
DTSTART;TZID=America/Sao_Paulo:20260202T140000
DTEND;TZID=America/Sao_Paulo:20260202T180000
DTSTAMP:20260423T225748
CREATED:20260119T143557Z
LAST-MODIFIED:20260119T143557Z
UID:48068-1770040800-1770055200@www.goiasfomento.com
SUMMARY:Vinícius Luz: Atendimentos e Despachos Internos.
DESCRIPTION:
URL:https://www.goiasfomento.com/agenda/vinicius-luz-atendimentos-e-despachos-internos-251/
LOCATION:Gabinete da Diretoria de Operações da GoiásFomento – Agência de Fomento de Goiás.
CATEGORIES:Diretoria de Operações
END:VEVENT
BEGIN:VEVENT
DTSTART;TZID=America/Sao_Paulo:20260203T080000
DTEND;TZID=America/Sao_Paulo:20260203T120000
DTSTAMP:20260423T225748
CREATED:20260119T144030Z
LAST-MODIFIED:20260119T144030Z
UID:48070-1770105600-1770120000@www.goiasfomento.com
SUMMARY:Vinícius Luz: Atendimentos e Despachos Internos.
DESCRIPTION:
URL:https://www.goiasfomento.com/agenda/vinicius-luz-atendimentos-e-despachos-internos-252/
LOCATION:Gabinete da Diretoria de Operações da GoiásFomento – Agência de Fomento de Goiás.
CATEGORIES:Diretoria de Operações
END:VEVENT
BEGIN:VEVENT
DTSTART;TZID=America/Sao_Paulo:20260203T140000
DTEND;TZID=America/Sao_Paulo:20260203T180000
DTSTAMP:20260423T225748
CREATED:20260119T144205Z
LAST-MODIFIED:20260119T144205Z
UID:48074-1770127200-1770141600@www.goiasfomento.com
SUMMARY:Vinícius Luz: Atendimentos e Despachos Internos.
DESCRIPTION:
URL:https://www.goiasfomento.com/agenda/vinicius-luz-atendimentos-e-despachos-internos-254/
LOCATION:Gabinete da Diretoria de Operações da GoiásFomento – Agência de Fomento de Goiás.
CATEGORIES:Diretoria de Operações
END:VEVENT
BEGIN:VEVENT
DTSTART;TZID=America/Sao_Paulo:20260204T080000
DTEND;TZID=America/Sao_Paulo:20260204T120000
DTSTAMP:20260423T225748
CREATED:20260119T144101Z
LAST-MODIFIED:20260119T144101Z
UID:48072-1770192000-1770206400@www.goiasfomento.com
SUMMARY:Vinícius Luz: Atendimentos e Despachos Internos.
DESCRIPTION:
URL:https://www.goiasfomento.com/agenda/vinicius-luz-atendimentos-e-despachos-internos-253/
LOCATION:Gabinete da Diretoria de Operações da GoiásFomento – Agência de Fomento de Goiás.
CATEGORIES:Diretoria de Operações
END:VEVENT
BEGIN:VEVENT
DTSTART;TZID=America/Sao_Paulo:20260204T140000
DTEND;TZID=America/Sao_Paulo:20260204T180000
DTSTAMP:20260423T225748
CREATED:20260119T144227Z
LAST-MODIFIED:20260119T144227Z
UID:48076-1770213600-1770228000@www.goiasfomento.com
SUMMARY:Vinícius Luz: Atendimentos e Despachos Internos.
DESCRIPTION:
URL:https://www.goiasfomento.com/agenda/vinicius-luz-atendimentos-e-despachos-internos-255/
LOCATION:Gabinete da Diretoria de Operações da GoiásFomento – Agência de Fomento de Goiás.
CATEGORIES:Diretoria de Operações
END:VEVENT
BEGIN:VEVENT
DTSTART;TZID=America/Sao_Paulo:20260205T080000
DTEND;TZID=America/Sao_Paulo:20260205T120000
DTSTAMP:20260423T225748
CREATED:20260119T151735Z
LAST-MODIFIED:20260119T151735Z
UID:48082-1770278400-1770292800@www.goiasfomento.com
SUMMARY:Vinícius Luz: Atendimentos e Despachos Internos.
DESCRIPTION:
URL:https://www.goiasfomento.com/agenda/vinicius-luz-atendimentos-e-despachos-internos-258/
LOCATION:Gabinete da Diretoria de Operações da GoiásFomento – Agência de Fomento de Goiás.
CATEGORIES:Diretoria de Operações
END:VEVENT
BEGIN:VEVENT
DTSTART;TZID=America/Sao_Paulo:20260205T140000
DTEND;TZID=America/Sao_Paulo:20260205T180000
DTSTAMP:20260423T225748
CREATED:20260119T151810Z
LAST-MODIFIED:20260119T151810Z
UID:48084-1770300000-1770314400@www.goiasfomento.com
SUMMARY:Vinícius Luz: Atendimentos e Despachos Internos.
DESCRIPTION:
URL:https://www.goiasfomento.com/agenda/vinicius-luz-atendimentos-e-despachos-internos-259/
LOCATION:Gabinete da Diretoria de Operações da GoiásFomento – Agência de Fomento de Goiás.
CATEGORIES:Diretoria de Operações
END:VEVENT
BEGIN:VEVENT
DTSTART;TZID=America/Sao_Paulo:20260206T080000
DTEND;TZID=America/Sao_Paulo:20260206T120000
DTSTAMP:20260423T225748
CREATED:20260119T144302Z
LAST-MODIFIED:20260119T144302Z
UID:48078-1770364800-1770379200@www.goiasfomento.com
SUMMARY:Vinícius Luz: Atendimentos e Despachos Internos.
DESCRIPTION:
URL:https://www.goiasfomento.com/agenda/vinicius-luz-atendimentos-e-despachos-internos-256/
LOCATION:Gabinete da Diretoria de Operações da GoiásFomento – Agência de Fomento de Goiás.
CATEGORIES:Diretoria de Operações
END:VEVENT
BEGIN:VEVENT
DTSTART;TZID=America/Sao_Paulo:20260206T140000
DTEND;TZID=America/Sao_Paulo:20260206T180000
DTSTAMP:20260423T225748
CREATED:20260119T144403Z
LAST-MODIFIED:20260209T121841Z
UID:48080-1770386400-1770400800@www.goiasfomento.com
SUMMARY:Vinícius Luz: Acompanhar agenda do Vice Governador Daniel Vilela em Jataí-GO.
DESCRIPTION:Entrega de 118 cartões do “Aluguel Social” e 185 Escrituras de Regularização Fundiária em Jataí (Vila Paraíso I e II\, Mauro Bento\, Colmeia Park e Estrela Dalva)
URL:https://www.goiasfomento.com/agenda/vinicius-luz-atendimentos-e-despachos-internos-257/
LOCATION:Av. Presidente Tancredo Neves\, 100 – Setor Epaminondas II\, Jataí – GO
CATEGORIES:Diretoria de Operações
END:VEVENT
BEGIN:VEVENT
DTSTART;TZID=America/Sao_Paulo:20260209T080000
DTEND;TZID=America/Sao_Paulo:20260209T120000
DTSTAMP:20260423T225748
CREATED:20260209T183734Z
LAST-MODIFIED:20260209T183734Z
UID:48373-1770624000-1770638400@www.goiasfomento.com
SUMMARY:Vinícius Luz: Atendimentos e Despachos Internos.
DESCRIPTION:
URL:https://www.goiasfomento.com/agenda/vinicius-luz-atendimentos-e-despachos-internos-268/
LOCATION:Gabinete da Diretoria de Operações da GoiásFomento – Agência de Fomento de Goiás.
CATEGORIES:Diretoria de Operações
END:VEVENT
BEGIN:VEVENT
DTSTART;TZID=America/Sao_Paulo:20260209T140000
DTEND;TZID=America/Sao_Paulo:20260209T180000
DTSTAMP:20260423T225748
CREATED:20260209T184431Z
LAST-MODIFIED:20260209T184431Z
UID:48375-1770645600-1770660000@www.goiasfomento.com
SUMMARY:Vinícius Luz: Atendimentos e Despachos Internos.
DESCRIPTION:
URL:https://www.goiasfomento.com/agenda/vinicius-luz-atendimentos-e-despachos-internos-269/
LOCATION:Gabinete da Diretoria de Operações da GoiásFomento – Agência de Fomento de Goiás.
CATEGORIES:Diretoria de Operações
END:VEVENT
BEGIN:VEVENT
DTSTART;TZID=America/Sao_Paulo:20260210T080000
DTEND;TZID=America/Sao_Paulo:20260210T120000
DTSTAMP:20260423T225748
CREATED:20260210T132239Z
LAST-MODIFIED:20260210T132239Z
UID:48398-1770710400-1770724800@www.goiasfomento.com
SUMMARY:Vinícius Luz: Atendimentos e Despachos Internos.
DESCRIPTION:
URL:https://www.goiasfomento.com/agenda/vinicius-luz-atendimentos-e-despachos-internos-270/
LOCATION:Gabinete da Diretoria de Operações da GoiásFomento – Agência de Fomento de Goiás.
CATEGORIES:Diretoria de Operações
END:VEVENT
BEGIN:VEVENT
DTSTART;TZID=America/Sao_Paulo:20260210T140000
DTEND;TZID=America/Sao_Paulo:20260210T180000
DTSTAMP:20260423T225748
CREATED:20260210T132305Z
LAST-MODIFIED:20260210T132305Z
UID:48400-1770732000-1770746400@www.goiasfomento.com
SUMMARY:Vinícius Luz: Atendimentos e Despachos Internos.
DESCRIPTION:
URL:https://www.goiasfomento.com/agenda/vinicius-luz-atendimentos-e-despachos-internos-271/
LOCATION:Gabinete da Diretoria de Operações da GoiásFomento – Agência de Fomento de Goiás.
CATEGORIES:Diretoria de Operações
END:VEVENT
BEGIN:VEVENT
DTSTART;TZID=America/Sao_Paulo:20260211T080000
DTEND;TZID=America/Sao_Paulo:20260211T120000
DTSTAMP:20260423T225748
CREATED:20260211T144347Z
LAST-MODIFIED:20260211T144627Z
UID:48461-1770796800-1770811200@www.goiasfomento.com
SUMMARY:Vinícius Luz: Atendimentos e Despachos Internos.
DESCRIPTION:
URL:https://www.goiasfomento.com/agenda/vinicius-luz-atendimentos-e-despachos-internos-272/
LOCATION:Gabinete da Diretoria de Operações da GoiásFomento – Agência de Fomento de Goiás.
CATEGORIES:Diretoria de Operações
END:VEVENT
BEGIN:VEVENT
DTSTART;TZID=America/Sao_Paulo:20260211T140000
DTEND;TZID=America/Sao_Paulo:20260211T180000
DTSTAMP:20260423T225748
CREATED:20260212T191520Z
LAST-MODIFIED:20260212T191520Z
UID:48484-1770818400-1770832800@www.goiasfomento.com
SUMMARY:Vinícius Luz: Atendimentos e Despachos Internos.
DESCRIPTION:
URL:https://www.goiasfomento.com/agenda/vinicius-luz-atendimentos-e-despachos-internos-274/
LOCATION:Gabinete da Diretoria de Operações da GoiásFomento – Agência de Fomento de Goiás.
CATEGORIES:Diretoria de Operações
END:VEVENT
BEGIN:VEVENT
DTSTART;TZID=America/Sao_Paulo:20260212T080000
DTEND;TZID=America/Sao_Paulo:20260212T120000
DTSTAMP:20260423T225748
CREATED:20260212T191452Z
LAST-MODIFIED:20260212T191452Z
UID:48482-1770883200-1770897600@www.goiasfomento.com
SUMMARY:Vinícius Luz: Atendimentos e Despachos Internos.
DESCRIPTION:
URL:https://www.goiasfomento.com/agenda/vinicius-luz-atendimentos-e-despachos-internos-273/
LOCATION:Gabinete da Diretoria Administrativa e Financeira – Agência de Fomento de Goiás.
CATEGORIES:Diretoria de Operações
END:VEVENT
BEGIN:VEVENT
DTSTART;TZID=America/Sao_Paulo:20260212T140000
DTEND;TZID=America/Sao_Paulo:20260212T180000
DTSTAMP:20260423T225748
CREATED:20260212T191559Z
LAST-MODIFIED:20260212T191559Z
UID:48486-1770904800-1770919200@www.goiasfomento.com
SUMMARY:Vinícius Luz: Atendimentos e Despachos Internos.
DESCRIPTION:
URL:https://www.goiasfomento.com/agenda/vinicius-luz-atendimentos-e-despachos-internos-275/
LOCATION:Gabinete da Diretoria de Operações da GoiásFomento – Agência de Fomento de Goiás.
CATEGORIES:Diretoria de Operações
END:VEVENT
BEGIN:VEVENT
DTSTART;TZID=America/Sao_Paulo:20260213T080000
DTEND;TZID=America/Sao_Paulo:20260213T100000
DTSTAMP:20260423T225748
CREATED:20260213T130406Z
LAST-MODIFIED:20260213T130406Z
UID:48512-1770969600-1770976800@www.goiasfomento.com
SUMMARY:Vinícius Luz: Atendimentos e Despachos Internos.
DESCRIPTION:
URL:https://www.goiasfomento.com/agenda/vinicius-luz-atendimentos-e-despachos-internos-278/
LOCATION:GoiásFomento – Agência de Fomento de Goiás.
CATEGORIES:Diretoria de Operações
END:VEVENT
BEGIN:VEVENT
DTSTART;TZID=America/Sao_Paulo:20260213T100000
DTEND;TZID=America/Sao_Paulo:20260213T120000
DTSTAMP:20260423T225748
CREATED:20260213T130721Z
LAST-MODIFIED:20260213T130721Z
UID:48514-1770976800-1770984000@www.goiasfomento.com
SUMMARY:Vinícius Luz: Reunião Sebrae. Pauta: Caravanas da Sudeco - Edição 2026. On-line.
DESCRIPTION:
URL:https://www.goiasfomento.com/agenda/vinicius-luz-reuniao-sebrae-pauta-caravanas-da-sudeco-edicao-2026-on-line/
LOCATION:Gabinete da Diretoria de Operações da GoiásFomento – Agência de Fomento de Goiás.
CATEGORIES:Diretoria de Operações
END:VEVENT
BEGIN:VEVENT
DTSTART;TZID=America/Sao_Paulo:20260213T140000
DTEND;TZID=America/Sao_Paulo:20260213T180000
DTSTAMP:20260423T225748
CREATED:20260213T125755Z
LAST-MODIFIED:20260213T125755Z
UID:48508-1770991200-1771005600@www.goiasfomento.com
SUMMARY:Vinícius Luz: Atendimentos e Despachos Internos.
DESCRIPTION:
URL:https://www.goiasfomento.com/agenda/vinicius-luz-atendimentos-e-despachos-internos-276/
LOCATION:Gabinete da Diretoria de Operações da GoiásFomento – Agência de Fomento de Goiás.
CATEGORIES:Diretoria de Operações
END:VEVENT
BEGIN:VEVENT
DTSTART;VALUE=DATE:20260216
DTEND;VALUE=DATE:20260217
DTSTAMP:20260423T225748
CREATED:20260209T125006Z
LAST-MODIFIED:20260209T125006Z
UID:48356-1771200000-1771286399@www.goiasfomento.com
SUMMARY:Vinícius Luz: Ponto Facultativo\, segundo Decreto Estadual nº 10.855\, de 23 de janeiro de 2026.
DESCRIPTION:
URL:https://www.goiasfomento.com/agenda/vinicius-luz-ponto-facultativo-segundo-decreto-estadual-no-10-855-de-23-de-janeiro-de-2026/
LOCATION:Agência de Fomento de Goiás
CATEGORIES:Diretoria de Operações
END:VEVENT
BEGIN:VEVENT
DTSTART;VALUE=DATE:20260217
DTEND;VALUE=DATE:20260218
DTSTAMP:20260423T225748
CREATED:20260209T125149Z
LAST-MODIFIED:20260209T132023Z
UID:48360-1771286400-1771372799@www.goiasfomento.com
SUMMARY:Vinícius Luz: Feriado Nacional – Carnaval.
DESCRIPTION:
URL:https://www.goiasfomento.com/agenda/feriado-nacional-carnaval-4/
LOCATION:Agência de Fomento de Goiás
CATEGORIES:Diretoria de Operações
END:VEVENT
BEGIN:VEVENT
DTSTART;TZID=America/Sao_Paulo:20260218T080000
DTEND;TZID=America/Sao_Paulo:20260218T140000
DTSTAMP:20260423T225748
CREATED:20260209T125113Z
LAST-MODIFIED:20260209T125113Z
UID:48358-1771401600-1771423200@www.goiasfomento.com
SUMMARY:Vinícius Luz: Ponto Facultativo\, segundo Decreto Estadual nº 10.855\, de 23 de janeiro de 2026.
DESCRIPTION:
URL:https://www.goiasfomento.com/agenda/vinicius-luz-ponto-facultativo-segundo-decreto-estadual-no-10-855-de-23-de-janeiro-de-2026-2/
LOCATION:Agência de Fomento de Goiás
CATEGORIES:Diretoria de Operações
END:VEVENT
BEGIN:VEVENT
DTSTART;TZID=America/Sao_Paulo:20260218T140000
DTEND;TZID=America/Sao_Paulo:20260218T180000
DTSTAMP:20260423T225748
CREATED:20260213T125940Z
LAST-MODIFIED:20260213T125940Z
UID:48510-1771423200-1771437600@www.goiasfomento.com
SUMMARY:Vinícius Luz: Atendimentos e Despachos Internos.
DESCRIPTION:
URL:https://www.goiasfomento.com/agenda/vinicius-luz-atendimentos-e-despachos-internos-277/
LOCATION:Gabinete da Diretoria de Operações da GoiásFomento – Agência de Fomento de Goiás.
CATEGORIES:Diretoria de Operações
END:VEVENT
BEGIN:VEVENT
DTSTART;TZID=America/Sao_Paulo:20260219T080000
DTEND;TZID=America/Sao_Paulo:20260219T100000
DTSTAMP:20260423T225748
CREATED:20260219T153804Z
LAST-MODIFIED:20260219T153804Z
UID:48528-1771488000-1771495200@www.goiasfomento.com
SUMMARY:Vinícius Luz: Atendimentos e Despachos Internos.
DESCRIPTION:
URL:https://www.goiasfomento.com/agenda/vinicius-luz-atendimentos-e-despachos-internos-279/
LOCATION:Gabinete da Diretoria de Operações da GoiásFomento – Agência de Fomento de Goiás.
CATEGORIES:Diretoria de Operações
END:VEVENT
BEGIN:VEVENT
DTSTART;TZID=America/Sao_Paulo:20260219T100000
DTEND;TZID=America/Sao_Paulo:20260219T110000
DTSTAMP:20260423T225748
CREATED:20260219T153738Z
LAST-MODIFIED:20260219T154003Z
UID:48526-1771495200-1771498800@www.goiasfomento.com
SUMMARY:Vinícius Luz: REUNIÃO: SEAPA X GOIÁS PARCERIAS X GOIÁS FOMENTO.
DESCRIPTION:
URL:https://www.goiasfomento.com/agenda/vinicius-luz-reuniao-seapa-x-goias-parcerias-x-goias-fomento/
LOCATION:SEDE SEAPA – Gabinete do Secretário Rua 256 N52 Stº Leste Universitário (Secretária da Agricultura Pecuária e Abastecimento – SEAPA).
CATEGORIES:Diretoria de Operações
END:VEVENT
BEGIN:VEVENT
DTSTART;TZID=America/Sao_Paulo:20260219T110000
DTEND;TZID=America/Sao_Paulo:20260219T120000
DTSTAMP:20260423T225748
CREATED:20260219T153833Z
LAST-MODIFIED:20260219T153833Z
UID:48530-1771498800-1771502400@www.goiasfomento.com
SUMMARY:Vinícius Luz: Atendimentos e Despachos Internos.
DESCRIPTION:
URL:https://www.goiasfomento.com/agenda/vinicius-luz-atendimentos-e-despachos-internos-280/
LOCATION:Gabinete da Diretoria de Operações da GoiásFomento – Agência de Fomento de Goiás.
CATEGORIES:Diretoria de Operações
END:VEVENT
BEGIN:VEVENT
DTSTART;TZID=America/Sao_Paulo:20260219T140000
DTEND;TZID=America/Sao_Paulo:20260219T180000
DTSTAMP:20260423T225748
CREATED:20260219T154712Z
LAST-MODIFIED:20260219T154712Z
UID:48533-1771509600-1771524000@www.goiasfomento.com
SUMMARY:Vinícius Luz: Atendimentos e Despachos Internos.
DESCRIPTION:
URL:https://www.goiasfomento.com/agenda/vinicius-luz-atendimentos-e-despachos-internos-281/
LOCATION:Gabinete da Diretoria de Operações da GoiásFomento – Agência de Fomento de Goiás.
CATEGORIES:Diretoria de Operações
END:VEVENT
BEGIN:VEVENT
DTSTART;TZID=America/Sao_Paulo:20260220T080000
DTEND;TZID=America/Sao_Paulo:20260220T120000
DTSTAMP:20260423T225748
CREATED:20260220T111251Z
LAST-MODIFIED:20260220T111251Z
UID:48537-1771574400-1771588800@www.goiasfomento.com
SUMMARY:Vinícius Luz: Atendimentos e Despachos Internos.
DESCRIPTION:
URL:https://www.goiasfomento.com/agenda/vinicius-luz-atendimentos-e-despachos-internos-282/
LOCATION:Gabinete da Diretoria de Operações da GoiásFomento – Agência de Fomento de Goiás.
CATEGORIES:Diretoria de Operações
END:VEVENT
END:VCALENDAR