BEGIN:VCALENDAR
VERSION:2.0
PRODID:-//GoiásFomento - Agência de Fomento - ECPv6.15.20//NONSGML v1.0//EN
CALSCALE:GREGORIAN
METHOD:PUBLISH
X-ORIGINAL-URL:https://www.goiasfomento.com
X-WR-CALDESC:Eventos para GoiásFomento - Agência de Fomento
REFRESH-INTERVAL;VALUE=DURATION:PT1H
X-Robots-Tag:noindex
X-PUBLISHED-TTL:PT1H
BEGIN:VTIMEZONE
TZID:America/Sao_Paulo
BEGIN:STANDARD
TZOFFSETFROM:-0300
TZOFFSETTO:-0300
TZNAME:-03
DTSTART:20240101T000000
END:STANDARD
END:VTIMEZONE
BEGIN:VEVENT
DTSTART;TZID=America/Sao_Paulo:20251201T080000
DTEND;TZID=America/Sao_Paulo:20251201T120000
DTSTAMP:20260424T021651
CREATED:20251201T131024Z
LAST-MODIFIED:20251201T131024Z
UID:47277-1764576000-1764590400@www.goiasfomento.com
SUMMARY:Vinícius Luz: Atendimentos e Despachos Internos.
DESCRIPTION:
URL:https://www.goiasfomento.com/agenda/vinicius-luz-atendimentos-e-despachos-internos-183/
LOCATION:Gabinete da Diretoria de Operações da GoiásFomento – Agência de Fomento de Goiás.
CATEGORIES:Diretoria de Operações
END:VEVENT
BEGIN:VEVENT
DTSTART;TZID=America/Sao_Paulo:20251201T140000
DTEND;TZID=America/Sao_Paulo:20251201T170000
DTSTAMP:20260424T021651
CREATED:20251201T131039Z
LAST-MODIFIED:20251201T131039Z
UID:47279-1764597600-1764608400@www.goiasfomento.com
SUMMARY:Vinícius Luz: Atendimentos e Despachos Internos.
DESCRIPTION:
URL:https://www.goiasfomento.com/agenda/vinicius-luz-atendimentos-e-despachos-internos-184/
CATEGORIES:Diretoria de Operações
END:VEVENT
BEGIN:VEVENT
DTSTART;TZID=America/Sao_Paulo:20251201T170000
DTEND;TZID=America/Sao_Paulo:20251201T180000
DTSTAMP:20260424T021651
CREATED:20251202T120845Z
LAST-MODIFIED:20251202T120845Z
UID:47344-1764608400-1764612000@www.goiasfomento.com
SUMMARY:Vinícius Luz: Reunião da Diretoria da GoiásFomento com Prefeito de Goiânia\, Sr. Sandro Mabel.
DESCRIPTION:Pauta: Alinhar Parcerias na área social de Goiânia.
URL:https://www.goiasfomento.com/agenda/vinicius-luz-reuniao-da-diretoria-da-goiasfomento-com-prefeito-de-goiania-sr-sandro-mabel/
LOCATION:Prefeitura Municipal de Goiânia
CATEGORIES:Diretoria de Operações
END:VEVENT
BEGIN:VEVENT
DTSTART;TZID=America/Sao_Paulo:20251202T080000
DTEND;TZID=America/Sao_Paulo:20251202T120000
DTSTAMP:20260424T021651
CREATED:20251202T132229Z
LAST-MODIFIED:20251202T132229Z
UID:47387-1764662400-1764676800@www.goiasfomento.com
SUMMARY:Vinícius Luz: Atendimentos e Despachos Internos.
DESCRIPTION:
URL:https://www.goiasfomento.com/agenda/vinicius-luz-atendimentos-e-despachos-internos-185/
LOCATION:Gabinete da Diretoria de Operações da GoiásFomento – Agência de Fomento de Goiás.
CATEGORIES:Diretoria de Operações
END:VEVENT
BEGIN:VEVENT
DTSTART;TZID=America/Sao_Paulo:20251202T140000
DTEND;TZID=America/Sao_Paulo:20251202T180000
DTSTAMP:20260424T021651
CREATED:20251202T132257Z
LAST-MODIFIED:20251202T132257Z
UID:47389-1764684000-1764698400@www.goiasfomento.com
SUMMARY:Vinícius Luz: Atendimentos e Despachos Internos.
DESCRIPTION:
URL:https://www.goiasfomento.com/agenda/vinicius-luz-atendimentos-e-despachos-internos-186/
LOCATION:Gabinete da Diretoria de Operações da GoiásFomento – Agência de Fomento de Goiás.
CATEGORIES:Diretoria de Operações
END:VEVENT
BEGIN:VEVENT
DTSTART;TZID=America/Sao_Paulo:20251203T080000
DTEND;TZID=America/Sao_Paulo:20251203T100000
DTSTAMP:20260424T021651
CREATED:20251203T195336Z
LAST-MODIFIED:20251203T195336Z
UID:47410-1764748800-1764756000@www.goiasfomento.com
SUMMARY:Vinícius Luz: Atendimentos e Despachos Internos.
DESCRIPTION:
URL:https://www.goiasfomento.com/agenda/vinicius-luz-atendimentos-e-despachos-internos-187/
LOCATION:Gabinete da Diretoria de Operações da GoiásFomento – Agência de Fomento de Goiás.
CATEGORIES:Diretoria de Operações
END:VEVENT
BEGIN:VEVENT
DTSTART;TZID=America/Sao_Paulo:20251203T100000
DTEND;TZID=America/Sao_Paulo:20251203T130000
DTSTAMP:20260424T021651
CREATED:20251203T195631Z
LAST-MODIFIED:20251204T192355Z
UID:47414-1764756000-1764766800@www.goiasfomento.com
SUMMARY:Vinícius Luz: Solenidade de Abertura Oficial do Encontro Anual de Gestores 2025.
DESCRIPTION:
URL:https://www.goiasfomento.com/agenda/vinicius-luz-solelnidade-de-abertura-oficial-do-encotnro-anual-de-gestores-2025/
LOCATION:Centro de Convenções de Goiânia.
CATEGORIES:Diretoria de Operações
END:VEVENT
BEGIN:VEVENT
DTSTART;TZID=America/Sao_Paulo:20251203T140000
DTEND;TZID=America/Sao_Paulo:20251203T180000
DTSTAMP:20260424T021651
CREATED:20251203T195357Z
LAST-MODIFIED:20251203T195357Z
UID:47412-1764770400-1764784800@www.goiasfomento.com
SUMMARY:Vinícius Luz: Atendimentos e Despachos Internos.
DESCRIPTION:
URL:https://www.goiasfomento.com/agenda/vinicius-luz-atendimentos-e-despachos-internos-188/
LOCATION:Gabinete da Diretoria de Operações da GoiásFomento – Agência de Fomento de Goiás.
CATEGORIES:Diretoria de Operações
END:VEVENT
BEGIN:VEVENT
DTSTART;TZID=America/Sao_Paulo:20251204T080000
DTEND;TZID=America/Sao_Paulo:20251204T083000
DTSTAMP:20260424T021651
CREATED:20251204T191549Z
LAST-MODIFIED:20251204T193757Z
UID:47420-1764835200-1764837000@www.goiasfomento.com
SUMMARY:Vinícius Luz: Encontro Anual de Gestores 2025.
DESCRIPTION:
URL:https://www.goiasfomento.com/agenda/vinicius-luz-atendimentos-e-despachos-internos-189/
LOCATION:Gabinete da Diretoria de Operações da GoiásFomento – Agência de Fomento de Goiás.
CATEGORIES:Diretoria de Operações
END:VEVENT
BEGIN:VEVENT
DTSTART;TZID=America/Sao_Paulo:20251204T083000
DTEND;TZID=America/Sao_Paulo:20251204T100000
DTSTAMP:20260424T021651
CREATED:20251204T191721Z
LAST-MODIFIED:20251204T193546Z
UID:47422-1764837000-1764842400@www.goiasfomento.com
SUMMARY:Vinícius Luz: Encontro Anual de Gestores 2025.
DESCRIPTION:Palestra da Diretoria da GoiásFomento. \nPauta: GoiásFomento: Parcerias e Soluções para o Desenvolvimento dos Municípios.
URL:https://www.goiasfomento.com/agenda/vinicius-luz-goiasfomento-parcerias-e-solucoes-para-o-desenvolvimento-dos-municipios/
LOCATION:Centro de Convenções de Goiânia.
CATEGORIES:Diretoria de Operações
END:VEVENT
BEGIN:VEVENT
DTSTART;TZID=America/Sao_Paulo:20251204T100000
DTEND;TZID=America/Sao_Paulo:20251204T120000
DTSTAMP:20260424T021651
CREATED:20251204T193856Z
LAST-MODIFIED:20251204T193856Z
UID:47444-1764842400-1764849600@www.goiasfomento.com
SUMMARY:Vinícius Luz: Encontro Anual de Gestores 2025.
DESCRIPTION:
URL:https://www.goiasfomento.com/agenda/vinicius-luz-encontro-anual-de-gestores-2025/
LOCATION:Centro de Convenções de Goiânia.
CATEGORIES:Diretoria de Operações
END:VEVENT
BEGIN:VEVENT
DTSTART;TZID=America/Sao_Paulo:20251204T140000
DTEND;TZID=America/Sao_Paulo:20251204T180000
DTSTAMP:20260424T021651
CREATED:20251204T193945Z
LAST-MODIFIED:20251204T193945Z
UID:47446-1764856800-1764871200@www.goiasfomento.com
SUMMARY:Vinícius Luz: Atendimentos e Despachos Internos.
DESCRIPTION:
URL:https://www.goiasfomento.com/agenda/vinicius-luz-atendimentos-e-despachos-internos-190/
LOCATION:Gabinete da Diretoria de Operações da GoiásFomento – Agência de Fomento de Goiás.
CATEGORIES:Diretoria de Operações
END:VEVENT
BEGIN:VEVENT
DTSTART;TZID=America/Sao_Paulo:20251205T080000
DTEND;TZID=America/Sao_Paulo:20251205T120000
DTSTAMP:20260424T021651
CREATED:20251204T194242Z
LAST-MODIFIED:20251204T194242Z
UID:47448-1764921600-1764936000@www.goiasfomento.com
SUMMARY:Vinícius Luz: Atendimentos e Despachos Internos.
DESCRIPTION:
URL:https://www.goiasfomento.com/agenda/vinicius-luz-atendimentos-e-despachos-internos-191/
LOCATION:Gabinete da Diretoria de Operações da GoiásFomento – Agência de Fomento de Goiás.
CATEGORIES:Diretoria de Operações
END:VEVENT
BEGIN:VEVENT
DTSTART;TZID=America/Sao_Paulo:20251205T140000
DTEND;TZID=America/Sao_Paulo:20251205T150000
DTSTAMP:20260424T021651
CREATED:20251208T151909Z
LAST-MODIFIED:20251210T140839Z
UID:47504-1764943200-1764946800@www.goiasfomento.com
SUMMARY:Vinícius Luz: Atendimentos e Despachos Internos.
DESCRIPTION:
URL:https://www.goiasfomento.com/agenda/vinicius-luz-atendimentos-e-despachos-internos-193/
LOCATION:Gabinete da Diretoria de Operações da GoiásFomento – Agência de Fomento de Goiás.
CATEGORIES:Diretoria de Operações
END:VEVENT
BEGIN:VEVENT
DTSTART;TZID=America/Sao_Paulo:20251205T150000
DTEND;TZID=America/Sao_Paulo:20251205T180000
DTSTAMP:20260424T021651
CREATED:20251210T140944Z
LAST-MODIFIED:20251210T140944Z
UID:47534-1764946800-1764957600@www.goiasfomento.com
SUMMARY:Vinícius Luz: Homenagem ao José Mário Schreiner.
DESCRIPTION:
URL:https://www.goiasfomento.com/agenda/vinicius-luz-homenagem-ao-jose-mario-schreiner/
LOCATION:Jataí – GO.
CATEGORIES:Diretoria de Operações
END:VEVENT
BEGIN:VEVENT
DTSTART;TZID=America/Sao_Paulo:20251208T080000
DTEND;TZID=America/Sao_Paulo:20251208T120000
DTSTAMP:20260424T021651
CREATED:20251208T134045Z
LAST-MODIFIED:20251208T134045Z
UID:47455-1765180800-1765195200@www.goiasfomento.com
SUMMARY:Vinícius Luz: Atendimentos e Despachos Internos.
DESCRIPTION:
URL:https://www.goiasfomento.com/agenda/vinicius-luz-atendimentos-e-despachos-internos-192/
LOCATION:Gabinete da Diretoria de Operações da GoiásFomento – Agência de Fomento de Goiás.
CATEGORIES:Diretoria de Operações
END:VEVENT
BEGIN:VEVENT
DTSTART;TZID=America/Sao_Paulo:20251208T140000
DTEND;TZID=America/Sao_Paulo:20251208T180000
DTSTAMP:20260424T021651
CREATED:20251209T141518Z
LAST-MODIFIED:20251209T141518Z
UID:47527-1765202400-1765216800@www.goiasfomento.com
SUMMARY:Vinícius Luz: Atendimentos e Despachos Internos.
DESCRIPTION:
URL:https://www.goiasfomento.com/agenda/vinicius-luz-atendimentos-e-despachos-internos-194/
LOCATION:Gabinete da Diretoria de Operações da GoiásFomento – Agência de Fomento de Goiás.
CATEGORIES:Diretoria de Operações
END:VEVENT
BEGIN:VEVENT
DTSTART;TZID=America/Sao_Paulo:20251209T080000
DTEND;TZID=America/Sao_Paulo:20251209T120000
DTSTAMP:20260424T021651
CREATED:20251209T143219Z
LAST-MODIFIED:20251209T143219Z
UID:47529-1765267200-1765281600@www.goiasfomento.com
SUMMARY:Vinícius Luz: Atendimentos e Despachos Internos.
DESCRIPTION:
URL:https://www.goiasfomento.com/agenda/vinicius-luz-atendimentos-e-despachos-internos-195/
LOCATION:Gabinete da Diretoria de Operações da GoiásFomento – Agência de Fomento de Goiás.
CATEGORIES:Diretoria de Operações
END:VEVENT
BEGIN:VEVENT
DTSTART;TZID=America/Sao_Paulo:20251209T140000
DTEND;TZID=America/Sao_Paulo:20251209T180000
DTSTAMP:20260424T021651
CREATED:20251209T150412Z
LAST-MODIFIED:20251209T150412Z
UID:47531-1765288800-1765303200@www.goiasfomento.com
SUMMARY:Vinícius Luz: Atendimentos e Despachos Internos.
DESCRIPTION:
URL:https://www.goiasfomento.com/agenda/vinicius-luz-atendimentos-e-despachos-internos-196/
LOCATION:Gabinete da Diretoria de Operações da GoiásFomento – Agência de Fomento de Goiás.
CATEGORIES:Diretoria de Operações
END:VEVENT
BEGIN:VEVENT
DTSTART;TZID=America/Sao_Paulo:20251210T080000
DTEND;TZID=America/Sao_Paulo:20251210T120000
DTSTAMP:20260424T021651
CREATED:20251210T141147Z
LAST-MODIFIED:20251210T141147Z
UID:47536-1765353600-1765368000@www.goiasfomento.com
SUMMARY:Vinícius Luz: Atendimentos e Despachos Internos.
DESCRIPTION:
URL:https://www.goiasfomento.com/agenda/vinicius-luz-atendimentos-e-despachos-internos-197/
LOCATION:Gabinete da Diretoria de Operações da GoiásFomento – Agência de Fomento de Goiás.
CATEGORIES:Diretoria de Operações
END:VEVENT
BEGIN:VEVENT
DTSTART;TZID=America/Sao_Paulo:20251210T140000
DTEND;TZID=America/Sao_Paulo:20251210T180000
DTSTAMP:20260424T021651
CREATED:20251210T144746Z
LAST-MODIFIED:20251210T144746Z
UID:47544-1765375200-1765389600@www.goiasfomento.com
SUMMARY:Vinícius Luz: Atendimentos e Despachos Internos.
DESCRIPTION:
URL:https://www.goiasfomento.com/agenda/vinicius-luz-atendimentos-e-despachos-internos-198/
LOCATION:Gabinete da Presidência da GoiásFomento – Agência de Fomento de Goiás.
CATEGORIES:Diretoria de Operações
END:VEVENT
BEGIN:VEVENT
DTSTART;TZID=America/Sao_Paulo:20251211T080000
DTEND;TZID=America/Sao_Paulo:20251211T120000
DTSTAMP:20260424T021651
CREATED:20251210T152034Z
LAST-MODIFIED:20251210T152034Z
UID:47554-1765440000-1765454400@www.goiasfomento.com
SUMMARY:Vinícius Luz: Atendimentos e Despachos Internos.
DESCRIPTION:
URL:https://www.goiasfomento.com/agenda/vinicius-luz-atendimentos-e-despachos-internos-199/
LOCATION:Gabinete da Diretoria de Operações da GoiásFomento – Agência de Fomento de Goiás.
CATEGORIES:Diretoria de Operações
END:VEVENT
BEGIN:VEVENT
DTSTART;TZID=America/Sao_Paulo:20251211T140000
DTEND;TZID=America/Sao_Paulo:20251211T180000
DTSTAMP:20260424T021651
CREATED:20251211T173517Z
LAST-MODIFIED:20251211T173517Z
UID:47556-1765461600-1765476000@www.goiasfomento.com
SUMMARY:Vinícius Luz: Atendimentos e Despachos Internos.
DESCRIPTION:
URL:https://www.goiasfomento.com/agenda/vinicius-luz-atendimentos-e-despachos-internos-200/
LOCATION:Gabinete da Diretoria de Operações da GoiásFomento – Agência de Fomento de Goiás.
CATEGORIES:Diretoria de Operações
END:VEVENT
BEGIN:VEVENT
DTSTART;TZID=America/Sao_Paulo:20251212T080000
DTEND;TZID=America/Sao_Paulo:20251212T120000
DTSTAMP:20260424T021651
CREATED:20251212T185520Z
LAST-MODIFIED:20251212T185527Z
UID:47564-1765526400-1765540800@www.goiasfomento.com
SUMMARY:Vinícius Luz: Atendimentos e Despachos Internos.
DESCRIPTION:
URL:https://www.goiasfomento.com/agenda/vinicius-luz-atendimentos-e-despachos-internos-201/
LOCATION:Diretoria de Operações da GoiásFomento – Agência de Fomento de Goiás.
CATEGORIES:Diretoria de Operações
END:VEVENT
BEGIN:VEVENT
DTSTART;TZID=America/Sao_Paulo:20251212T140000
DTEND;TZID=America/Sao_Paulo:20251212T180000
DTSTAMP:20260424T021651
CREATED:20251212T185549Z
LAST-MODIFIED:20251212T185549Z
UID:47566-1765548000-1765562400@www.goiasfomento.com
SUMMARY:Vinícius Luz: Atendimentos e Despachos Internos.
DESCRIPTION:
URL:https://www.goiasfomento.com/agenda/vinicius-luz-atendimentos-e-despachos-internos-202/
LOCATION:Gabinete da Diretoria de Operações da GoiásFomento – Agência de Fomento de Goiás.
CATEGORIES:Diretoria de Operações
END:VEVENT
BEGIN:VEVENT
DTSTART;TZID=America/Sao_Paulo:20251215T080000
DTEND;TZID=America/Sao_Paulo:20251215T120000
DTSTAMP:20260424T021651
CREATED:20251215T134255Z
LAST-MODIFIED:20251215T134255Z
UID:47625-1765785600-1765800000@www.goiasfomento.com
SUMMARY:Vinícius Luz: Atendimentos e Despachos Internos.
DESCRIPTION:
URL:https://www.goiasfomento.com/agenda/vinicius-luz-atendimentos-e-despachos-internos-203/
LOCATION:Gabinete da Diretoria de Operações da GoiásFomento – Agência de Fomento de Goiás.
CATEGORIES:Diretoria de Operações
END:VEVENT
BEGIN:VEVENT
DTSTART;TZID=America/Sao_Paulo:20251215T140000
DTEND;TZID=America/Sao_Paulo:20251215T180000
DTSTAMP:20260424T021651
CREATED:20251215T134456Z
LAST-MODIFIED:20251215T134456Z
UID:47631-1765807200-1765821600@www.goiasfomento.com
SUMMARY:Vinícius Luz: Atendimentos e Despachos Internos.
DESCRIPTION:
URL:https://www.goiasfomento.com/agenda/vinicius-luz-atendimentos-e-despachos-internos-204/
LOCATION:Gabinete da Diretoria de Operações da GoiásFomento – Agência de Fomento de Goiás.
CATEGORIES:Diretoria de Operações
END:VEVENT
BEGIN:VEVENT
DTSTART;TZID=America/Sao_Paulo:20251216T080000
DTEND;TZID=America/Sao_Paulo:20251216T120000
DTSTAMP:20260424T021651
CREATED:20251215T134811Z
LAST-MODIFIED:20251215T134811Z
UID:47633-1765872000-1765886400@www.goiasfomento.com
SUMMARY:Vinícius Luz: Atendimentos e Despachos Internos.
DESCRIPTION:
URL:https://www.goiasfomento.com/agenda/vinicius-luz-atendimentos-e-despachos-internos-205/
CATEGORIES:Diretoria de Operações
END:VEVENT
BEGIN:VEVENT
DTSTART;TZID=America/Sao_Paulo:20251216T140000
DTEND;TZID=America/Sao_Paulo:20251216T180000
DTSTAMP:20260424T021651
CREATED:20251215T134832Z
LAST-MODIFIED:20251215T134931Z
UID:47635-1765893600-1765908000@www.goiasfomento.com
SUMMARY:Vinícius Luz: Atendimentos e Despachos Internos.
DESCRIPTION:
URL:https://www.goiasfomento.com/agenda/vinicius-luz-atendimentos-e-despachos-internos-206/
LOCATION:Gabinete da Diretoria de Operações da GoiásFomento – Agência de Fomento de Goiás.
CATEGORIES:Diretoria de Operações
END:VEVENT
BEGIN:VEVENT
DTSTART;TZID=America/Sao_Paulo:20251217T080000
DTEND;TZID=America/Sao_Paulo:20251217T120000
DTSTAMP:20260424T021651
CREATED:20251216T205012Z
LAST-MODIFIED:20251216T205012Z
UID:47655-1765958400-1765972800@www.goiasfomento.com
SUMMARY:Vinícius Luz: Atendimentos e Despachos Internos.
DESCRIPTION:
URL:https://www.goiasfomento.com/agenda/vinicius-luz-atendimentos-e-despachos-internos-207/
LOCATION:Gabinete da Diretoria de Operações da GoiásFomento – Agência de Fomento de Goiás.
CATEGORIES:Diretoria de Operações
END:VEVENT
END:VCALENDAR