BEGIN:VCALENDAR
VERSION:2.0
PRODID:-//GoiásFomento - Agência de Fomento - ECPv6.15.20//NONSGML v1.0//EN
CALSCALE:GREGORIAN
METHOD:PUBLISH
X-WR-CALNAME:GoiásFomento - Agência de Fomento
X-ORIGINAL-URL:https://www.goiasfomento.com
X-WR-CALDESC:Eventos para GoiásFomento - Agência de Fomento
REFRESH-INTERVAL;VALUE=DURATION:PT1H
X-Robots-Tag:noindex
X-PUBLISHED-TTL:PT1H
BEGIN:VTIMEZONE
TZID:America/Sao_Paulo
BEGIN:STANDARD
TZOFFSETFROM:-0300
TZOFFSETTO:-0300
TZNAME:-03
DTSTART:20240101T000000
END:STANDARD
END:VTIMEZONE
BEGIN:VEVENT
DTSTART;TZID=America/Sao_Paulo:20251103T080000
DTEND;TZID=America/Sao_Paulo:20251103T120000
DTSTAMP:20260424T033934
CREATED:20251104T112606Z
LAST-MODIFIED:20251104T112606Z
UID:46846-1762156800-1762171200@www.goiasfomento.com
SUMMARY:Vinícius Luz: Atendimentos e Despachos Internos.
DESCRIPTION:
URL:https://www.goiasfomento.com/agenda/vinicius-luz-atendimentos-e-despachos-internos-148/
LOCATION:Gabinete da Diretoria de Operações da GoiásFomento – Agência de Fomento de Goiás.
CATEGORIES:Diretoria de Operações
END:VEVENT
BEGIN:VEVENT
DTSTART;TZID=America/Sao_Paulo:20251103T140000
DTEND;TZID=America/Sao_Paulo:20251103T150000
DTSTAMP:20260424T033934
CREATED:20251104T175814Z
LAST-MODIFIED:20251104T175814Z
UID:46902-1762178400-1762182000@www.goiasfomento.com
SUMMARY:Vinícius Luz: Atendimentos e Despachos Internos.
DESCRIPTION:
URL:https://www.goiasfomento.com/agenda/vinicius-luz-atendimentos-e-despachos-internos-155/
LOCATION:Gabinete da Diretoria de Operações da GoiásFomento – Agência de Fomento de Goiás.
CATEGORIES:Diretoria de Operações
END:VEVENT
BEGIN:VEVENT
DTSTART;TZID=America/Sao_Paulo:20251103T150000
DTEND;TZID=America/Sao_Paulo:20251103T170000
DTSTAMP:20260424T033934
CREATED:20251104T175523Z
LAST-MODIFIED:20251104T175523Z
UID:46892-1762182000-1762189200@www.goiasfomento.com
SUMMARY:Vinícius Luz: Reunião: GoiasFomento com o Leandro Vilela - Prefeito de Aparecida de Goiânia.
DESCRIPTION:
URL:https://www.goiasfomento.com/agenda/vinicius-luz-reuniao-goiasfomento-com-o-leandro-vilela-prefeito-de-aparecida-de-goiania/
LOCATION:Cidade Administrativa Maguito Vilela
CATEGORIES:Diretoria de Operações
END:VEVENT
BEGIN:VEVENT
DTSTART;TZID=America/Sao_Paulo:20251103T170000
DTEND;TZID=America/Sao_Paulo:20251103T180000
DTSTAMP:20260424T033934
CREATED:20251104T175834Z
LAST-MODIFIED:20251104T175839Z
UID:46909-1762189200-1762192800@www.goiasfomento.com
SUMMARY:Vinícius Luz: Atendimentos e Despachos Internos.
DESCRIPTION:
URL:https://www.goiasfomento.com/agenda/vinicius-luz-atendimentos-e-despachos-internos-156/
LOCATION:Gabinete da Diretoria de Operações da GoiásFomento – Agência de Fomento de Goiás.
CATEGORIES:Diretoria de Operações
END:VEVENT
BEGIN:VEVENT
DTSTART;TZID=America/Sao_Paulo:20251104T080000
DTEND;TZID=America/Sao_Paulo:20251104T090000
DTSTAMP:20260424T033934
CREATED:20251104T173749Z
LAST-MODIFIED:20251104T173749Z
UID:46862-1762243200-1762246800@www.goiasfomento.com
SUMMARY:Vinícius Luz: Atendimentos e Despachos Internos.
DESCRIPTION:
URL:https://www.goiasfomento.com/agenda/vinicius-luz-atendimentos-e-despachos-internos-149/
LOCATION:Gabinete da Diretoria de Operações da GoiásFomento – Agência de Fomento de Goiás.
CATEGORIES:Diretoria de Operações
END:VEVENT
BEGIN:VEVENT
DTSTART;TZID=America/Sao_Paulo:20251104T090000
DTEND;TZID=America/Sao_Paulo:20251104T110000
DTSTAMP:20260424T033934
CREATED:20251104T173331Z
LAST-MODIFIED:20251104T173331Z
UID:46860-1762246800-1762254000@www.goiasfomento.com
SUMMARY:Vinícius Luz: Evento de lançamento do Programa GoiásFomento Até Você.
DESCRIPTION:
URL:https://www.goiasfomento.com/agenda/vinicius-luz-evento-de-lancamento-do-programa-goiasfomento-ate-voce/
LOCATION:praça civica
CATEGORIES:Diretoria de Operações
END:VEVENT
BEGIN:VEVENT
DTSTART;TZID=America/Sao_Paulo:20251104T110000
DTEND;TZID=America/Sao_Paulo:20251104T120000
DTSTAMP:20260424T033934
CREATED:20251104T173816Z
LAST-MODIFIED:20251104T173816Z
UID:46864-1762254000-1762257600@www.goiasfomento.com
SUMMARY:Vinícius Luz: Atendimentos e Despachos Internos.
DESCRIPTION:
URL:https://www.goiasfomento.com/agenda/vinicius-luz-atendimentos-e-despachos-internos-150/
LOCATION:Gabinete da Diretoria de Operações da GoiásFomento – Agência de Fomento de Goiás.
CATEGORIES:Diretoria de Operações
END:VEVENT
BEGIN:VEVENT
DTSTART;TZID=America/Sao_Paulo:20251104T140000
DTEND;TZID=America/Sao_Paulo:20251104T180000
DTSTAMP:20260424T033934
CREATED:20251104T175945Z
LAST-MODIFIED:20251104T175945Z
UID:46914-1762264800-1762279200@www.goiasfomento.com
SUMMARY:Vinícius Luz: Atendimentos e Despachos Internos.
DESCRIPTION:
URL:https://www.goiasfomento.com/agenda/vinicius-luz-atendimentos-e-despachos-internos-157/
LOCATION:Gabinete da Diretoria de Operações da GoiásFomento – Agência de Fomento de Goiás.
CATEGORIES:Diretoria de Operações
END:VEVENT
BEGIN:VEVENT
DTSTART;TZID=America/Sao_Paulo:20251105T080000
DTEND;TZID=America/Sao_Paulo:20251105T120000
DTSTAMP:20260424T033934
CREATED:20251105T150815Z
LAST-MODIFIED:20251105T150815Z
UID:46963-1762329600-1762344000@www.goiasfomento.com
SUMMARY:Vinícius Luz: Atendimentos e Despachos Internos.
DESCRIPTION:
URL:https://www.goiasfomento.com/agenda/vinicius-luz-atendimentos-e-despachos-internos-158/
LOCATION:Gabinete da Diretoria de Operações da GoiásFomento – Agência de Fomento de Goiás.
CATEGORIES:Diretoria de Operações
END:VEVENT
BEGIN:VEVENT
DTSTART;TZID=America/Sao_Paulo:20251105T140000
DTEND;TZID=America/Sao_Paulo:20251105T180000
DTSTAMP:20260424T033934
CREATED:20251105T151531Z
LAST-MODIFIED:20251105T151531Z
UID:46965-1762351200-1762365600@www.goiasfomento.com
SUMMARY:Vinícius Luz: Atendimentos e Despachos Internos.
DESCRIPTION:
URL:https://www.goiasfomento.com/agenda/vinicius-luz-atendimentos-e-despachos-internos-159/
CATEGORIES:Diretoria de Operações
END:VEVENT
BEGIN:VEVENT
DTSTART;VALUE=DATE:20251106
DTEND;VALUE=DATE:20251107
DTSTAMP:20260424T033934
CREATED:20251105T185827Z
LAST-MODIFIED:20251105T185827Z
UID:46971-1762387200-1762473599@www.goiasfomento.com
SUMMARY:Vinícius Luz: GOIÁS SOCIAL em Planaltina de Goiás.
DESCRIPTION:
URL:https://www.goiasfomento.com/agenda/vinicius-luz-goias-social-em-planaltina-de-goias/
CATEGORIES:Diretoria de Operações
END:VEVENT
BEGIN:VEVENT
DTSTART;TZID=America/Sao_Paulo:20251107T080000
DTEND;TZID=America/Sao_Paulo:20251107T120000
DTSTAMP:20260424T033934
CREATED:20251107T184828Z
LAST-MODIFIED:20251107T185111Z
UID:47000-1762502400-1762516800@www.goiasfomento.com
SUMMARY:Vinícius Luz: GOIÁS SOCIAL em Planaltina de Goiás.
DESCRIPTION:
URL:https://www.goiasfomento.com/agenda/vinicius-luz-goias-social-em-planaltina-de-goias-2/
LOCATION:Planaltina/GO
CATEGORIES:Diretoria de Operações
END:VEVENT
BEGIN:VEVENT
DTSTART;TZID=America/Sao_Paulo:20251107T140000
DTEND;TZID=America/Sao_Paulo:20251107T180000
DTSTAMP:20260424T033934
CREATED:20251107T185510Z
LAST-MODIFIED:20251107T185510Z
UID:47002-1762524000-1762538400@www.goiasfomento.com
SUMMARY:Vinícius Luz: Inauguração do Primeiro Mercadão do Entorno.
DESCRIPTION:
URL:https://www.goiasfomento.com/agenda/vinicius-luz-inauguracao-do-primeiro-mercadao-do-entorno/
LOCATION:Águas Lindas de Goiás.
CATEGORIES:Diretoria de Operações
END:VEVENT
BEGIN:VEVENT
DTSTART;TZID=America/Sao_Paulo:20251110T080000
DTEND;TZID=America/Sao_Paulo:20251110T090000
DTSTAMP:20260424T033934
CREATED:20251111T133117Z
LAST-MODIFIED:20251111T133117Z
UID:47033-1762761600-1762765200@www.goiasfomento.com
SUMMARY:Vinícius Luz: Atendimentos e Despachos Internos.
DESCRIPTION:
URL:https://www.goiasfomento.com/agenda/vinicius-luz-atendimentos-e-despachos-internos-160/
CATEGORIES:Diretoria de Operações
END:VEVENT
BEGIN:VEVENT
DTSTART;TZID=America/Sao_Paulo:20251110T090000
DTEND;TZID=America/Sao_Paulo:20251110T100000
DTSTAMP:20260424T033934
CREATED:20251111T133048Z
LAST-MODIFIED:20251111T133048Z
UID:47031-1762765200-1762768800@www.goiasfomento.com
SUMMARY:Vinícius Luz: Reunião com Fernando Pellozo – Prefeito de Senador Canedo-GO.
DESCRIPTION:Pauta:  Parceria da  GoiásFomento com o Município.
URL:https://www.goiasfomento.com/agenda/vinicius-luz-reuniao-com-fernando-pellozo-prefeito-de-senador-canedo-go/
LOCATION:Agência de Fomento de Goiás
CATEGORIES:Diretoria de Operações
END:VEVENT
BEGIN:VEVENT
DTSTART;TZID=America/Sao_Paulo:20251110T100000
DTEND;TZID=America/Sao_Paulo:20251110T120000
DTSTAMP:20260424T033934
CREATED:20251111T133153Z
LAST-MODIFIED:20251111T133153Z
UID:47035-1762768800-1762776000@www.goiasfomento.com
SUMMARY:Vinícius Luz: Atendimentos e Despachos Internos.
DESCRIPTION:
URL:https://www.goiasfomento.com/agenda/vinicius-luz-atendimentos-e-despachos-internos-161/
LOCATION:Gabinete da Diretoria de Operações da GoiásFomento – Agência de Fomento de Goiás.
CATEGORIES:Diretoria de Operações
END:VEVENT
BEGIN:VEVENT
DTSTART;TZID=America/Sao_Paulo:20251110T140000
DTEND;TZID=America/Sao_Paulo:20251110T150000
DTSTAMP:20260424T033934
CREATED:20251111T133712Z
LAST-MODIFIED:20251111T133712Z
UID:47037-1762783200-1762786800@www.goiasfomento.com
SUMMARY:Vinícius Luz: Reunião com Giselle Pereira  - Secretaria Municipal de Educação deGoiânia-GO.
DESCRIPTION:
URL:https://www.goiasfomento.com/agenda/vinicius-luz-reuniao-com-giselle-pereira-secretaria-municipal-de-educacao-degoiania-go/
LOCATION:SME – Paço Municipal\, bloco C. Primeiro andar.
CATEGORIES:Diretoria de Operações
END:VEVENT
BEGIN:VEVENT
DTSTART;TZID=America/Sao_Paulo:20251110T150000
DTEND;TZID=America/Sao_Paulo:20251110T180000
DTSTAMP:20260424T033934
CREATED:20251111T133910Z
LAST-MODIFIED:20251111T133910Z
UID:47042-1762786800-1762797600@www.goiasfomento.com
SUMMARY:Vinícius Luz: Atendimentos e Despachos Internos.
DESCRIPTION:
URL:https://www.goiasfomento.com/agenda/vinicius-luz-atendimentos-e-despachos-internos-163/
LOCATION:Gabinete da Diretoria de Operações da GoiásFomento – Agência de Fomento de Goiás.
CATEGORIES:Diretoria de Operações
END:VEVENT
BEGIN:VEVENT
DTSTART;TZID=America/Sao_Paulo:20251111T080000
DTEND;TZID=America/Sao_Paulo:20251111T120000
DTSTAMP:20260424T033934
CREATED:20251111T134338Z
LAST-MODIFIED:20251111T134417Z
UID:47044-1762848000-1762862400@www.goiasfomento.com
SUMMARY:Vinícius Luz: GOIÁS SOCIAL em Novo Gama de Goiás.
DESCRIPTION:
URL:https://www.goiasfomento.com/agenda/vinicius-luz-goias-social-em-novo-gama-de-goias/
LOCATION:Novo Gama – Goiás
CATEGORIES:Diretoria de Operações
END:VEVENT
BEGIN:VEVENT
DTSTART;TZID=America/Sao_Paulo:20251111T140000
DTEND;TZID=America/Sao_Paulo:20251111T180000
DTSTAMP:20260424T033934
CREATED:20251111T133758Z
LAST-MODIFIED:20251111T134145Z
UID:47040-1762869600-1762884000@www.goiasfomento.com
SUMMARY:Vinícius Luz: Atendimentos e Despachos Internos.
DESCRIPTION:
URL:https://www.goiasfomento.com/agenda/vinicius-luz-atendimentos-e-despachos-internos-162/
LOCATION:Gabinete da Diretoria de Operações da GoiásFomento – Agência de Fomento de Goiás.
CATEGORIES:Diretoria de Operações
END:VEVENT
BEGIN:VEVENT
DTSTART;TZID=America/Sao_Paulo:20251112T080000
DTEND;TZID=America/Sao_Paulo:20251112T120000
DTSTAMP:20260424T033934
CREATED:20251112T183959Z
LAST-MODIFIED:20251112T183959Z
UID:47051-1762934400-1762948800@www.goiasfomento.com
SUMMARY:Vinícius Luz: Atendimentos e Despachos Internos.
DESCRIPTION:
URL:https://www.goiasfomento.com/agenda/vinicius-luz-atendimentos-e-despachos-internos-164/
CATEGORIES:Diretoria de Operações
END:VEVENT
BEGIN:VEVENT
DTSTART;TZID=America/Sao_Paulo:20251112T140000
DTEND;TZID=America/Sao_Paulo:20251112T180000
DTSTAMP:20260424T033934
CREATED:20251112T184157Z
LAST-MODIFIED:20251112T184157Z
UID:47053-1762956000-1762970400@www.goiasfomento.com
SUMMARY:Vinícius Luz: Atendimentos e Despachos Internos.
DESCRIPTION:
URL:https://www.goiasfomento.com/agenda/vinicius-luz-atendimentos-e-despachos-internos-165/
LOCATION:Gabinete da Diretoria de Operações da GoiásFomento – Agência de Fomento de Goiás.
CATEGORIES:Diretoria de Operações
END:VEVENT
BEGIN:VEVENT
DTSTART;TZID=America/Sao_Paulo:20251113T080000
DTEND;TZID=America/Sao_Paulo:20251113T120000
DTSTAMP:20260424T033934
CREATED:20251113T165710Z
LAST-MODIFIED:20251113T165710Z
UID:47088-1763020800-1763035200@www.goiasfomento.com
SUMMARY:Vinícius Luz: Atendimentos e Despachos Internos.
DESCRIPTION:
URL:https://www.goiasfomento.com/agenda/vinicius-luz-atendimentos-e-despachos-internos-166/
LOCATION:Gabinete da Diretoria de Operações da GoiásFomento – Agência de Fomento de Goiás.
CATEGORIES:Diretoria de Operações
END:VEVENT
BEGIN:VEVENT
DTSTART;TZID=America/Sao_Paulo:20251113T140000
DTEND;TZID=America/Sao_Paulo:20251113T180000
DTSTAMP:20260424T033934
CREATED:20251113T165742Z
LAST-MODIFIED:20251113T165742Z
UID:47090-1763042400-1763056800@www.goiasfomento.com
SUMMARY:Vinícius Luz: Atendimentos e Despachos Internos.
DESCRIPTION:
URL:https://www.goiasfomento.com/agenda/vinicius-luz-atendimentos-e-despachos-internos-167/
LOCATION:Gabinete da Diretoria de Operações da GoiásFomento – Agência de Fomento de Goiás.
CATEGORIES:Diretoria de Operações
END:VEVENT
BEGIN:VEVENT
DTSTART;TZID=America/Sao_Paulo:20251114T080000
DTEND;TZID=America/Sao_Paulo:20251114T120000
DTSTAMP:20260424T033934
CREATED:20251114T150017Z
LAST-MODIFIED:20251114T150017Z
UID:47096-1763107200-1763121600@www.goiasfomento.com
SUMMARY:Vinícius Luz: Atendimentos e Despachos Internos.
DESCRIPTION:
URL:https://www.goiasfomento.com/agenda/vinicius-luz-atendimentos-e-despachos-internos-168/
CATEGORIES:Diretoria de Operações
END:VEVENT
BEGIN:VEVENT
DTSTART;TZID=America/Sao_Paulo:20251114T140000
DTEND;TZID=America/Sao_Paulo:20251114T160000
DTSTAMP:20260424T033934
CREATED:20251117T203809Z
LAST-MODIFIED:20251117T203935Z
UID:47104-1763128800-1763136000@www.goiasfomento.com
SUMMARY:Vinícius Luz: Reunião com Ildelfonso com os Prefeitos  Kleber Freitas -Santo Antônio de Goias e Cleiton Melo -Itauçu-Goiás.
DESCRIPTION:
URL:https://www.goiasfomento.com/agenda/vinicius-luz-reuniao-com-prefeitos-e-empresarios/
LOCATION:Sala de Reuniões da Diretoria – Agência de Fomento de Goiás.
CATEGORIES:Diretoria de Operações
END:VEVENT
BEGIN:VEVENT
DTSTART;TZID=America/Sao_Paulo:20251114T160000
DTEND;TZID=America/Sao_Paulo:20251114T180000
DTSTAMP:20260424T033934
CREATED:20251117T204028Z
LAST-MODIFIED:20251117T204039Z
UID:47109-1763136000-1763143200@www.goiasfomento.com
SUMMARY:Vinícius Luz: Reunião com Ildelfonso e Empresários.
DESCRIPTION:
URL:https://www.goiasfomento.com/agenda/vinicius-luz-reuniao-com-ildelfonso-e-empresarios/
LOCATION:Gabinete da Diretoria de Operações da GoiásFomento – Agência de Fomento de Goiás.
CATEGORIES:Diretoria de Operações
END:VEVENT
BEGIN:VEVENT
DTSTART;TZID=America/Sao_Paulo:20251117T080000
DTEND;TZID=America/Sao_Paulo:20251117T090000
DTSTAMP:20260424T033934
CREATED:20251117T204620Z
LAST-MODIFIED:20251117T204620Z
UID:47111-1763366400-1763370000@www.goiasfomento.com
SUMMARY:Vinícius Luz: Atendimentos e Despachos Internos.
DESCRIPTION:
URL:https://www.goiasfomento.com/agenda/vinicius-luz-atendimentos-e-despachos-internos-169/
LOCATION:Gabinete da Diretoria de Operações da GoiásFomento – Agência de Fomento de Goiás.
CATEGORIES:Diretoria de Operações
END:VEVENT
BEGIN:VEVENT
DTSTART;TZID=America/Sao_Paulo:20251117T090000
DTEND;TZID=America/Sao_Paulo:20251117T100000
DTSTAMP:20260424T033934
CREATED:20251117T204824Z
LAST-MODIFIED:20251117T204824Z
UID:47113-1763370000-1763373600@www.goiasfomento.com
SUMMARY:Vinícius Luz:  Reunião com Janio Pacheco - Prefeito e Secretarios de Ipameri - Goiás.
DESCRIPTION:
URL:https://www.goiasfomento.com/agenda/vinicius-luz-reuniao-com-janio-pacheco-prefeito-e-secretarios-de-ipameri-goias/
LOCATION:Gabinete da Diretoria de Operações da GoiásFomento – Agência de Fomento de Goiás.
CATEGORIES:Diretoria de Operações
END:VEVENT
BEGIN:VEVENT
DTSTART;TZID=America/Sao_Paulo:20251117T100000
DTEND;TZID=America/Sao_Paulo:20251117T120000
DTSTAMP:20260424T033934
CREATED:20251117T204908Z
LAST-MODIFIED:20251117T204908Z
UID:47115-1763373600-1763380800@www.goiasfomento.com
SUMMARY:Vinícius Luz: Atendimentos e Despachos Internos.
DESCRIPTION:
URL:https://www.goiasfomento.com/agenda/vinicius-luz-atendimentos-e-despachos-internos-170/
LOCATION:Gabinete da Diretoria de Operações da GoiásFomento – Agência de Fomento de Goiás.
CATEGORIES:Diretoria de Operações
END:VEVENT
END:VCALENDAR