BEGIN:VCALENDAR
VERSION:2.0
PRODID:-//GoiásFomento - Agência de Fomento - ECPv6.15.20//NONSGML v1.0//EN
CALSCALE:GREGORIAN
METHOD:PUBLISH
X-WR-CALNAME:GoiásFomento - Agência de Fomento
X-ORIGINAL-URL:https://www.goiasfomento.com
X-WR-CALDESC:Eventos para GoiásFomento - Agência de Fomento
REFRESH-INTERVAL;VALUE=DURATION:PT1H
X-Robots-Tag:noindex
X-PUBLISHED-TTL:PT1H
BEGIN:VTIMEZONE
TZID:America/Sao_Paulo
BEGIN:STANDARD
TZOFFSETFROM:-0300
TZOFFSETTO:-0300
TZNAME:-03
DTSTART:20240101T000000
END:STANDARD
END:VTIMEZONE
BEGIN:VEVENT
DTSTART;TZID=America/Sao_Paulo:20250901T080000
DTEND;TZID=America/Sao_Paulo:20250901T120000
DTSTAMP:20260424T093952
CREATED:20250901T191719Z
LAST-MODIFIED:20250901T191719Z
UID:45794-1756713600-1756728000@www.goiasfomento.com
SUMMARY:Vinícius Luz: Atendimentos e Despachos Internos.
DESCRIPTION:
URL:https://www.goiasfomento.com/agenda/vinicius-luz-atendimentos-e-despachos-internos-68/
LOCATION:Gabinete da Diretoria de Operações da GoiásFomento – Agência de Fomento de Goiás.
CATEGORIES:Diretoria de Operações
END:VEVENT
BEGIN:VEVENT
DTSTART;TZID=America/Sao_Paulo:20250901T140000
DTEND;TZID=America/Sao_Paulo:20250901T180000
DTSTAMP:20260424T093952
CREATED:20250901T191738Z
LAST-MODIFIED:20250901T191738Z
UID:45796-1756735200-1756749600@www.goiasfomento.com
SUMMARY:Vinícius Luz: Atendimentos e Despachos Internos.
DESCRIPTION:
URL:https://www.goiasfomento.com/agenda/vinicius-luz-atendimentos-e-despachos-internos-69/
LOCATION:Gabinete da Diretoria de Operações da GoiásFomento – Agência de Fomento de Goiás.
CATEGORIES:Diretoria de Operações
END:VEVENT
BEGIN:VEVENT
DTSTART;TZID=America/Sao_Paulo:20250902T080000
DTEND;TZID=America/Sao_Paulo:20250902T120000
DTSTAMP:20260424T093952
CREATED:20250902T141232Z
LAST-MODIFIED:20250902T141232Z
UID:45798-1756800000-1756814400@www.goiasfomento.com
SUMMARY:Vinícius Luz: Atendimentos e Despachos Internos.
DESCRIPTION:
URL:https://www.goiasfomento.com/agenda/vinicius-luz-atendimentos-e-despachos-internos-70/
LOCATION:Gabinete da Diretoria de Operações da GoiásFomento – Agência de Fomento de Goiás.
CATEGORIES:Diretoria de Operações
END:VEVENT
BEGIN:VEVENT
DTSTART;TZID=America/Sao_Paulo:20250902T140000
DTEND;TZID=America/Sao_Paulo:20250902T163000
DTSTAMP:20260424T093952
CREATED:20250902T173202Z
LAST-MODIFIED:20250902T173202Z
UID:45815-1756821600-1756830600@www.goiasfomento.com
SUMMARY:Vinícius Luz: Atendimentos e Despachos Internos.
DESCRIPTION:
URL:https://www.goiasfomento.com/agenda/vinicius-luz-atendimentos-e-despachos-internos-71/
LOCATION:Gabinete da Diretoria de Operações da GoiásFomento – Agência de Fomento de Goiás.
CATEGORIES:Diretoria de Operações
END:VEVENT
BEGIN:VEVENT
DTSTART;TZID=America/Sao_Paulo:20250902T163000
DTEND;TZID=America/Sao_Paulo:20250902T180000
DTSTAMP:20260424T093952
CREATED:20250902T151128Z
LAST-MODIFIED:20250902T151202Z
UID:45811-1756830600-1756836000@www.goiasfomento.com
SUMMARY:Vinícius Luz: Reunião com Diretor Presidente da CODEGO – Sr. Francisco Júnior + Padre Júnior da Cidade de Heitorai/GO
DESCRIPTION:
URL:https://www.goiasfomento.com/agenda/vinicius-luz-reuniao-com-diretor-presidente-da-codego-sr-francisco-rodrigues-vale-junior-padre-junior-da-cidade-de-heitorai-go/
LOCATION:Sala de Reuniões da Diretoria – Agência de Fomento de Goiás.
CATEGORIES:Diretoria de Operações
END:VEVENT
BEGIN:VEVENT
DTSTART;TZID=America/Sao_Paulo:20250903T080000
DTEND;TZID=America/Sao_Paulo:20250903T120000
DTSTAMP:20260424T093952
CREATED:20250903T185614Z
LAST-MODIFIED:20250903T185614Z
UID:45856-1756886400-1756900800@www.goiasfomento.com
SUMMARY:Vinícius Luz: Atendimentos e Despachos Internos.
DESCRIPTION:
URL:https://www.goiasfomento.com/agenda/vinicius-luz-atendimentos-e-despachos-internos-74/
LOCATION:Gabinete da Diretoria de Operações da GoiásFomento – Agência de Fomento de Goiás.
CATEGORIES:Diretoria de Operações
END:VEVENT
BEGIN:VEVENT
DTSTART;TZID=America/Sao_Paulo:20250903T140000
DTEND;TZID=America/Sao_Paulo:20250903T150000
DTSTAMP:20260424T093952
CREATED:20250903T185321Z
LAST-MODIFIED:20250903T185507Z
UID:45852-1756908000-1756911600@www.goiasfomento.com
SUMMARY:Vinícius Luz: Atendimentos e Despachos Internos.
DESCRIPTION:
URL:https://www.goiasfomento.com/agenda/vinicius-luz-atendimentos-e-despachos-internos-72/
LOCATION:Gabinete da Diretoria de Operações da GoiásFomento – Agência de Fomento de Goiás.
CATEGORIES:Diretoria de Operações
END:VEVENT
BEGIN:VEVENT
DTSTART;TZID=America/Sao_Paulo:20250903T150000
DTEND;TZID=America/Sao_Paulo:20250903T160000
DTSTAMP:20260424T093952
CREATED:20250903T184103Z
LAST-MODIFIED:20250903T184103Z
UID:45843-1756911600-1756915200@www.goiasfomento.com
SUMMARY:Reunião de Alinhamento sobre Fiagro (Fundo de Investimento nas Cadeias Produtivas) Seapa/Goiás Parcerias/ Goiás Fomento.
DESCRIPTION:
URL:https://www.goiasfomento.com/agenda/reuniao-de-alinhamento-sobre-fiagro-fundo-de-investimento-nas-cadeias-produtivas-seapa-goias-parcerias-goias-fomento-2/
LOCATION:Secretaria de Estado de Agricultura\, Pecuária e Abastecimento de Goiás – SEAPA
CATEGORIES:Diretoria de Operações
END:VEVENT
BEGIN:VEVENT
DTSTART;TZID=America/Sao_Paulo:20250903T160000
DTEND;TZID=America/Sao_Paulo:20250903T180000
DTSTAMP:20260424T093952
CREATED:20250903T185542Z
LAST-MODIFIED:20250903T185542Z
UID:45854-1756915200-1756922400@www.goiasfomento.com
SUMMARY:Vinícius Luz: Atendimentos e Despachos Internos.
DESCRIPTION:
URL:https://www.goiasfomento.com/agenda/vinicius-luz-atendimentos-e-despachos-internos-73/
LOCATION:Gabinete da Diretoria de Operações da GoiásFomento – Agência de Fomento de Goiás.
CATEGORIES:Diretoria de Operações
END:VEVENT
BEGIN:VEVENT
DTSTART;VALUE=DATE:20250904
DTEND;VALUE=DATE:20250905
DTSTAMP:20260424T093952
CREATED:20250903T185022Z
LAST-MODIFIED:20250903T185157Z
UID:45848-1756944000-1757030399@www.goiasfomento.com
SUMMARY:Vinícius Luz: Curso Presencial "Inteligência Artificial e uso do Chat GPT.
DESCRIPTION:
URL:https://www.goiasfomento.com/agenda/vinicius-luzcurso-presencial-inteligencia-artificial-e-uso-do-chat-gpt/
LOCATION:Escola de Governo – Endereço: R. C-135\, 439-521 – Jardim América\, Goiânia – GO\, 74275-040
CATEGORIES:Diretoria de Operações
END:VEVENT
BEGIN:VEVENT
DTSTART;TZID=America/Sao_Paulo:20250905T080000
DTEND;TZID=America/Sao_Paulo:20250905T120000
DTSTAMP:20260424T093952
CREATED:20250908T184706Z
LAST-MODIFIED:20250908T184757Z
UID:45925-1757059200-1757073600@www.goiasfomento.com
SUMMARY:Vinícius Luz: Atendimentos e Despachos Internos.
DESCRIPTION:
URL:https://www.goiasfomento.com/agenda/vinicius-luz-atendimentos-e-despachos-internos-75/
LOCATION:Gabinete da Diretoria de Operações da GoiásFomento – Agência de Fomento de Goiás.
CATEGORIES:Diretoria de Operações
END:VEVENT
BEGIN:VEVENT
DTSTART;TZID=America/Sao_Paulo:20250905T140000
DTEND;TZID=America/Sao_Paulo:20250905T180000
DTSTAMP:20260424T093952
CREATED:20250908T184640Z
LAST-MODIFIED:20250908T184823Z
UID:45923-1757080800-1757095200@www.goiasfomento.com
SUMMARY:Vinícius Luz: Acompanhar agenda do Vice Governador Daniel Vilela em Jataí-GO.
DESCRIPTION:
URL:https://www.goiasfomento.com/agenda/vinicius-luz-acompanhar-agenda-do-vice-governador-daniel-vilela-em-jatai-go/
LOCATION:Jataí – GO.
CATEGORIES:Diretoria de Operações
END:VEVENT
BEGIN:VEVENT
DTSTART;TZID=America/Sao_Paulo:20250906T110000
DTEND;TZID=America/Sao_Paulo:20250906T160000
DTSTAMP:20260424T093952
CREATED:20250905T141337Z
LAST-MODIFIED:20250905T142932Z
UID:45902-1757156400-1757174400@www.goiasfomento.com
SUMMARY:Vinícius Luz: Solenidade de Início das Obras de Pavimentação das Rodovias GO-180 e GO-178.
DESCRIPTION:
URL:https://www.goiasfomento.com/agenda/lara-garcia-solenidade-de-inicio-das-obras-de-pavimentacao-das-rodovias-go-180-e-go-178/
LOCATION:Butecão ( ent. BR-364 com a GO-178) – Jataí\, GO\, Brasil
CATEGORIES:Diretoria de Operações
END:VEVENT
BEGIN:VEVENT
DTSTART;TZID=America/Sao_Paulo:20250908T080000
DTEND;TZID=America/Sao_Paulo:20250908T120000
DTSTAMP:20260424T093952
CREATED:20250908T184912Z
LAST-MODIFIED:20250908T184912Z
UID:45927-1757318400-1757332800@www.goiasfomento.com
SUMMARY:Vinícius Luz: Atendimentos e Despachos Internos.
DESCRIPTION:
URL:https://www.goiasfomento.com/agenda/vinicius-luz-atendimentos-e-despachos-internos-76/
LOCATION:Gabinete da Diretoria de Operações da GoiásFomento – Agência de Fomento de Goiás.
CATEGORIES:Diretoria de Operações
END:VEVENT
BEGIN:VEVENT
DTSTART;TZID=America/Sao_Paulo:20250908T140000
DTEND;TZID=America/Sao_Paulo:20250908T180000
DTSTAMP:20260424T093952
CREATED:20250908T184929Z
LAST-MODIFIED:20250908T184929Z
UID:45929-1757340000-1757354400@www.goiasfomento.com
SUMMARY:Vinícius Luz: Atendimentos e Despachos Internos.
DESCRIPTION:
URL:https://www.goiasfomento.com/agenda/vinicius-luz-atendimentos-e-despachos-internos-77/
LOCATION:Gabinete da Diretoria de Operações da GoiásFomento – Agência de Fomento de Goiás.
CATEGORIES:Diretoria de Operações
END:VEVENT
BEGIN:VEVENT
DTSTART;TZID=America/Sao_Paulo:20250909T080000
DTEND;TZID=America/Sao_Paulo:20250909T120000
DTSTAMP:20260424T093952
CREATED:20250908T185210Z
LAST-MODIFIED:20250908T185343Z
UID:45931-1757404800-1757419200@www.goiasfomento.com
SUMMARY:Vinícius Luz: Abertura do Dia do Empreendedor - Cidade Ocidental-GO.
DESCRIPTION:
URL:https://www.goiasfomento.com/agenda/vinicius-luz-abertura-do-dia-do-empreendedor-cidade-ocidental-go/
LOCATION:Cidade Ocidental-GO
CATEGORIES:Diretoria de Operações
END:VEVENT
BEGIN:VEVENT
DTSTART;TZID=America/Sao_Paulo:20250909T140000
DTEND;TZID=America/Sao_Paulo:20250909T180000
DTSTAMP:20260424T093952
CREATED:20250908T185312Z
LAST-MODIFIED:20250908T185312Z
UID:45933-1757426400-1757440800@www.goiasfomento.com
SUMMARY:Vinícius Luz: Atendimentos e Despachos Internos.
DESCRIPTION:
URL:https://www.goiasfomento.com/agenda/vinicius-luz-atendimentos-e-despachos-internos-78/
LOCATION:Gabinete da Diretoria de Operações da GoiásFomento – Agência de Fomento de Goiás.
CATEGORIES:Diretoria de Operações
END:VEVENT
BEGIN:VEVENT
DTSTART;TZID=America/Sao_Paulo:20250910T080000
DTEND;TZID=America/Sao_Paulo:20250910T120000
DTSTAMP:20260424T093952
CREATED:20250910T182420Z
LAST-MODIFIED:20250910T182420Z
UID:45970-1757491200-1757505600@www.goiasfomento.com
SUMMARY:Vinícius Luz: Atendimentos e Despachos Internos.
DESCRIPTION:
URL:https://www.goiasfomento.com/agenda/vinicius-luz-atendimentos-e-despachos-internos-79/
LOCATION:Gabinete da Diretoria de Operações da GoiásFomento – Agência de Fomento de Goiás.
CATEGORIES:Diretoria de Operações
END:VEVENT
BEGIN:VEVENT
DTSTART;TZID=America/Sao_Paulo:20250910T140000
DTEND;TZID=America/Sao_Paulo:20250910T180000
DTSTAMP:20260424T093952
CREATED:20250910T182442Z
LAST-MODIFIED:20250910T182442Z
UID:45972-1757512800-1757527200@www.goiasfomento.com
SUMMARY:Vinícius Luz: Atendimentos e Despachos Internos.
DESCRIPTION:
URL:https://www.goiasfomento.com/agenda/vinicius-luz-atendimentos-e-despachos-internos-80/
LOCATION:Gabinete da Diretoria de Operações da GoiásFomento – Agência de Fomento de Goiás.
CATEGORIES:Diretoria de Operações
END:VEVENT
BEGIN:VEVENT
DTSTART;TZID=America/Sao_Paulo:20250911T080000
DTEND;TZID=America/Sao_Paulo:20250911T120000
DTSTAMP:20260424T093952
CREATED:20250910T182504Z
LAST-MODIFIED:20250910T182504Z
UID:45974-1757577600-1757592000@www.goiasfomento.com
SUMMARY:Vinícius Luz: Atendimentos e Despachos Internos.
DESCRIPTION:
URL:https://www.goiasfomento.com/agenda/vinicius-luz-atendimentos-e-despachos-internos-81/
LOCATION:Gabinete da Diretoria de Operações da GoiásFomento – Agência de Fomento de Goiás.
CATEGORIES:Diretoria de Operações
END:VEVENT
BEGIN:VEVENT
DTSTART;TZID=America/Sao_Paulo:20250911T140000
DTEND;TZID=America/Sao_Paulo:20250911T180000
DTSTAMP:20260424T093952
CREATED:20250910T182527Z
LAST-MODIFIED:20250910T182527Z
UID:45976-1757599200-1757613600@www.goiasfomento.com
SUMMARY:Vinícius Luz: Atendimentos e Despachos Internos.
DESCRIPTION:
URL:https://www.goiasfomento.com/agenda/vinicius-luz-atendimentos-e-despachos-internos-82/
LOCATION:Gabinete da Diretoria de Operações da GoiásFomento – Agência de Fomento de Goiás.
CATEGORIES:Diretoria de Operações
END:VEVENT
BEGIN:VEVENT
DTSTART;TZID=America/Sao_Paulo:20250912T080000
DTEND;TZID=America/Sao_Paulo:20250912T120000
DTSTAMP:20260424T093952
CREATED:20250910T182603Z
LAST-MODIFIED:20250910T182614Z
UID:45978-1757664000-1757678400@www.goiasfomento.com
SUMMARY:Vinícius Luz: Atendimentos e Despachos Internos.
DESCRIPTION:
URL:https://www.goiasfomento.com/agenda/vinicius-luz-atendimentos-e-despachos-internos-83/
LOCATION:Gabinete da Diretoria de Operações da GoiásFomento – Agência de Fomento de Goiás.
CATEGORIES:Diretoria de Operações
END:VEVENT
BEGIN:VEVENT
DTSTART;TZID=America/Sao_Paulo:20250912T140000
DTEND;TZID=America/Sao_Paulo:20250912T180000
DTSTAMP:20260424T093952
CREATED:20250910T182639Z
LAST-MODIFIED:20250910T182639Z
UID:45980-1757685600-1757700000@www.goiasfomento.com
SUMMARY:Vinícius Luz: Atendimentos e Despachos Internos.
DESCRIPTION:
URL:https://www.goiasfomento.com/agenda/vinicius-luz-atendimentos-e-despachos-internos-84/
LOCATION:Gabinete da Diretoria de Operações da GoiásFomento – Agência de Fomento de Goiás.
CATEGORIES:Diretoria de Operações
END:VEVENT
BEGIN:VEVENT
DTSTART;TZID=America/Sao_Paulo:20250915T080000
DTEND;TZID=America/Sao_Paulo:20250915T120000
DTSTAMP:20260424T093952
CREATED:20250915T184958Z
LAST-MODIFIED:20250915T184958Z
UID:46037-1757923200-1757937600@www.goiasfomento.com
SUMMARY:Vinícius Luz: Atendimentos e Despachos Internos.
DESCRIPTION:
URL:https://www.goiasfomento.com/agenda/vinicius-luz-atendimentos-e-despachos-internos-85/
LOCATION:Gabinete da Diretoria de Operações da GoiásFomento – Agência de Fomento de Goiás.
CATEGORIES:Diretoria de Operações
END:VEVENT
BEGIN:VEVENT
DTSTART;TZID=America/Sao_Paulo:20250915T140000
DTEND;TZID=America/Sao_Paulo:20250915T180000
DTSTAMP:20260424T093952
CREATED:20250915T185020Z
LAST-MODIFIED:20250915T185020Z
UID:46039-1757944800-1757959200@www.goiasfomento.com
SUMMARY:Vinícius Luz: Atendimentos e Despachos Internos.
DESCRIPTION:
URL:https://www.goiasfomento.com/agenda/vinicius-luz-atendimentos-e-despachos-internos-86/
LOCATION:Gabinete da Diretoria de Operações da GoiásFomento – Agência de Fomento de Goiás.
CATEGORIES:Diretoria de Operações
END:VEVENT
BEGIN:VEVENT
DTSTART;TZID=America/Sao_Paulo:20250916T080000
DTEND;TZID=America/Sao_Paulo:20250916T090000
DTSTAMP:20260424T093952
CREATED:20250916T181311Z
LAST-MODIFIED:20250916T181311Z
UID:46049-1758009600-1758013200@www.goiasfomento.com
SUMMARY:Vinícius Luz: Atendimentos e Despachos Internos.
DESCRIPTION:
URL:https://www.goiasfomento.com/agenda/vinicius-luz-atendimentos-e-despachos-internos-87/
LOCATION:Gabinete da Diretoria de Operações da GoiásFomento – Agência de Fomento de Goiás.
CATEGORIES:Diretoria de Operações
END:VEVENT
BEGIN:VEVENT
DTSTART;TZID=America/Sao_Paulo:20250916T090000
DTEND;TZID=America/Sao_Paulo:20250916T110000
DTSTAMP:20260424T093952
CREATED:20250916T181245Z
LAST-MODIFIED:20250916T181245Z
UID:46047-1758013200-1758020400@www.goiasfomento.com
SUMMARY:Vinícius Luz: Sessão Solene em Homenagem à Universidade Federal de Jataí – UF.
DESCRIPTION:
URL:https://www.goiasfomento.com/agenda/vinicius-luz-sessao-solene-em-homenagem-a-universidade-federal-de-jatai-uf/
LOCATION:📍 Local: Assembleia Legislativa do Estado de Goiás – Palácio Maguito Vilela – Plenário Íris Rezende Machado.
CATEGORIES:Diretoria de Operações
END:VEVENT
BEGIN:VEVENT
DTSTART;TZID=America/Sao_Paulo:20250916T110000
DTEND;TZID=America/Sao_Paulo:20250916T120000
DTSTAMP:20260424T093952
CREATED:20250916T181334Z
LAST-MODIFIED:20250916T181334Z
UID:46051-1758020400-1758024000@www.goiasfomento.com
SUMMARY:Vinícius Luz: Atendimentos e Despachos Internos.
DESCRIPTION:
URL:https://www.goiasfomento.com/agenda/vinicius-luz-atendimentos-e-despachos-internos-88/
LOCATION:Gabinete da Diretoria de Operações da GoiásFomento – Agência de Fomento de Goiás.
CATEGORIES:Diretoria de Operações
END:VEVENT
BEGIN:VEVENT
DTSTART;TZID=America/Sao_Paulo:20250916T140000
DTEND;TZID=America/Sao_Paulo:20250916T180000
DTSTAMP:20260424T093952
CREATED:20250916T181353Z
LAST-MODIFIED:20250916T181353Z
UID:46053-1758031200-1758045600@www.goiasfomento.com
SUMMARY:Vinícius Luz: Atendimentos e Despachos Internos.
DESCRIPTION:
URL:https://www.goiasfomento.com/agenda/vinicius-luz-atendimentos-e-despachos-internos-89/
LOCATION:Gabinete da Diretoria de Operações da GoiásFomento – Agência de Fomento de Goiás.
CATEGORIES:Diretoria de Operações
END:VEVENT
BEGIN:VEVENT
DTSTART;TZID=America/Sao_Paulo:20250917T080000
DTEND;TZID=America/Sao_Paulo:20250917T120000
DTSTAMP:20260424T093952
CREATED:20250917T141748Z
LAST-MODIFIED:20250917T141748Z
UID:46059-1758096000-1758110400@www.goiasfomento.com
SUMMARY:Vinícius Luz: Atendimentos e Despachos Internos.
DESCRIPTION:
URL:https://www.goiasfomento.com/agenda/vinicius-luz-atendimentos-e-despachos-internos-90/
LOCATION:Gabinete da Diretoria de Operações da GoiásFomento – Agência de Fomento de Goiás.
CATEGORIES:Diretoria de Operações
END:VEVENT
END:VCALENDAR