BEGIN:VCALENDAR
VERSION:2.0
PRODID:-//GoiásFomento - Agência de Fomento - ECPv6.15.20//NONSGML v1.0//EN
CALSCALE:GREGORIAN
METHOD:PUBLISH
X-WR-CALNAME:GoiásFomento - Agência de Fomento
X-ORIGINAL-URL:https://www.goiasfomento.com
X-WR-CALDESC:Eventos para GoiásFomento - Agência de Fomento
REFRESH-INTERVAL;VALUE=DURATION:PT1H
X-Robots-Tag:noindex
X-PUBLISHED-TTL:PT1H
BEGIN:VTIMEZONE
TZID:America/Sao_Paulo
BEGIN:STANDARD
TZOFFSETFROM:-0300
TZOFFSETTO:-0300
TZNAME:-03
DTSTART:20240101T000000
END:STANDARD
END:VTIMEZONE
BEGIN:VEVENT
DTSTART;TZID=America/Sao_Paulo:20250203T080000
DTEND;TZID=America/Sao_Paulo:20250203T093000
DTSTAMP:20260424T213802
CREATED:20250203T140912Z
LAST-MODIFIED:20250203T140912Z
UID:39704-1738569600-1738575000@www.goiasfomento.com
SUMMARY:Rufino Veríssimo: Despachos Internos.
DESCRIPTION:
URL:https://www.goiasfomento.com/agenda/rufino-verissimo-despachos-internos-134/
LOCATION:Gabinete da Diretoria de Operações da GoiásFomento – Agência de Fomento de Goiás.
CATEGORIES:Diretoria de Operações
END:VEVENT
BEGIN:VEVENT
DTSTART;TZID=America/Sao_Paulo:20250203T093000
DTEND;TZID=America/Sao_Paulo:20250203T103000
DTSTAMP:20260424T213802
CREATED:20250203T140557Z
LAST-MODIFIED:20250203T140557Z
UID:39702-1738575000-1738578600@www.goiasfomento.com
SUMMARY:Rufino Veríssimo: Reunião com os Gerentes da Diretoria de Operações.
DESCRIPTION:
URL:https://www.goiasfomento.com/agenda/rufino-verissimo-reuniao-com-os-gerentes-da-diretoria-de-operacoes-2/
LOCATION:Gabinete da Diretoria de Operações da GoiásFomento – Agência de Fomento de Goiás.
CATEGORIES:Diretoria de Operações
END:VEVENT
BEGIN:VEVENT
DTSTART;TZID=America/Sao_Paulo:20250203T103000
DTEND;TZID=America/Sao_Paulo:20250203T110000
DTSTAMP:20260424T213802
CREATED:20250203T140435Z
LAST-MODIFIED:20250203T140435Z
UID:39700-1738578600-1738580400@www.goiasfomento.com
SUMMARY:Rufino Veríssimo: Reunião da Direx com Rafael Soffa Rézio – Gerente de Programas e Políticas Sociais.
DESCRIPTION:
URL:https://www.goiasfomento.com/agenda/rufino-verissimo-reuniao-da-direx-com-rafael-soffa-rezio-gerente-de-programas-e-politicas-sociais-6/
LOCATION:Gabinete da Presidência da GoiásFomento – Agência de Fomento de Goiás.
CATEGORIES:Diretoria de Operações
END:VEVENT
BEGIN:VEVENT
DTSTART;TZID=America/Sao_Paulo:20250203T110000
DTEND;TZID=America/Sao_Paulo:20250203T120000
DTSTAMP:20260424T213802
CREATED:20250203T195222Z
LAST-MODIFIED:20250203T195222Z
UID:39730-1738580400-1738584000@www.goiasfomento.com
SUMMARY:Rufino Veríssimo: Despachos Internos.
DESCRIPTION:
URL:https://www.goiasfomento.com/agenda/rufino-verissimo-despachos-internos-135/
LOCATION:Gabinete da Diretoria de Operações da GoiásFomento – Agência de Fomento de Goiás.
CATEGORIES:Diretoria de Operações
END:VEVENT
BEGIN:VEVENT
DTSTART;TZID=America/Sao_Paulo:20250203T140000
DTEND;TZID=America/Sao_Paulo:20250203T150000
DTSTAMP:20260424T213802
CREATED:20250203T195256Z
LAST-MODIFIED:20250203T195256Z
UID:39732-1738591200-1738594800@www.goiasfomento.com
SUMMARY:Rufino Veríssimo: Despachos Internos.
DESCRIPTION:
URL:https://www.goiasfomento.com/agenda/rufino-verissimo-despachos-internos-136/
LOCATION:Gabinete da Diretoria de Operações da GoiásFomento – Agência de Fomento de Goiás.
CATEGORIES:Diretoria de Operações
END:VEVENT
BEGIN:VEVENT
DTSTART;TZID=America/Sao_Paulo:20250203T150000
DTEND;TZID=America/Sao_Paulo:20250203T153000
DTSTAMP:20260424T213802
CREATED:20250203T195604Z
LAST-MODIFIED:20250203T195604Z
UID:39736-1738594800-1738596600@www.goiasfomento.com
SUMMARY:Rufino Veríssimo: Reunião com os Gerentes Wagner Siqueira Coelho -  GEPRON e Luiz Alberto de Sousa Filho - Gerente da Rede Credenciada.
DESCRIPTION:
URL:https://www.goiasfomento.com/agenda/rufino-verissimo-reuniao-com-os-gerentes-wagner-siqueira-coelho-gepron-e-luiz-alberto-de-sousa-filho-gerente-da-rede-credenciada/
LOCATION:Gabinete da Diretoria de Operações da GoiásFomento – Agência de Fomento de Goiás.
CATEGORIES:Diretoria de Operações
END:VEVENT
BEGIN:VEVENT
DTSTART;TZID=America/Sao_Paulo:20250203T153000
DTEND;TZID=America/Sao_Paulo:20250203T160000
DTSTAMP:20260424T213802
CREATED:20250203T195646Z
LAST-MODIFIED:20250203T195646Z
UID:39738-1738596600-1738598400@www.goiasfomento.com
SUMMARY:Rufino Veríssimo: Reunião com Guido Juliano Martins de Araújo - Gerente de Agronegócio.
DESCRIPTION:
URL:https://www.goiasfomento.com/agenda/rufino-verissimo-reuniao-com-guido-juliano-martins-de-araujo-gerente-de-agronegocio-3/
LOCATION:Gabinete da Diretoria de Operações da GoiásFomento – Agência de Fomento de Goiás.
CATEGORIES:Diretoria de Operações
END:VEVENT
BEGIN:VEVENT
DTSTART;TZID=America/Sao_Paulo:20250203T160000
DTEND;TZID=America/Sao_Paulo:20250203T180000
DTSTAMP:20260424T213802
CREATED:20250203T195326Z
LAST-MODIFIED:20250203T195326Z
UID:39734-1738598400-1738605600@www.goiasfomento.com
SUMMARY:Rufino Veríssimo: Despachos Internos.
DESCRIPTION:
URL:https://www.goiasfomento.com/agenda/rufino-verissimo-despachos-internos-137/
LOCATION:Gabinete da Diretoria de Operações da GoiásFomento – Agência de Fomento de Goiás.
CATEGORIES:Diretoria de Operações
END:VEVENT
BEGIN:VEVENT
DTSTART;TZID=America/Sao_Paulo:20250204T080000
DTEND;TZID=America/Sao_Paulo:20250204T083000
DTSTAMP:20260424T213802
CREATED:20250204T173605Z
LAST-MODIFIED:20250204T173605Z
UID:39762-1738656000-1738657800@www.goiasfomento.com
SUMMARY:Rufino Veríssimo: Despachos Internos.
DESCRIPTION:
URL:https://www.goiasfomento.com/agenda/rufino-verissimo-despachos-internos-138/
LOCATION:Gabinete da Diretoria de Operações da GoiásFomento – Agência de Fomento de Goiás.
CATEGORIES:Diretoria de Operações
END:VEVENT
BEGIN:VEVENT
DTSTART;TZID=America/Sao_Paulo:20250204T083000
DTEND;TZID=America/Sao_Paulo:20250204T103000
DTSTAMP:20260424T213802
CREATED:20250204T173728Z
LAST-MODIFIED:20250204T173728Z
UID:39764-1738657800-1738665000@www.goiasfomento.com
SUMMARY:Rufino Veríssimo: Café da Manhã de Premiação dos Correspondentes.
DESCRIPTION:
URL:https://www.goiasfomento.com/agenda/rufino-verissimo-cafe-da-manha-de-premiacao-dos-correspondentes/
LOCATION:Auditório da Agência de Fomento de Goiás.
CATEGORIES:Diretoria de Operações
END:VEVENT
BEGIN:VEVENT
DTSTART;TZID=America/Sao_Paulo:20250204T103000
DTEND;TZID=America/Sao_Paulo:20250204T110000
DTSTAMP:20260424T213802
CREATED:20250204T173835Z
LAST-MODIFIED:20250204T173835Z
UID:39766-1738665000-1738666800@www.goiasfomento.com
SUMMARY:Rufino Veríssimo: Reunião da Diretoria Executiva da Agência de Fomento de Goiás.
DESCRIPTION:
URL:https://www.goiasfomento.com/agenda/rufino-verissimo-reuniao-da-diretoria-executiva-da-agencia-de-fomento-de-goias-3/
LOCATION:Gabinete da Presidência da GoiásFomento – Agência de Fomento de Goiás.
CATEGORIES:Diretoria de Operações
END:VEVENT
BEGIN:VEVENT
DTSTART;TZID=America/Sao_Paulo:20250204T110000
DTEND;TZID=America/Sao_Paulo:20250204T190000
DTSTAMP:20260424T213802
CREATED:20250204T174415Z
LAST-MODIFIED:20250205T123109Z
UID:39768-1738666800-1738695600@www.goiasfomento.com
SUMMARY:Rufino Veríssimo: Reunião com as prefeituras de Goianésia e Jaraguá para alinhamento das Linhas de Crédito.
DESCRIPTION:
URL:https://www.goiasfomento.com/agenda/rufino-verissimo-reuniao-com-as-prefeituras-de-goianesia-e-jaragua-para-alinhamento-dos-programas-sociais-municipais/
LOCATION:Goianésia – Goiás
CATEGORIES:Diretoria de Operações
END:VEVENT
BEGIN:VEVENT
DTSTART;TZID=America/Sao_Paulo:20250205T080000
DTEND;TZID=America/Sao_Paulo:20250205T090000
DTSTAMP:20260424T213802
CREATED:20250205T134148Z
LAST-MODIFIED:20250205T134148Z
UID:39807-1738742400-1738746000@www.goiasfomento.com
SUMMARY:Rufino Veríssimo: Despachos Internos.
DESCRIPTION:
URL:https://www.goiasfomento.com/agenda/rufino-verissimo-despachos-internos-139/
LOCATION:Gabinete da Diretoria de Operações da GoiásFomento – Agência de Fomento de Goiás.
CATEGORIES:Diretoria de Operações
END:VEVENT
BEGIN:VEVENT
DTSTART;TZID=America/Sao_Paulo:20250205T090000
DTEND;TZID=America/Sao_Paulo:20250205T100000
DTSTAMP:20260424T213802
CREATED:20250205T134105Z
LAST-MODIFIED:20250205T134105Z
UID:39805-1738746000-1738749600@www.goiasfomento.com
SUMMARY:Rufino Veríssimo: Reunião com  Wagner Siqueira Coelho – Gerente de Prospecção de Negócios.
DESCRIPTION:
URL:https://www.goiasfomento.com/agenda/rufino-verissimo-reuniao-com-wagner-siqueira-coelho-gerente-de-prospeccao-de-negocios-6/
LOCATION:Gabinete da Diretoria de Operações da GoiásFomento – Agência de Fomento de Goiás.
CATEGORIES:Diretoria de Operações
END:VEVENT
BEGIN:VEVENT
DTSTART;TZID=America/Sao_Paulo:20250205T100000
DTEND;TZID=America/Sao_Paulo:20250205T110000
DTSTAMP:20260424T213802
CREATED:20250205T175809Z
LAST-MODIFIED:20250205T180147Z
UID:39809-1738749600-1738753200@www.goiasfomento.com
SUMMARY:Rufino Veríssimo: Reunião com Marcos Abrão - Secretário Indústria e Comércio de Aparecida de Goiânia.
DESCRIPTION:
URL:https://www.goiasfomento.com/agenda/rufino-verissimomarcos-abrao-secretario-industria-e-comercio-de-aparecida-de-goiania/
LOCATION:Gabinete da Diretoria de Operações da GoiásFomento – Agência de Fomento de Goiás.
CATEGORIES:Diretoria de Operações
END:VEVENT
BEGIN:VEVENT
DTSTART;TZID=America/Sao_Paulo:20250205T110000
DTEND;TZID=America/Sao_Paulo:20250205T120000
DTSTAMP:20260424T213802
CREATED:20250205T175915Z
LAST-MODIFIED:20250205T175915Z
UID:39811-1738753200-1738756800@www.goiasfomento.com
SUMMARY:Rufino Veríssimo: Reunião com os Gerentes da Diretoria de Operações.
DESCRIPTION:
URL:https://www.goiasfomento.com/agenda/rufino-verissimo-reuniao-com-os-gerentes-da-diretoria-de-operacoes-3/
LOCATION:Gabinete da Diretoria de Operações da GoiásFomento – Agência de Fomento de Goiás.
CATEGORIES:Diretoria de Operações
END:VEVENT
BEGIN:VEVENT
DTSTART;TZID=America/Sao_Paulo:20250205T140000
DTEND;TZID=America/Sao_Paulo:20250205T150000
DTSTAMP:20260424T213802
CREATED:20250205T192507Z
LAST-MODIFIED:20250205T192507Z
UID:39844-1738764000-1738767600@www.goiasfomento.com
SUMMARY:Rufino Veríssimo: Despachos Internos.
DESCRIPTION:
URL:https://www.goiasfomento.com/agenda/rufino-verissimo-despachos-internos-140/
LOCATION:Gabinete da Diretoria de Operações da GoiásFomento – Agência de Fomento de Goiás.
CATEGORIES:Diretoria de Operações
END:VEVENT
BEGIN:VEVENT
DTSTART;TZID=America/Sao_Paulo:20250205T150000
DTEND;TZID=America/Sao_Paulo:20250205T153000
DTSTAMP:20260424T213802
CREATED:20250205T192833Z
LAST-MODIFIED:20250205T192833Z
UID:39846-1738767600-1738769400@www.goiasfomento.com
SUMMARY:Rufino Veríssimo: Reunião com Guido Juliano Martins de Araújo - Gerente de Agronegócio.
DESCRIPTION:
URL:https://www.goiasfomento.com/agenda/rufino-verissimo-reuniao-com-guido-juliano-martins-de-araujo-gerente-de-agronegocio-4/
LOCATION:Gabinete da Diretoria de Operações da GoiásFomento – Agência de Fomento de Goiás.
CATEGORIES:Diretoria de Operações
END:VEVENT
BEGIN:VEVENT
DTSTART;TZID=America/Sao_Paulo:20250205T153000
DTEND;TZID=America/Sao_Paulo:20250205T160000
DTSTAMP:20260424T213802
CREATED:20250205T193307Z
LAST-MODIFIED:20250205T193307Z
UID:39848-1738769400-1738771200@www.goiasfomento.com
SUMMARY:Rufino Veríssimo: Reunião com Bruno Alvarenga Campos Martins - Gerente de Atendimento.
DESCRIPTION:
URL:https://www.goiasfomento.com/agenda/rufino-verissimo-reuniao-com-bruno-alvarenga-campos-martins-gerente-de-atendimento-3/
LOCATION:Gabinete da Diretoria de Operações da GoiásFomento – Agência de Fomento de Goiás.
CATEGORIES:Diretoria de Operações
END:VEVENT
BEGIN:VEVENT
DTSTART;TZID=America/Sao_Paulo:20250205T160000
DTEND;TZID=America/Sao_Paulo:20250205T163000
DTSTAMP:20260424T213802
CREATED:20250205T193445Z
LAST-MODIFIED:20250205T193445Z
UID:39850-1738771200-1738773000@www.goiasfomento.com
SUMMARY:Rufino Veríssimo: Reunião com Alexsander de Oliveira Linhares - Gerente de Parcerias e Operações Estruturadas.
DESCRIPTION:
URL:https://www.goiasfomento.com/agenda/rufino-verissimo-reuniao-com-alexsander-de-oliveira-linhares-gerente-de-parcerias-e-operacoes-estruturadas-4/
LOCATION:Gabinete da Diretoria de Operações da GoiásFomento – Agência de Fomento de Goiás.
CATEGORIES:Diretoria de Operações
END:VEVENT
BEGIN:VEVENT
DTSTART;TZID=America/Sao_Paulo:20250205T163000
DTEND;TZID=America/Sao_Paulo:20250205T170000
DTSTAMP:20260424T213802
CREATED:20250205T193559Z
LAST-MODIFIED:20250205T193559Z
UID:39852-1738773000-1738774800@www.goiasfomento.com
SUMMARY:Rufino Veríssimo: Reunião com Luiz Alberto de Sousa Filho - Gerente da Rede Credenciada.
DESCRIPTION:
URL:https://www.goiasfomento.com/agenda/rufino-verissimo-reuniao-com-luiz-alberto-de-sousa-filho-gerente-da-rede-credenciada-3/
LOCATION:Gabinete da Diretoria de Operações da GoiásFomento – Agência de Fomento de Goiás.
CATEGORIES:Diretoria de Operações
END:VEVENT
BEGIN:VEVENT
DTSTART;TZID=America/Sao_Paulo:20250205T173000
DTEND;TZID=America/Sao_Paulo:20250205T180000
DTSTAMP:20260424T213802
CREATED:20250205T193637Z
LAST-MODIFIED:20250205T193637Z
UID:39854-1738776600-1738778400@www.goiasfomento.com
SUMMARY:Rufino Veríssimo: Despachos Internos.
DESCRIPTION:
URL:https://www.goiasfomento.com/agenda/rufino-verissimo-despachos-internos-141/
LOCATION:Gabinete da Diretoria de Operações da GoiásFomento – Agência de Fomento de Goiás.
CATEGORIES:Diretoria de Operações
END:VEVENT
BEGIN:VEVENT
DTSTART;TZID=America/Sao_Paulo:20250206T080000
DTEND;TZID=America/Sao_Paulo:20250206T083000
DTSTAMP:20260424T213802
CREATED:20250206T135949Z
LAST-MODIFIED:20250206T135949Z
UID:39863-1738828800-1738830600@www.goiasfomento.com
SUMMARY:Rufino Veríssimo: Reunião com Paulo Cesar Paiva - Assessor de Estratégia e Planejamento.
DESCRIPTION:
URL:https://www.goiasfomento.com/agenda/rufino-verissimo-reuniao-com-paulo-cesar-paiva-assessor-de-estrategia-e-planejamento-7/
LOCATION:Gabinete da Diretoria de Operações da GoiásFomento – Agência de Fomento de Goiás.
CATEGORIES:Diretoria de Operações
END:VEVENT
BEGIN:VEVENT
DTSTART;TZID=America/Sao_Paulo:20250206T083000
DTEND;TZID=America/Sao_Paulo:20250206T090000
DTSTAMP:20260424T213802
CREATED:20250206T140042Z
LAST-MODIFIED:20250206T140042Z
UID:39865-1738830600-1738832400@www.goiasfomento.com
SUMMARY:Rufino Veríssimo: Despachos Internos.
DESCRIPTION:
URL:https://www.goiasfomento.com/agenda/rufino-verissimo-despachos-internos-142/
LOCATION:Gabinete da Diretoria de Operações da GoiásFomento – Agência de Fomento de Goiás.
CATEGORIES:Diretoria de Operações
END:VEVENT
BEGIN:VEVENT
DTSTART;TZID=America/Sao_Paulo:20250206T090000
DTEND;TZID=America/Sao_Paulo:20250206T110000
DTSTAMP:20260424T213802
CREATED:20250206T135828Z
LAST-MODIFIED:20250206T135828Z
UID:39860-1738832400-1738839600@www.goiasfomento.com
SUMMARY:Rufino Veríssimo: Reunião da Diretoria com a Empresa Inttegrar.
DESCRIPTION:
URL:https://www.goiasfomento.com/agenda/rufino-verissimo-reuniao-da-diretoria-com-a-empresa-inttegrar/
LOCATION:Inttegrar House Rua Jussara\, Qd.33a\, Lt. 24\, Vila Brasilia Aparecida de Goiânia\, GO 74905-500 Brasil
CATEGORIES:Diretoria de Operações
END:VEVENT
BEGIN:VEVENT
DTSTART;TZID=America/Sao_Paulo:20250206T110000
DTEND;TZID=America/Sao_Paulo:20250206T120000
DTSTAMP:20260424T213802
CREATED:20250206T143344Z
LAST-MODIFIED:20250206T143344Z
UID:39876-1738839600-1738843200@www.goiasfomento.com
SUMMARY:Rufino Veríssimo: Despachos Internos.
DESCRIPTION:
URL:https://www.goiasfomento.com/agenda/rufino-verissimo-despachos-internos-143/
LOCATION:Gabinete da Diretoria de Operações da GoiásFomento – Agência de Fomento de Goiás.
CATEGORIES:Diretoria de Operações
END:VEVENT
BEGIN:VEVENT
DTSTART;TZID=America/Sao_Paulo:20250206T140000
DTEND;TZID=America/Sao_Paulo:20250206T150000
DTSTAMP:20260424T213802
CREATED:20250206T192649Z
LAST-MODIFIED:20250206T192649Z
UID:39899-1738850400-1738854000@www.goiasfomento.com
SUMMARY:Rufino Veríssimo: Reunião com Luiz Carlos dos Santos Sardinha - Gerente de Tecnologia da Informação.
DESCRIPTION:
URL:https://www.goiasfomento.com/agenda/rufino-verissimo-reuniao-com-luiz-carlos-dos-santos-sardinha-gerente-de-tecnologia-da-informacao/
LOCATION:Gabinete da Diretoria de Operações da GoiásFomento – Agência de Fomento de Goiás.
CATEGORIES:Diretoria de Operações
END:VEVENT
BEGIN:VEVENT
DTSTART;TZID=America/Sao_Paulo:20250206T150000
DTEND;TZID=America/Sao_Paulo:20250206T160000
DTSTAMP:20260424T213802
CREATED:20250206T192957Z
LAST-MODIFIED:20250206T192957Z
UID:39903-1738854000-1738857600@www.goiasfomento.com
SUMMARY:Rufino Veríssimo: Despachos Internos.
DESCRIPTION:
URL:https://www.goiasfomento.com/agenda/rufino-verissimo-despachos-internos-144/
LOCATION:Gabinete da Diretoria de Operações da GoiásFomento – Agência de Fomento de Goiás.
CATEGORIES:Diretoria de Operações
END:VEVENT
BEGIN:VEVENT
DTSTART;TZID=America/Sao_Paulo:20250206T160000
DTEND;TZID=America/Sao_Paulo:20250206T170000
DTSTAMP:20260424T213802
CREATED:20250206T192856Z
LAST-MODIFIED:20250206T192856Z
UID:39901-1738857600-1738861200@www.goiasfomento.com
SUMMARY:Rufino Veríssimo: Reunião da Diretoria com Darmélia Barbosa - Gerente de Comunicação e Alexsander de Oliveira Linhares - Gerente de Parcerias e Operações Estruturadas.
DESCRIPTION:
URL:https://www.goiasfomento.com/agenda/rufino-verissimo-reuniao-da-diretoria-com-darmelia-barbosa-gerente-de-comunicacao-e-alexsander-de-oliveira-linhares-gerente-de-parcerias-e-operacoes-estruturadas/
LOCATION:Gabinete da Presidência da GoiásFomento – Agência de Fomento de Goiás.
CATEGORIES:Diretoria de Operações
END:VEVENT
BEGIN:VEVENT
DTSTART;TZID=America/Sao_Paulo:20250206T170000
DTEND;TZID=America/Sao_Paulo:20250206T180000
DTSTAMP:20260424T213802
CREATED:20250206T193023Z
LAST-MODIFIED:20250206T193023Z
UID:39905-1738861200-1738864800@www.goiasfomento.com
SUMMARY:Rufino Veríssimo: Despachos Internos.
DESCRIPTION:
URL:https://www.goiasfomento.com/agenda/rufino-verissimo-despachos-internos-145/
LOCATION:Gabinete da Diretoria de Operações da GoiásFomento – Agência de Fomento de Goiás.
CATEGORIES:Diretoria de Operações
END:VEVENT
END:VCALENDAR