BEGIN:VCALENDAR
VERSION:2.0
PRODID:-//GoiásFomento - Agência de Fomento - ECPv6.15.20//NONSGML v1.0//EN
CALSCALE:GREGORIAN
METHOD:PUBLISH
X-ORIGINAL-URL:https://www.goiasfomento.com
X-WR-CALDESC:Eventos para GoiásFomento - Agência de Fomento
REFRESH-INTERVAL;VALUE=DURATION:PT1H
X-Robots-Tag:noindex
X-PUBLISHED-TTL:PT1H
BEGIN:VTIMEZONE
TZID:America/Sao_Paulo
BEGIN:STANDARD
TZOFFSETFROM:-0300
TZOFFSETTO:-0300
TZNAME:-03
DTSTART:20230101T000000
END:STANDARD
END:VTIMEZONE
BEGIN:VEVENT
DTSTART;TZID=America/Sao_Paulo:20241202T080000
DTEND;TZID=America/Sao_Paulo:20241202T090000
DTSTAMP:20260425T073850
CREATED:20241202T113511Z
LAST-MODIFIED:20241202T113511Z
UID:38471-1733126400-1733130000@www.goiasfomento.com
SUMMARY:Rufino Veríssimo: Despachos Internos.
DESCRIPTION:
URL:https://www.goiasfomento.com/agenda/rufino-verissimo-despachos-internos-32/
LOCATION:Gabinete da Diretoria de Operações da GoiásFomento – Agência de Fomento de Goiás.
CATEGORIES:Diretoria de Operações
END:VEVENT
BEGIN:VEVENT
DTSTART;TZID=America/Sao_Paulo:20241202T090000
DTEND;TZID=America/Sao_Paulo:20241202T103000
DTSTAMP:20260425T073850
CREATED:20241202T132849Z
LAST-MODIFIED:20241202T132849Z
UID:38473-1733130000-1733135400@www.goiasfomento.com
SUMMARY:Rufino Veríssimo: Reunião da Direx com Rafael Soffa Rézio – Gerente de Programas e Políticas Sociais.
DESCRIPTION:
URL:https://www.goiasfomento.com/agenda/rufino-verissimo-reuniao-da-direx-com-rafael-soffa-rezio-gerente-de-programas-e-politicas-sociais-2/
LOCATION:Gabinete da Diretoria de Operações da GoiásFomento – Agência de Fomento de Goiás.
CATEGORIES:Diretoria de Operações
END:VEVENT
BEGIN:VEVENT
DTSTART;TZID=America/Sao_Paulo:20241202T103000
DTEND;TZID=America/Sao_Paulo:20241202T110000
DTSTAMP:20260425T073850
CREATED:20241202T134328Z
LAST-MODIFIED:20241202T134328Z
UID:38475-1733135400-1733137200@www.goiasfomento.com
SUMMARY:Rufino Veríssimo: Reunião com Bruno Alvarenga Campos Martins – Gerente de Atendimento.
DESCRIPTION:
URL:https://www.goiasfomento.com/agenda/rufino-verissimo-reuniao-com-bruno-alvarenga-campos-martins-gerente-de-atendimento/
LOCATION:Gabinete da Diretoria de Operações da GoiásFomento – Agência de Fomento de Goiás.
CATEGORIES:Diretoria de Operações
END:VEVENT
BEGIN:VEVENT
DTSTART;TZID=America/Sao_Paulo:20241202T110000
DTEND;TZID=America/Sao_Paulo:20241202T120000
DTSTAMP:20260425T073850
CREATED:20241202T190557Z
LAST-MODIFIED:20241202T190557Z
UID:38477-1733137200-1733140800@www.goiasfomento.com
SUMMARY:Rufino Veríssimo: Despachos Internos.
DESCRIPTION:
URL:https://www.goiasfomento.com/agenda/rufino-verissimo-despachos-internos-33/
LOCATION:Gabinete da Diretoria de Operações da GoiásFomento – Agência de Fomento de Goiás.
CATEGORIES:Diretoria de Operações
END:VEVENT
BEGIN:VEVENT
DTSTART;TZID=America/Sao_Paulo:20241202T140000
DTEND;TZID=America/Sao_Paulo:20241202T180000
DTSTAMP:20260425T073850
CREATED:20241202T190625Z
LAST-MODIFIED:20241202T190625Z
UID:38479-1733148000-1733162400@www.goiasfomento.com
SUMMARY:Rufino Veríssimo: Despachos Internos.
DESCRIPTION:
URL:https://www.goiasfomento.com/agenda/rufino-verissimo-despachos-internos-34/
LOCATION:Gabinete da Diretoria de Operações da GoiásFomento – Agência de Fomento de Goiás.
CATEGORIES:Diretoria de Operações
END:VEVENT
BEGIN:VEVENT
DTSTART;TZID=America/Sao_Paulo:20241203T080000
DTEND;TZID=America/Sao_Paulo:20241203T090000
DTSTAMP:20260425T073850
CREATED:20241203T130834Z
LAST-MODIFIED:20241203T130834Z
UID:38496-1733212800-1733216400@www.goiasfomento.com
SUMMARY:Rufino Veríssimo: Despachos Internos.
DESCRIPTION:
URL:https://www.goiasfomento.com/agenda/rufino-verissimo-despachos-internos-35/
LOCATION:Gabinete da Diretoria de Operações da GoiásFomento – Agência de Fomento de Goiás.
CATEGORIES:Diretoria de Operações
END:VEVENT
BEGIN:VEVENT
DTSTART;TZID=America/Sao_Paulo:20241203T090000
DTEND;TZID=America/Sao_Paulo:20241203T110000
DTSTAMP:20260425T073850
CREATED:20241203T130907Z
LAST-MODIFIED:20241203T130907Z
UID:38499-1733216400-1733223600@www.goiasfomento.com
SUMMARY:Rufino Veríssimo: Despachos Externos.
DESCRIPTION:
URL:https://www.goiasfomento.com/agenda/rufino-verissimo-despachos-externos/
CATEGORIES:Diretoria de Operações
END:VEVENT
BEGIN:VEVENT
DTSTART;TZID=America/Sao_Paulo:20241203T110000
DTEND;TZID=America/Sao_Paulo:20241203T120000
DTSTAMP:20260425T073850
CREATED:20241203T141427Z
LAST-MODIFIED:20241203T141427Z
UID:38522-1733223600-1733227200@www.goiasfomento.com
SUMMARY:Rufino Veríssimo: Despachos Internos.
DESCRIPTION:
URL:https://www.goiasfomento.com/agenda/rufino-verissimo-despachos-internos-36/
LOCATION:Gabinete da Diretoria de Operações da GoiásFomento – Agência de Fomento de Goiás.
CATEGORIES:Diretoria de Operações
END:VEVENT
BEGIN:VEVENT
DTSTART;TZID=America/Sao_Paulo:20241203T140000
DTEND;TZID=America/Sao_Paulo:20241203T150000
DTSTAMP:20260425T073850
CREATED:20241203T150553Z
LAST-MODIFIED:20241203T150815Z
UID:38524-1733234400-1733238000@www.goiasfomento.com
SUMMARY:Rufino Veríssimo: Reunião com os Gerentes da Diretora de Operações.
DESCRIPTION:
URL:https://www.goiasfomento.com/agenda/rufino-verissimo-reuniao-com-os-gerentes-da-diretora-de-operacoes/
LOCATION:Gabinete da Diretoria de Operações da GoiásFomento – Agência de Fomento de Goiás.
CATEGORIES:Diretoria de Operações
END:VEVENT
BEGIN:VEVENT
DTSTART;TZID=America/Sao_Paulo:20241203T150000
DTEND;TZID=America/Sao_Paulo:20241203T160000
DTSTAMP:20260425T073850
CREATED:20241203T193609Z
LAST-MODIFIED:20241203T193609Z
UID:38526-1733238000-1733241600@www.goiasfomento.com
SUMMARY:Rufino Veríssimo: Despachos Internos.
DESCRIPTION:
URL:https://www.goiasfomento.com/agenda/rufino-verissimo-despachos-internos-37/
LOCATION:Gabinete da Diretoria de Operações da GoiásFomento – Agência de Fomento de Goiás.
CATEGORIES:Diretoria de Operações
END:VEVENT
BEGIN:VEVENT
DTSTART;TZID=America/Sao_Paulo:20241203T160000
DTEND;TZID=America/Sao_Paulo:20241203T170000
DTSTAMP:20260425T073850
CREATED:20241203T193644Z
LAST-MODIFIED:20241203T193644Z
UID:38528-1733241600-1733245200@www.goiasfomento.com
SUMMARY:Rufino Veríssimo: Reunião com os Gerentes da Diretora de Operações.
DESCRIPTION:
URL:https://www.goiasfomento.com/agenda/rufino-verissimo-reuniao-com-os-gerentes-da-diretora-de-operacoes-2/
LOCATION:Gabinete da Diretoria de Operações da GoiásFomento – Agência de Fomento de Goiás.
CATEGORIES:Diretoria de Operações
END:VEVENT
BEGIN:VEVENT
DTSTART;TZID=America/Sao_Paulo:20241203T170000
DTEND;TZID=America/Sao_Paulo:20241203T180000
DTSTAMP:20260425T073850
CREATED:20241203T193716Z
LAST-MODIFIED:20241203T193716Z
UID:38530-1733245200-1733248800@www.goiasfomento.com
SUMMARY:Rufino Veríssimo: Despachos Internos.
DESCRIPTION:
URL:https://www.goiasfomento.com/agenda/rufino-verissimo-despachos-internos-38/
LOCATION:Gabinete da Diretoria de Operações da GoiásFomento – Agência de Fomento de Goiás.
CATEGORIES:Diretoria de Operações
END:VEVENT
BEGIN:VEVENT
DTSTART;TZID=America/Sao_Paulo:20241204T080000
DTEND;TZID=America/Sao_Paulo:20241204T103000
DTSTAMP:20260425T073850
CREATED:20241204T120108Z
LAST-MODIFIED:20241204T120108Z
UID:38536-1733299200-1733308200@www.goiasfomento.com
SUMMARY:Rufino Veríssimo: Despachos Internos.
DESCRIPTION:
URL:https://www.goiasfomento.com/agenda/rufino-verissimo-despachos-internos-39/
LOCATION:Gabinete da Diretoria de Operações da GoiásFomento – Agência de Fomento de Goiás.
CATEGORIES:Diretoria de Operações
END:VEVENT
BEGIN:VEVENT
DTSTART;TZID=America/Sao_Paulo:20241204T103000
DTEND;TZID=America/Sao_Paulo:20241204T120000
DTSTAMP:20260425T073850
CREATED:20241204T122319Z
LAST-MODIFIED:20241204T122319Z
UID:38538-1733308200-1733313600@www.goiasfomento.com
SUMMARY:Rufino Veríssimo: Online - Reunião Técnica FomentoGoiás e Fomento Mato Grosso.
DESCRIPTION:
URL:https://www.goiasfomento.com/agenda/rufino-verissimo-online-reuniao-tecnica-fomentogoias-e-fomento-mato-grosso/
LOCATION:Gabinete da Diretoria de Operações da GoiásFomento – Agência de Fomento de Goiás.
CATEGORIES:Diretoria de Operações
END:VEVENT
BEGIN:VEVENT
DTSTART;TZID=America/Sao_Paulo:20241204T140000
DTEND;TZID=America/Sao_Paulo:20241204T143000
DTSTAMP:20260425T073850
CREATED:20241204T172922Z
LAST-MODIFIED:20241204T173709Z
UID:38618-1733320800-1733322600@www.goiasfomento.com
SUMMARY:Rufino Veríssimo: Reunião com Wagner Siqueira Coelho - Gerente de Prospecção de Negócios.
DESCRIPTION:
URL:https://www.goiasfomento.com/agenda/rufino-verissimo-reuniao-com-wagner-siqueira-coelho-gerente-de-prospeccao-de-negocios-2/
LOCATION:Gabinete da Diretoria de Operações da GoiásFomento – Agência de Fomento de Goiás.
CATEGORIES:Diretoria de Operações
END:VEVENT
BEGIN:VEVENT
DTSTART;TZID=America/Sao_Paulo:20241204T143000
DTEND;TZID=America/Sao_Paulo:20241204T150000
DTSTAMP:20260425T073850
CREATED:20241204T174020Z
LAST-MODIFIED:20241204T174020Z
UID:38623-1733322600-1733324400@www.goiasfomento.com
SUMMARY:Rufino Veríssimo: Despachos Internos.
DESCRIPTION:
URL:https://www.goiasfomento.com/agenda/rufino-verissimo-despachos-internos-40/
LOCATION:Gabinete da Diretoria de Operações da GoiásFomento – Agência de Fomento de Goiás.
CATEGORIES:Diretoria de Operações
END:VEVENT
BEGIN:VEVENT
DTSTART;TZID=America/Sao_Paulo:20241204T150000
DTEND;TZID=America/Sao_Paulo:20241204T153000
DTSTAMP:20260425T073850
CREATED:20241204T173926Z
LAST-MODIFIED:20241204T173926Z
UID:38621-1733324400-1733326200@www.goiasfomento.com
SUMMARY:Rufino Veríssimo: Reunião com Edimar Mendes - Contabilidade da Agência de Fomento de Goiás.
DESCRIPTION:
URL:https://www.goiasfomento.com/agenda/rufino-verissimo-reuniao-com-edimar-mendes-contabilidade-da-agencia-de-fomento-de-goias/
LOCATION:Gabinete da Diretoria de Operações da GoiásFomento – Agência de Fomento de Goiás.
CATEGORIES:Diretoria de Operações
END:VEVENT
BEGIN:VEVENT
DTSTART;TZID=America/Sao_Paulo:20241205T080000
DTEND;TZID=America/Sao_Paulo:20241205T090000
DTSTAMP:20260425T073850
CREATED:20241205T134931Z
LAST-MODIFIED:20241205T134931Z
UID:38634-1733385600-1733389200@www.goiasfomento.com
SUMMARY:Rufino Veríssimo: Despachos Internos.
DESCRIPTION:
URL:https://www.goiasfomento.com/agenda/rufino-verissimo-despachos-internos-41/
LOCATION:Gabinete da Diretoria de Operações da GoiásFomento – Agência de Fomento de Goiás.
CATEGORIES:Diretoria de Operações
END:VEVENT
BEGIN:VEVENT
DTSTART;TZID=America/Sao_Paulo:20241205T090000
DTEND;TZID=America/Sao_Paulo:20241205T100000
DTSTAMP:20260425T073850
CREATED:20241205T135036Z
LAST-MODIFIED:20241205T135036Z
UID:38636-1733389200-1733392800@www.goiasfomento.com
SUMMARY:Rufino Veríssimo: Reunião com os Gerentes da Diretoria de Operações da Agência de Fomento de Goiás.
DESCRIPTION:
URL:https://www.goiasfomento.com/agenda/rufino-verissimo-reuniao-com-os-gerentes-da-diretoria-de-operacoes-da-agencia-de-fomento-de-goias-3/
LOCATION:Gabinete da Diretoria de Operações da GoiásFomento – Agência de Fomento de Goiás.
CATEGORIES:Diretoria de Operações
END:VEVENT
BEGIN:VEVENT
DTSTART;TZID=America/Sao_Paulo:20241205T100000
DTEND;TZID=America/Sao_Paulo:20241205T103000
DTSTAMP:20260425T073850
CREATED:20241205T135143Z
LAST-MODIFIED:20241205T135143Z
UID:38638-1733392800-1733394600@www.goiasfomento.com
SUMMARY:Rufino Veríssimo: Reunião da Diretoria Executiva da Agência de Fomento de Goiás.
DESCRIPTION:
URL:https://www.goiasfomento.com/agenda/rufino-verissimo-reuniao-da-diretoria-executiva-da-agencia-de-fomento-de-goias/
LOCATION:Gabinete da Presidência da GoiásFomento – Agência de Fomento de Goiás.
CATEGORIES:Diretoria de Operações
END:VEVENT
BEGIN:VEVENT
DTSTART;TZID=America/Sao_Paulo:20241205T103000
DTEND;TZID=America/Sao_Paulo:20241205T120000
DTSTAMP:20260425T073850
CREATED:20241205T142502Z
LAST-MODIFIED:20241205T142502Z
UID:38656-1733394600-1733400000@www.goiasfomento.com
SUMMARY:Rufino Veríssimo: Despachos Internos.
DESCRIPTION:
URL:https://www.goiasfomento.com/agenda/rufino-verissimo-despachos-internos-42/
LOCATION:Gabinete da Diretoria de Operações da GoiásFomento – Agência de Fomento de Goiás.
CATEGORIES:Diretoria de Operações
END:VEVENT
BEGIN:VEVENT
DTSTART;TZID=America/Sao_Paulo:20241205T140000
DTEND;TZID=America/Sao_Paulo:20241205T180000
DTSTAMP:20260425T073850
CREATED:20241205T174836Z
LAST-MODIFIED:20241205T174836Z
UID:38658-1733407200-1733421600@www.goiasfomento.com
SUMMARY:Rufino Veríssimo: Despachos Internos.
DESCRIPTION:
URL:https://www.goiasfomento.com/agenda/rufino-verissimo-despachos-internos-43/
LOCATION:Gabinete da Diretoria de Operações da GoiásFomento – Agência de Fomento de Goiás.
CATEGORIES:Diretoria de Operações
END:VEVENT
BEGIN:VEVENT
DTSTART;TZID=America/Sao_Paulo:20241206T080000
DTEND;TZID=America/Sao_Paulo:20241206T090000
DTSTAMP:20260425T073850
CREATED:20241206T114329Z
LAST-MODIFIED:20241206T114329Z
UID:38660-1733472000-1733475600@www.goiasfomento.com
SUMMARY:Rufino Veríssimo: Despachos Internos.
DESCRIPTION:
URL:https://www.goiasfomento.com/agenda/rufino-verissimo-despachos-internos-44/
LOCATION:Gabinete da Diretoria de Operações da GoiásFomento – Agência de Fomento de Goiás.
CATEGORIES:Diretoria de Operações
END:VEVENT
BEGIN:VEVENT
DTSTART;TZID=America/Sao_Paulo:20241206T090000
DTEND;TZID=America/Sao_Paulo:20241206T103000
DTSTAMP:20260425T073850
CREATED:20241206T115318Z
LAST-MODIFIED:20241206T115318Z
UID:38670-1733475600-1733481000@www.goiasfomento.com
SUMMARY:Rufino Veríssimo: Reunião com o Gerente - Rafael Sôffa e a Empresa Integra.
DESCRIPTION:
URL:https://www.goiasfomento.com/agenda/rufino-verissimo-reuniao-com-o-gerente-rafael-soffa-e-a-empresa-integra/
LOCATION:Sala de Reuniões da Diretoria – Agência de Fomento de Goiás.
CATEGORIES:Diretoria de Operações
END:VEVENT
BEGIN:VEVENT
DTSTART;TZID=America/Sao_Paulo:20241206T103000
DTEND;TZID=America/Sao_Paulo:20241206T110000
DTSTAMP:20260425T073850
CREATED:20241206T115529Z
LAST-MODIFIED:20241206T115529Z
UID:38674-1733481000-1733482800@www.goiasfomento.com
SUMMARY:Rufino Veríssimo: Despachos Internos.
DESCRIPTION:
URL:https://www.goiasfomento.com/agenda/rufino-verissimo-despachos-internos-45/
LOCATION:Gabinete da Diretoria de Operações da GoiásFomento – Agência de Fomento de Goiás.
CATEGORIES:Diretoria de Operações
END:VEVENT
BEGIN:VEVENT
DTSTART;TZID=America/Sao_Paulo:20241206T110000
DTEND;TZID=America/Sao_Paulo:20241206T120000
DTSTAMP:20260425T073850
CREATED:20241206T115445Z
LAST-MODIFIED:20241206T115445Z
UID:38672-1733482800-1733486400@www.goiasfomento.com
SUMMARY:Rufino Veríssimo: Reunião com o Gerente - Wagner Coelho e o Marcos - Procon-Goiás.
DESCRIPTION:
URL:https://www.goiasfomento.com/agenda/rufino-verissimo-reuniao-com-o-gerente-wagner-coelho-e-o-marcos-procon-goias/
LOCATION:Gabinete da Diretoria de Operações da GoiásFomento – Agência de Fomento de Goiás.
CATEGORIES:Diretoria de Operações
END:VEVENT
BEGIN:VEVENT
DTSTART;TZID=America/Sao_Paulo:20241206T140000
DTEND;TZID=America/Sao_Paulo:20241206T143000
DTSTAMP:20260425T073850
CREATED:20241206T185614Z
LAST-MODIFIED:20241206T185614Z
UID:38676-1733493600-1733495400@www.goiasfomento.com
SUMMARY:Rufino Veríssimo: Reunião com o Gerente - Wagner Coelho  - Gerente de Prospecção de Negócios.
DESCRIPTION:
URL:https://www.goiasfomento.com/agenda/rufino-verissimo-reuniao-com-o-gerente-wagner-coelho-gerente-de-prospeccao-de-negocios/
LOCATION:Gabinete da Diretoria de Operações da GoiásFomento – Agência de Fomento de Goiás.
CATEGORIES:Diretoria de Operações
END:VEVENT
BEGIN:VEVENT
DTSTART;TZID=America/Sao_Paulo:20241206T143000
DTEND;TZID=America/Sao_Paulo:20241206T150000
DTSTAMP:20260425T073850
CREATED:20241206T185751Z
LAST-MODIFIED:20241206T185751Z
UID:38678-1733495400-1733497200@www.goiasfomento.com
SUMMARY:Rufino Veríssimo: Reunião com Paulo Cesar Paiva – Assessor de Estratégia e Planejamento.
DESCRIPTION:
URL:https://www.goiasfomento.com/agenda/rufino-verissimo-reuniao-com-paulo-cesar-paiva-assessor-de-estrategia-e-planejamento-3/
LOCATION:Gabinete da Diretoria de Operações da GoiásFomento – Agência de Fomento de Goiás.
CATEGORIES:Diretoria de Operações
END:VEVENT
BEGIN:VEVENT
DTSTART;TZID=America/Sao_Paulo:20241206T150000
DTEND;TZID=America/Sao_Paulo:20241206T153000
DTSTAMP:20260425T073850
CREATED:20241206T185908Z
LAST-MODIFIED:20241206T185922Z
UID:38680-1733497200-1733499000@www.goiasfomento.com
SUMMARY:Rufino Veríssimo: Reunião com Rafael Soffa Rézio – Gerente de Programas e Políticas Sociais.
DESCRIPTION:
URL:https://www.goiasfomento.com/agenda/rufino-verissimo-reuniao-da-direx-com-rafael-soffa-rezio-gerente-de-programas-e-politicas-sociais-3/
LOCATION:Gabinete da Diretoria de Operações da GoiásFomento – Agência de Fomento de Goiás.
CATEGORIES:Diretoria de Operações
END:VEVENT
BEGIN:VEVENT
DTSTART;TZID=America/Sao_Paulo:20241206T153000
DTEND;TZID=America/Sao_Paulo:20241206T160000
DTSTAMP:20260425T073850
CREATED:20241206T192420Z
LAST-MODIFIED:20241206T192420Z
UID:38683-1733499000-1733500800@www.goiasfomento.com
SUMMARY:Rufino Veríssimo: Despachos Internos.
DESCRIPTION:
URL:https://www.goiasfomento.com/agenda/rufino-verissimo-despachos-internos-46/
LOCATION:Gabinete da Diretoria de Operações da GoiásFomento – Agência de Fomento de Goiás.
CATEGORIES:Diretoria de Operações
END:VEVENT
END:VCALENDAR