BEGIN:VCALENDAR
VERSION:2.0
PRODID:-//GoiásFomento - Agência de Fomento - ECPv6.15.20//NONSGML v1.0//EN
CALSCALE:GREGORIAN
METHOD:PUBLISH
X-ORIGINAL-URL:https://www.goiasfomento.com
X-WR-CALDESC:Eventos para GoiásFomento - Agência de Fomento
REFRESH-INTERVAL;VALUE=DURATION:PT1H
X-Robots-Tag:noindex
X-PUBLISHED-TTL:PT1H
BEGIN:VTIMEZONE
TZID:America/Sao_Paulo
BEGIN:STANDARD
TZOFFSETFROM:-0300
TZOFFSETTO:-0300
TZNAME:-03
DTSTART:20230101T000000
END:STANDARD
END:VTIMEZONE
BEGIN:VEVENT
DTSTART;TZID=America/Sao_Paulo:20241001T080000
DTEND;TZID=America/Sao_Paulo:20241001T120000
DTSTAMP:20260425T105355
CREATED:20241001T110439Z
LAST-MODIFIED:20241001T110439Z
UID:37191-1727769600-1727784000@www.goiasfomento.com
SUMMARY:Vinícius Luz: Despachos Internos.
DESCRIPTION:
URL:https://www.goiasfomento.com/agenda/vinicius-luz-despachos-internos-88/
LOCATION:Gabinete da Diretoria de Operações da GoiásFomento – Agência de Fomento de Goiás.
CATEGORIES:Diretoria de Operações
END:VEVENT
BEGIN:VEVENT
DTSTART;TZID=America/Sao_Paulo:20241001T140000
DTEND;TZID=America/Sao_Paulo:20241001T180000
DTSTAMP:20260425T105355
CREATED:20241001T110626Z
LAST-MODIFIED:20241001T110626Z
UID:37193-1727791200-1727805600@www.goiasfomento.com
SUMMARY:Vinícius Luz: Despachos Internos.
DESCRIPTION:
URL:https://www.goiasfomento.com/agenda/vinicius-luz-despachos-internos-89/
LOCATION:Gabinete da Diretoria de Operações da GoiásFomento – Agência de Fomento de Goiás.
CATEGORIES:Diretoria de Operações
END:VEVENT
BEGIN:VEVENT
DTSTART;TZID=America/Sao_Paulo:20241002T080000
DTEND;TZID=America/Sao_Paulo:20241002T120000
DTSTAMP:20260425T105355
CREATED:20241002T114027Z
LAST-MODIFIED:20241002T114027Z
UID:37223-1727856000-1727870400@www.goiasfomento.com
SUMMARY:Vinícius Luz: Despachos Internos.
DESCRIPTION:
URL:https://www.goiasfomento.com/agenda/vinicius-luz-despachos-internos-90/
LOCATION:Gabinete da Diretoria de Operações da GoiásFomento – Agência de Fomento de Goiás.
CATEGORIES:Diretoria de Operações
END:VEVENT
BEGIN:VEVENT
DTSTART;TZID=America/Sao_Paulo:20241002T140000
DTEND;TZID=America/Sao_Paulo:20241002T180000
DTSTAMP:20260425T105355
CREATED:20241002T114133Z
LAST-MODIFIED:20241002T114133Z
UID:37225-1727877600-1727892000@www.goiasfomento.com
SUMMARY:Vinícius Luz: Despachos Internos.
DESCRIPTION:
URL:https://www.goiasfomento.com/agenda/vinicius-luz-despachos-internos-91/
LOCATION:Gabinete da Diretoria de Operações da GoiásFomento – Agência de Fomento de Goiás.
CATEGORIES:Diretoria de Operações
END:VEVENT
BEGIN:VEVENT
DTSTART;TZID=America/Sao_Paulo:20241003T080000
DTEND;TZID=America/Sao_Paulo:20241003T120000
DTSTAMP:20260425T105355
CREATED:20241003T113902Z
LAST-MODIFIED:20241003T113902Z
UID:37235-1727942400-1727956800@www.goiasfomento.com
SUMMARY:Vinícius Luz: Despachos Internos.
DESCRIPTION:
URL:https://www.goiasfomento.com/agenda/vinicius-luz-despachos-internos-92/
LOCATION:Gabinete da Diretoria de Operações da GoiásFomento – Agência de Fomento de Goiás.
CATEGORIES:Diretoria de Operações
END:VEVENT
BEGIN:VEVENT
DTSTART;TZID=America/Sao_Paulo:20241003T140000
DTEND;TZID=America/Sao_Paulo:20241003T180000
DTSTAMP:20260425T105355
CREATED:20241003T113939Z
LAST-MODIFIED:20241003T113939Z
UID:37237-1727964000-1727978400@www.goiasfomento.com
SUMMARY:Vinícius Luz: Despachos Internos.
DESCRIPTION:
URL:https://www.goiasfomento.com/agenda/vinicius-luz-despachos-internos-93/
LOCATION:Gabinete da Diretoria de Operações da GoiásFomento – Agência de Fomento de Goiás.
CATEGORIES:Diretoria de Operações
END:VEVENT
BEGIN:VEVENT
DTSTART;TZID=America/Sao_Paulo:20241004T080000
DTEND;TZID=America/Sao_Paulo:20241004T120000
DTSTAMP:20260425T105355
CREATED:20241004T105934Z
LAST-MODIFIED:20241004T105934Z
UID:37256-1728028800-1728043200@www.goiasfomento.com
SUMMARY:Vinícius Luz: Despachos Internos.
DESCRIPTION:
URL:https://www.goiasfomento.com/agenda/vinicius-luz-despachos-internos-94/
LOCATION:Gabinete da Diretoria de Operações da GoiásFomento – Agência de Fomento de Goiás.
CATEGORIES:Diretoria de Operações
END:VEVENT
BEGIN:VEVENT
DTSTART;TZID=America/Sao_Paulo:20241004T140000
DTEND;TZID=America/Sao_Paulo:20241004T180000
DTSTAMP:20260425T105355
CREATED:20241004T110008Z
LAST-MODIFIED:20241004T110008Z
UID:37258-1728050400-1728064800@www.goiasfomento.com
SUMMARY:Vinícius Luz: Despachos Internos.
DESCRIPTION:
URL:https://www.goiasfomento.com/agenda/vinicius-luz-despachos-internos-95/
LOCATION:Gabinete da Diretoria de Operações da GoiásFomento – Agência de Fomento de Goiás.
CATEGORIES:Diretoria de Operações
END:VEVENT
BEGIN:VEVENT
DTSTART;TZID=America/Sao_Paulo:20241007T080000
DTEND;TZID=America/Sao_Paulo:20241007T120000
DTSTAMP:20260425T105355
CREATED:20241007T131518Z
LAST-MODIFIED:20241007T131518Z
UID:37271-1728288000-1728302400@www.goiasfomento.com
SUMMARY:Vinícius Luz: Despachos Internos.
DESCRIPTION:
URL:https://www.goiasfomento.com/agenda/vinicius-luz-despachos-internos-96/
LOCATION:Gabinete da Diretoria de Operações da GoiásFomento – Agência de Fomento de Goiás.
CATEGORIES:Diretoria de Operações
END:VEVENT
BEGIN:VEVENT
DTSTART;TZID=America/Sao_Paulo:20241007T140000
DTEND;TZID=America/Sao_Paulo:20241007T180000
DTSTAMP:20260425T105355
CREATED:20241007T131558Z
LAST-MODIFIED:20241007T131558Z
UID:37273-1728309600-1728324000@www.goiasfomento.com
SUMMARY:Vinícius Luz: Despachos Internos.
DESCRIPTION:
URL:https://www.goiasfomento.com/agenda/vinicius-luz-despachos-internos-97/
LOCATION:Gabinete da Diretoria de Operações da GoiásFomento – Agência de Fomento de Goiás.
CATEGORIES:Diretoria de Operações
END:VEVENT
BEGIN:VEVENT
DTSTART;TZID=America/Sao_Paulo:20241008T080000
DTEND;TZID=America/Sao_Paulo:20241008T120000
DTSTAMP:20260425T105355
CREATED:20241008T112805Z
LAST-MODIFIED:20241008T112805Z
UID:37300-1728374400-1728388800@www.goiasfomento.com
SUMMARY:Vinícius Luz: Despachos Internos.
DESCRIPTION:
URL:https://www.goiasfomento.com/agenda/vinicius-luz-despachos-internos-98/
LOCATION:Gabinete da Diretoria de Operações da GoiásFomento – Agência de Fomento de Goiás.
CATEGORIES:Diretoria de Operações
END:VEVENT
BEGIN:VEVENT
DTSTART;TZID=America/Sao_Paulo:20241008T140000
DTEND;TZID=America/Sao_Paulo:20241008T180000
DTSTAMP:20260425T105355
CREATED:20241008T112841Z
LAST-MODIFIED:20241008T112841Z
UID:37302-1728396000-1728410400@www.goiasfomento.com
SUMMARY:Vinícius Luz: Despachos Internos.
DESCRIPTION:
URL:https://www.goiasfomento.com/agenda/vinicius-luz-despachos-internos-99/
LOCATION:Gabinete da Diretoria de Operações da GoiásFomento – Agência de Fomento de Goiás.
CATEGORIES:Diretoria de Operações
END:VEVENT
BEGIN:VEVENT
DTSTART;TZID=America/Sao_Paulo:20241009T080000
DTEND;TZID=America/Sao_Paulo:20241009T120000
DTSTAMP:20260425T105355
CREATED:20241009T110643Z
LAST-MODIFIED:20241009T110643Z
UID:37314-1728460800-1728475200@www.goiasfomento.com
SUMMARY:Vinícius Luz: Despachos Internos.
DESCRIPTION:
URL:https://www.goiasfomento.com/agenda/vinicius-luz-despachos-internos-100/
LOCATION:Gabinete da Diretoria de Operações da GoiásFomento – Agência de Fomento de Goiás.
CATEGORIES:Diretoria de Operações
END:VEVENT
BEGIN:VEVENT
DTSTART;TZID=America/Sao_Paulo:20241009T140000
DTEND;TZID=America/Sao_Paulo:20241009T180000
DTSTAMP:20260425T105355
CREATED:20241009T110728Z
LAST-MODIFIED:20241009T110728Z
UID:37316-1728482400-1728496800@www.goiasfomento.com
SUMMARY:Vinícius Luz: Despachos Internos.
DESCRIPTION:
URL:https://www.goiasfomento.com/agenda/vinicius-luz-despachos-internos-101/
LOCATION:Gabinete da Diretoria de Operações da GoiásFomento – Agência de Fomento de Goiás.
CATEGORIES:Diretoria de Operações
END:VEVENT
BEGIN:VEVENT
DTSTART;TZID=America/Sao_Paulo:20241010T080000
DTEND;TZID=America/Sao_Paulo:20241010T120000
DTSTAMP:20260425T105355
CREATED:20241010T110406Z
LAST-MODIFIED:20241010T110406Z
UID:37331-1728547200-1728561600@www.goiasfomento.com
SUMMARY:Vinícius Luz: Despachos Internos.
DESCRIPTION:
URL:https://www.goiasfomento.com/agenda/vinicius-luz-despachos-internos-102/
LOCATION:Gabinete da Diretoria de Operações da GoiásFomento – Agência de Fomento de Goiás.
CATEGORIES:Diretoria de Operações
END:VEVENT
BEGIN:VEVENT
DTSTART;TZID=America/Sao_Paulo:20241010T140000
DTEND;TZID=America/Sao_Paulo:20241010T180000
DTSTAMP:20260425T105355
CREATED:20241010T110435Z
LAST-MODIFIED:20241010T110435Z
UID:37333-1728568800-1728583200@www.goiasfomento.com
SUMMARY:Vinícius Luz: Despachos Internos.
DESCRIPTION:
URL:https://www.goiasfomento.com/agenda/vinicius-luz-despachos-internos-103/
LOCATION:Gabinete da Diretoria de Operações da GoiásFomento – Agência de Fomento de Goiás.
CATEGORIES:Diretoria de Operações
END:VEVENT
BEGIN:VEVENT
DTSTART;TZID=America/Sao_Paulo:20241011T080000
DTEND;TZID=America/Sao_Paulo:20241011T120000
DTSTAMP:20260425T105355
CREATED:20241011T111045Z
LAST-MODIFIED:20241011T111045Z
UID:37347-1728633600-1728648000@www.goiasfomento.com
SUMMARY:Vinícius Luz: Despachos Internos.
DESCRIPTION:
URL:https://www.goiasfomento.com/agenda/vinicius-luz-despachos-internos-104/
LOCATION:Gabinete da Diretoria de Operações da GoiásFomento – Agência de Fomento de Goiás.
CATEGORIES:Diretoria de Operações
END:VEVENT
BEGIN:VEVENT
DTSTART;TZID=America/Sao_Paulo:20241011T140000
DTEND;TZID=America/Sao_Paulo:20241011T180000
DTSTAMP:20260425T105355
CREATED:20241011T111112Z
LAST-MODIFIED:20241011T111112Z
UID:37349-1728655200-1728669600@www.goiasfomento.com
SUMMARY:Vinícius Luz: Despachos Internos.
DESCRIPTION:
URL:https://www.goiasfomento.com/agenda/vinicius-luz-despachos-internos-105/
LOCATION:Gabinete da Diretoria de Operações da GoiásFomento – Agência de Fomento de Goiás.
CATEGORIES:Diretoria de Operações
END:VEVENT
BEGIN:VEVENT
DTSTART;TZID=America/Sao_Paulo:20241014T080000
DTEND;TZID=America/Sao_Paulo:20241014T120000
DTSTAMP:20260425T105355
CREATED:20241014T111845Z
LAST-MODIFIED:20241014T111845Z
UID:37374-1728892800-1728907200@www.goiasfomento.com
SUMMARY:Vinícius Luz: Despachos Internos.
DESCRIPTION:
URL:https://www.goiasfomento.com/agenda/vinicius-luz-despachos-internos-106/
LOCATION:Gabinete da Diretoria de Operações da GoiásFomento – Agência de Fomento de Goiás.
CATEGORIES:Diretoria de Operações
END:VEVENT
BEGIN:VEVENT
DTSTART;TZID=America/Sao_Paulo:20241014T140000
DTEND;TZID=America/Sao_Paulo:20241014T180000
DTSTAMP:20260425T105355
CREATED:20241014T111921Z
LAST-MODIFIED:20241014T111921Z
UID:37376-1728914400-1728928800@www.goiasfomento.com
SUMMARY:Vinícius Luz: Despachos Internos.
DESCRIPTION:
URL:https://www.goiasfomento.com/agenda/vinicius-luz-despachos-internos-107/
LOCATION:Gabinete da Diretoria de Operações da GoiásFomento – Agência de Fomento de Goiás.
CATEGORIES:Diretoria de Operações
END:VEVENT
BEGIN:VEVENT
DTSTART;TZID=America/Sao_Paulo:20241015T080000
DTEND;TZID=America/Sao_Paulo:20241015T120000
DTSTAMP:20260425T105355
CREATED:20241015T140422Z
LAST-MODIFIED:20241015T140422Z
UID:37410-1728979200-1728993600@www.goiasfomento.com
SUMMARY:Vinícius Luz: Despachos Internos.
DESCRIPTION:
URL:https://www.goiasfomento.com/agenda/vinicius-luz-despachos-internos-108/
LOCATION:Gabinete da Diretoria de Operações da GoiásFomento – Agência de Fomento de Goiás.
CATEGORIES:Diretoria de Operações
END:VEVENT
BEGIN:VEVENT
DTSTART;TZID=America/Sao_Paulo:20241015T140000
DTEND;TZID=America/Sao_Paulo:20241015T180000
DTSTAMP:20260425T105355
CREATED:20241015T140452Z
LAST-MODIFIED:20241015T140452Z
UID:37412-1729000800-1729015200@www.goiasfomento.com
SUMMARY:Vinícius Luz: Despachos Internos.
DESCRIPTION:
URL:https://www.goiasfomento.com/agenda/vinicius-luz-despachos-internos-109/
LOCATION:Gabinete da Diretoria de Operações da GoiásFomento – Agência de Fomento de Goiás.
CATEGORIES:Diretoria de Operações
END:VEVENT
BEGIN:VEVENT
DTSTART;TZID=America/Sao_Paulo:20241016T080000
DTEND;TZID=America/Sao_Paulo:20241016T100000
DTSTAMP:20260425T105355
CREATED:20241016T105151Z
LAST-MODIFIED:20241016T142039Z
UID:37453-1729065600-1729072800@www.goiasfomento.com
SUMMARY:Vinícius Luz: Despachos Internos.
DESCRIPTION:
URL:https://www.goiasfomento.com/agenda/vinicius-luz-despachos-internos-110/
LOCATION:Gabinete da Diretoria de Operações da GoiásFomento – Agência de Fomento de Goiás.
CATEGORIES:Diretoria de Operações
END:VEVENT
BEGIN:VEVENT
DTSTART;TZID=America/Sao_Paulo:20241016T100000
DTEND;TZID=America/Sao_Paulo:20241016T110000
DTSTAMP:20260425T105355
CREATED:20241016T142301Z
LAST-MODIFIED:20241016T142301Z
UID:37467-1729072800-1729076400@www.goiasfomento.com
SUMMARY:Vinícius Luz: Reunião da Diretoria Executiva da Agência de Fomento de Goiás.
DESCRIPTION:
URL:https://www.goiasfomento.com/agenda/vinicius-luz-reuniao-da-diretoria-executiva-da-agencia-de-fomento-de-goias-3/
LOCATION:Gabinete da Diretoria de Operações da GoiásFomento – Agência de Fomento de Goiás.
CATEGORIES:Diretoria de Operações
END:VEVENT
BEGIN:VEVENT
DTSTART;TZID=America/Sao_Paulo:20241016T140000
DTEND;TZID=America/Sao_Paulo:20241016T180000
DTSTAMP:20260425T105355
CREATED:20241016T105231Z
LAST-MODIFIED:20241016T105231Z
UID:37455-1729087200-1729101600@www.goiasfomento.com
SUMMARY:Vinícius Luz: Despachos Internos.
DESCRIPTION:
URL:https://www.goiasfomento.com/agenda/vinicius-luz-despachos-internos-111/
LOCATION:Gabinete da Diretoria de Operações da GoiásFomento – Agência de Fomento de Goiás.
CATEGORIES:Diretoria de Operações
END:VEVENT
BEGIN:VEVENT
DTSTART;TZID=America/Sao_Paulo:20241017T080000
DTEND;TZID=America/Sao_Paulo:20241017T120000
DTSTAMP:20260425T105355
CREATED:20241017T105841Z
LAST-MODIFIED:20241017T110406Z
UID:37485-1729152000-1729166400@www.goiasfomento.com
SUMMARY:Vinícius Luz: Despachos Internos.
DESCRIPTION:
URL:https://www.goiasfomento.com/agenda/vinicius-luz-despachos-internos-112/
LOCATION:Gabinete da Diretoria de Operações da GoiásFomento – Agência de Fomento de Goiás.
CATEGORIES:Diretoria de Operações
END:VEVENT
BEGIN:VEVENT
DTSTART;TZID=America/Sao_Paulo:20241017T140000
DTEND;TZID=America/Sao_Paulo:20241017T180000
DTSTAMP:20260425T105355
CREATED:20241017T105907Z
LAST-MODIFIED:20241017T105907Z
UID:37487-1729173600-1729188000@www.goiasfomento.com
SUMMARY:Vinícius Luz: Despachos Internos.
DESCRIPTION:
URL:https://www.goiasfomento.com/agenda/vinicius-luz-despachos-internos-113/
LOCATION:Gabinete da Diretoria de Operações da GoiásFomento – Agência de Fomento de Goiás.
CATEGORIES:Diretoria de Operações
END:VEVENT
BEGIN:VEVENT
DTSTART;TZID=America/Sao_Paulo:20241018T080000
DTEND;TZID=America/Sao_Paulo:20241018T120000
DTSTAMP:20260425T105355
CREATED:20241018T111332Z
LAST-MODIFIED:20241018T111332Z
UID:37546-1729238400-1729252800@www.goiasfomento.com
SUMMARY:Vinícius Luz: Despachos Internos.
DESCRIPTION:
URL:https://www.goiasfomento.com/agenda/vinicius-luz-despachos-internos-114/
LOCATION:Gabinete da Diretoria de Operações da GoiásFomento – Agência de Fomento de Goiás.
CATEGORIES:Diretoria de Operações
END:VEVENT
BEGIN:VEVENT
DTSTART;TZID=America/Sao_Paulo:20241018T140000
DTEND;TZID=America/Sao_Paulo:20241018T180000
DTSTAMP:20260425T105355
CREATED:20241018T111408Z
LAST-MODIFIED:20241018T111419Z
UID:37548-1729260000-1729274400@www.goiasfomento.com
SUMMARY:Vinícius Luz: Despachos Internos.
DESCRIPTION:
URL:https://www.goiasfomento.com/agenda/vinicius-luz-despachos-internos-115/
LOCATION:Gabinete da Diretoria de Operações da GoiásFomento – Agência de Fomento de Goiás.
CATEGORIES:Diretoria de Operações
END:VEVENT
BEGIN:VEVENT
DTSTART;TZID=America/Sao_Paulo:20241021T080000
DTEND;TZID=America/Sao_Paulo:20241021T120000
DTSTAMP:20260425T105355
CREATED:20241021T105935Z
LAST-MODIFIED:20241021T105935Z
UID:37593-1729497600-1729512000@www.goiasfomento.com
SUMMARY:Vinícius Luz: Despachos Internos.
DESCRIPTION:
URL:https://www.goiasfomento.com/agenda/vinicius-luz-despachos-internos-116/
LOCATION:Gabinete da Diretoria de Operações da GoiásFomento – Agência de Fomento de Goiás.
CATEGORIES:Diretoria de Operações
END:VEVENT
END:VCALENDAR