BEGIN:VCALENDAR
VERSION:2.0
PRODID:-//GoiásFomento - Agência de Fomento - ECPv6.15.20//NONSGML v1.0//EN
CALSCALE:GREGORIAN
METHOD:PUBLISH
X-ORIGINAL-URL:https://www.goiasfomento.com
X-WR-CALDESC:Eventos para GoiásFomento - Agência de Fomento
REFRESH-INTERVAL;VALUE=DURATION:PT1H
X-Robots-Tag:noindex
X-PUBLISHED-TTL:PT1H
BEGIN:VTIMEZONE
TZID:America/Sao_Paulo
BEGIN:STANDARD
TZOFFSETFROM:-0300
TZOFFSETTO:-0300
TZNAME:-03
DTSTART:20230101T000000
END:STANDARD
END:VTIMEZONE
BEGIN:VEVENT
DTSTART;TZID=America/Sao_Paulo:20240701T080000
DTEND;TZID=America/Sao_Paulo:20240701T120000
DTSTAMP:20260425T153305
CREATED:20240701T115223Z
LAST-MODIFIED:20240701T115223Z
UID:35295-1719820800-1719835200@www.goiasfomento.com
SUMMARY:Vinícius de Cecílio Luz: Despachos Internos.
DESCRIPTION:
URL:https://www.goiasfomento.com/agenda/vinicius-de-cecilio-luz-despachos-internos-159/
LOCATION:Diretoria de Operações da GoiásFomento – Agência de Fomento de Goiás.
CATEGORIES:Diretoria de Operações
END:VEVENT
BEGIN:VEVENT
DTSTART;TZID=America/Sao_Paulo:20240701T140000
DTEND;TZID=America/Sao_Paulo:20240701T180000
DTSTAMP:20260425T153305
CREATED:20240701T115256Z
LAST-MODIFIED:20240701T115256Z
UID:35297-1719842400-1719856800@www.goiasfomento.com
SUMMARY:Vinícius de Cecílio Luz: Despachos Internos.
DESCRIPTION:
URL:https://www.goiasfomento.com/agenda/vinicius-de-cecilio-luz-despachos-internos-160/
LOCATION:Diretoria de Operações da GoiásFomento – Agência de Fomento de Goiás.
CATEGORIES:Diretoria de Operações
END:VEVENT
BEGIN:VEVENT
DTSTART;TZID=America/Sao_Paulo:20240702T080000
DTEND;TZID=America/Sao_Paulo:20240702T120000
DTSTAMP:20260425T153305
CREATED:20240702T114250Z
LAST-MODIFIED:20240702T114250Z
UID:35303-1719907200-1719921600@www.goiasfomento.com
SUMMARY:Vinícius de Cecílio Luz: Despachos Internos.
DESCRIPTION:
URL:https://www.goiasfomento.com/agenda/vinicius-de-cecilio-luz-despachos-internos-161/
LOCATION:Diretoria de Operações da GoiásFomento – Agência de Fomento de Goiás.
CATEGORIES:Diretoria de Operações
END:VEVENT
BEGIN:VEVENT
DTSTART;TZID=America/Sao_Paulo:20240702T140000
DTEND;TZID=America/Sao_Paulo:20240702T153000
DTSTAMP:20260425T153305
CREATED:20240703T132047Z
LAST-MODIFIED:20240703T132047Z
UID:35369-1719928800-1719934200@www.goiasfomento.com
SUMMARY:Vinícius de Cecílio Luz: Reunião com os Gerentes da Diretoria de Operações da Agência de Fomento de Goiás.
DESCRIPTION:
URL:https://www.goiasfomento.com/agenda/vinicius-de-cecilio-luz-reuniao-com-os-gerentes-da-diretoria-de-operacoes-da-agencia-de-fomento-de-goias/
LOCATION:Diretoria de Operações da GoiásFomento – Agência de Fomento de Goiás.
CATEGORIES:Diretoria de Operações
END:VEVENT
BEGIN:VEVENT
DTSTART;TZID=America/Sao_Paulo:20240702T153000
DTEND;TZID=America/Sao_Paulo:20240702T180000
DTSTAMP:20260425T153305
CREATED:20240702T114327Z
LAST-MODIFIED:20240703T131934Z
UID:35306-1719934200-1719943200@www.goiasfomento.com
SUMMARY:Vinícius de Cecílio Luz: Despachos Internos.
DESCRIPTION:
URL:https://www.goiasfomento.com/agenda/vinicius-de-cecilio-luz-despachos-internos-162/
LOCATION:Diretoria de Operações da GoiásFomento – Agência de Fomento de Goiás.
CATEGORIES:Diretoria de Operações
END:VEVENT
BEGIN:VEVENT
DTSTART;TZID=America/Sao_Paulo:20240703T080000
DTEND;TZID=America/Sao_Paulo:20240703T120000
DTSTAMP:20260425T153305
CREATED:20240703T131825Z
LAST-MODIFIED:20240703T131825Z
UID:35365-1719993600-1720008000@www.goiasfomento.com
SUMMARY:Vinícius de Cecílio Luz: Despachos Internos.
DESCRIPTION:
URL:https://www.goiasfomento.com/agenda/vinicius-de-cecilio-luz-despachos-internos-163/
LOCATION:Diretoria de Operações da GoiásFomento – Agência de Fomento de Goiás.
CATEGORIES:Diretoria de Operações
END:VEVENT
BEGIN:VEVENT
DTSTART;TZID=America/Sao_Paulo:20240703T140000
DTEND;TZID=America/Sao_Paulo:20240703T180000
DTSTAMP:20260425T153305
CREATED:20240703T131907Z
LAST-MODIFIED:20240703T131907Z
UID:35367-1720015200-1720029600@www.goiasfomento.com
SUMMARY:Vinícius de Cecílio Luz: Despachos Internos.
DESCRIPTION:
URL:https://www.goiasfomento.com/agenda/vinicius-de-cecilio-luz-despachos-internos-164/
LOCATION:Diretoria de Operações da GoiásFomento – Agência de Fomento de Goiás.
CATEGORIES:Diretoria de Operações
END:VEVENT
BEGIN:VEVENT
DTSTART;TZID=America/Sao_Paulo:20240704T080000
DTEND;TZID=America/Sao_Paulo:20240704T120000
DTSTAMP:20260425T153305
CREATED:20240704T111510Z
LAST-MODIFIED:20240704T111510Z
UID:35382-1720080000-1720094400@www.goiasfomento.com
SUMMARY:Vinícius de Cecílio Luz: Despachos Internos.
DESCRIPTION:
URL:https://www.goiasfomento.com/agenda/vinicius-de-cecilio-luz-despachos-internos-165/
LOCATION:Diretoria de Operações da GoiásFomento – Agência de Fomento de Goiás.
CATEGORIES:Diretoria de Operações
END:VEVENT
BEGIN:VEVENT
DTSTART;TZID=America/Sao_Paulo:20240704T140000
DTEND;TZID=America/Sao_Paulo:20240704T180000
DTSTAMP:20260425T153305
CREATED:20240704T111546Z
LAST-MODIFIED:20240704T111546Z
UID:35384-1720101600-1720116000@www.goiasfomento.com
SUMMARY:Vinícius de Cecílio Luz: Despachos Internos.
DESCRIPTION:
URL:https://www.goiasfomento.com/agenda/vinicius-de-cecilio-luz-despachos-internos-166/
LOCATION:Diretoria de Operações da GoiásFomento – Agência de Fomento de Goiás.
CATEGORIES:Diretoria de Operações
END:VEVENT
BEGIN:VEVENT
DTSTART;TZID=America/Sao_Paulo:20240705T080000
DTEND;TZID=America/Sao_Paulo:20240705T120000
DTSTAMP:20260425T153305
CREATED:20240705T122140Z
LAST-MODIFIED:20240705T122140Z
UID:35428-1720166400-1720180800@www.goiasfomento.com
SUMMARY:Vinícius de Cecílio Luz: Despachos Internos.
DESCRIPTION:
URL:https://www.goiasfomento.com/agenda/vinicius-de-cecilio-luz-despachos-internos-167/
LOCATION:Diretoria de Operações da GoiásFomento – Agência de Fomento de Goiás.
CATEGORIES:Diretoria de Operações
END:VEVENT
BEGIN:VEVENT
DTSTART;TZID=America/Sao_Paulo:20240705T140000
DTEND;TZID=America/Sao_Paulo:20240705T180000
DTSTAMP:20260425T153305
CREATED:20240705T122219Z
LAST-MODIFIED:20240705T122219Z
UID:35430-1720188000-1720202400@www.goiasfomento.com
SUMMARY:Vinícius de Cecílio Luz: Despachos Internos.
DESCRIPTION:
URL:https://www.goiasfomento.com/agenda/vinicius-de-cecilio-luz-despachos-internos-168/
LOCATION:Diretoria de Operações da GoiásFomento – Agência de Fomento de Goiás.
CATEGORIES:Diretoria de Operações
END:VEVENT
BEGIN:VEVENT
DTSTART;TZID=America/Sao_Paulo:20240708T080000
DTEND;TZID=America/Sao_Paulo:20240708T120000
DTSTAMP:20260425T153305
CREATED:20240708T110423Z
LAST-MODIFIED:20240708T110423Z
UID:35445-1720425600-1720440000@www.goiasfomento.com
SUMMARY:Vinícius de Cecílio Luz: Despachos Internos.
DESCRIPTION:
URL:https://www.goiasfomento.com/agenda/vinicius-de-cecilio-luz-despachos-internos-169/
LOCATION:Diretoria de Operações da GoiásFomento – Agência de Fomento de Goiás.
CATEGORIES:Diretoria de Operações
END:VEVENT
BEGIN:VEVENT
DTSTART;TZID=America/Sao_Paulo:20240708T140000
DTEND;TZID=America/Sao_Paulo:20240708T180000
DTSTAMP:20260425T153305
CREATED:20240708T110453Z
LAST-MODIFIED:20240708T110453Z
UID:35447-1720447200-1720461600@www.goiasfomento.com
SUMMARY:Vinícius de Cecílio Luz: Despachos Internos.
DESCRIPTION:
URL:https://www.goiasfomento.com/agenda/vinicius-de-cecilio-luz-despachos-internos-170/
LOCATION:Diretoria de Operações da GoiásFomento – Agência de Fomento de Goiás.
CATEGORIES:Diretoria de Operações
END:VEVENT
BEGIN:VEVENT
DTSTART;TZID=America/Sao_Paulo:20240709T080000
DTEND;TZID=America/Sao_Paulo:20240709T120000
DTSTAMP:20260425T153305
CREATED:20240710T112024Z
LAST-MODIFIED:20240710T112024Z
UID:35514-1720512000-1720526400@www.goiasfomento.com
SUMMARY:Vinícius de Cecílio Luz: Despachos Internos.
DESCRIPTION:
URL:https://www.goiasfomento.com/agenda/vinicius-de-cecilio-luz-despachos-internos-173/
LOCATION:Diretoria de Operações da GoiásFomento – Agência de Fomento de Goiás.
CATEGORIES:Diretoria de Operações
END:VEVENT
BEGIN:VEVENT
DTSTART;TZID=America/Sao_Paulo:20240709T140000
DTEND;TZID=America/Sao_Paulo:20240709T180000
DTSTAMP:20260425T153305
CREATED:20240710T112104Z
LAST-MODIFIED:20240710T112104Z
UID:35516-1720533600-1720548000@www.goiasfomento.com
SUMMARY:Vinícius de Cecílio Luz: Despachos Internos.
DESCRIPTION:
URL:https://www.goiasfomento.com/agenda/vinicius-de-cecilio-luz-despachos-internos-174/
LOCATION:Diretoria de Operações da GoiásFomento – Agência de Fomento de Goiás.
CATEGORIES:Diretoria de Operações
END:VEVENT
BEGIN:VEVENT
DTSTART;TZID=America/Sao_Paulo:20240710T080000
DTEND;TZID=America/Sao_Paulo:20240710T090000
DTSTAMP:20260425T153305
CREATED:20240710T111927Z
LAST-MODIFIED:20240711T113615Z
UID:35510-1720598400-1720602000@www.goiasfomento.com
SUMMARY:Vinícius de Cecílio Luz: Despachos Internos.
DESCRIPTION:
URL:https://www.goiasfomento.com/agenda/vinicius-de-cecilio-luz-despachos-internos-171/
LOCATION:Diretoria de Operações da GoiásFomento – Agência de Fomento de Goiás.
CATEGORIES:Diretoria de Operações
END:VEVENT
BEGIN:VEVENT
DTSTART;TZID=America/Sao_Paulo:20240710T090000
DTEND;TZID=America/Sao_Paulo:20240710T120000
DTSTAMP:20260425T153305
CREATED:20240711T113914Z
LAST-MODIFIED:20240711T113945Z
UID:35547-1720602000-1720612800@www.goiasfomento.com
SUMMARY:Vinícius de Cecílio Luz: Reunião com os Gerentes da Diretoria de Operações da Agência de Fomento de Goiás.
DESCRIPTION:
URL:https://www.goiasfomento.com/agenda/vinicius-de-cecilio-luz-reuniao-com-os-gerentes-da-diretoria-de-operacoes-da-agencia-de-fomento-de-goias-2/
LOCATION:Gabinete da Diretoria de Operações da GoiásFomento – Agência de Fomento de Goiás.
CATEGORIES:Diretoria de Operações
END:VEVENT
BEGIN:VEVENT
DTSTART;TZID=America/Sao_Paulo:20240710T140000
DTEND;TZID=America/Sao_Paulo:20240710T180000
DTSTAMP:20260425T153305
CREATED:20240710T111955Z
LAST-MODIFIED:20240710T111955Z
UID:35512-1720620000-1720634400@www.goiasfomento.com
SUMMARY:Vinícius de Cecílio Luz: Despachos Internos.
DESCRIPTION:
URL:https://www.goiasfomento.com/agenda/vinicius-de-cecilio-luz-despachos-internos-172/
LOCATION:Diretoria de Operações da GoiásFomento – Agência de Fomento de Goiás.
CATEGORIES:Diretoria de Operações
END:VEVENT
BEGIN:VEVENT
DTSTART;TZID=America/Sao_Paulo:20240711T080000
DTEND;TZID=America/Sao_Paulo:20240711T120000
DTSTAMP:20260425T153305
CREATED:20240711T114100Z
LAST-MODIFIED:20240711T114100Z
UID:35550-1720684800-1720699200@www.goiasfomento.com
SUMMARY:Vinícius de Cecílio Luz: Despachos Internos.
DESCRIPTION:
URL:https://www.goiasfomento.com/agenda/vinicius-de-cecilio-luz-despachos-internos-175/
LOCATION:Gabinete da Diretoria de Operações da GoiásFomento – Agência de Fomento de Goiás.
CATEGORIES:Diretoria de Operações
END:VEVENT
BEGIN:VEVENT
DTSTART;TZID=America/Sao_Paulo:20240711T140000
DTEND;TZID=America/Sao_Paulo:20240711T180000
DTSTAMP:20260425T153305
CREATED:20240711T114131Z
LAST-MODIFIED:20240711T114131Z
UID:35552-1720706400-1720720800@www.goiasfomento.com
SUMMARY:Vinícius de Cecílio Luz: Despachos Internos.
DESCRIPTION:
URL:https://www.goiasfomento.com/agenda/vinicius-de-cecilio-luz-despachos-internos-176/
LOCATION:Gabinete da Diretoria de Operações da GoiásFomento – Agência de Fomento de Goiás.
CATEGORIES:Diretoria de Operações
END:VEVENT
BEGIN:VEVENT
DTSTART;TZID=America/Sao_Paulo:20240712T080000
DTEND;TZID=America/Sao_Paulo:20240712T120000
DTSTAMP:20260425T153305
CREATED:20240712T111413Z
LAST-MODIFIED:20240712T111413Z
UID:35622-1720771200-1720785600@www.goiasfomento.com
SUMMARY:Vinícius de Cecílio Luz: Despachos Internos.
DESCRIPTION:
URL:https://www.goiasfomento.com/agenda/vinicius-de-cecilio-luz-despachos-internos-177/
LOCATION:Gabinete da Diretoria de Operações da GoiásFomento – Agência de Fomento de Goiás.
CATEGORIES:Diretoria de Operações
END:VEVENT
BEGIN:VEVENT
DTSTART;TZID=America/Sao_Paulo:20240712T140000
DTEND;TZID=America/Sao_Paulo:20240712T180000
DTSTAMP:20260425T153305
CREATED:20240712T111448Z
LAST-MODIFIED:20240712T111448Z
UID:35624-1720792800-1720807200@www.goiasfomento.com
SUMMARY:Vinícius de Cecílio Luz: Despachos Internos.
DESCRIPTION:
URL:https://www.goiasfomento.com/agenda/vinicius-de-cecilio-luz-despachos-internos-178/
LOCATION:Gabinete da Diretoria de Operações da GoiásFomento – Agência de Fomento de Goiás.
CATEGORIES:Diretoria de Operações
END:VEVENT
BEGIN:VEVENT
DTSTART;TZID=America/Sao_Paulo:20240715T080000
DTEND;TZID=America/Sao_Paulo:20240715T120000
DTSTAMP:20260425T153305
CREATED:20240715T112036Z
LAST-MODIFIED:20240715T112036Z
UID:35644-1721030400-1721044800@www.goiasfomento.com
SUMMARY:Vinícius de Cecílio Luz: Despachos Internos.
DESCRIPTION:
URL:https://www.goiasfomento.com/agenda/vinicius-de-cecilio-luz-despachos-internos-179/
LOCATION:Gabinete da Diretoria de Operações da GoiásFomento – Agência de Fomento de Goiás.
CATEGORIES:Diretoria de Operações
END:VEVENT
BEGIN:VEVENT
DTSTART;TZID=America/Sao_Paulo:20240715T140000
DTEND;TZID=America/Sao_Paulo:20240715T180000
DTSTAMP:20260425T153305
CREATED:20240715T112106Z
LAST-MODIFIED:20240715T112106Z
UID:35646-1721052000-1721066400@www.goiasfomento.com
SUMMARY:Vinícius de Cecílio Luz: Despachos Internos.
DESCRIPTION:
URL:https://www.goiasfomento.com/agenda/vinicius-de-cecilio-luz-despachos-internos-180/
LOCATION:Gabinete da Diretoria de Operações da GoiásFomento – Agência de Fomento de Goiás.
CATEGORIES:Diretoria de Operações
END:VEVENT
BEGIN:VEVENT
DTSTART;TZID=America/Sao_Paulo:20240716T080000
DTEND;TZID=America/Sao_Paulo:20240716T120000
DTSTAMP:20260425T153305
CREATED:20240716T110821Z
LAST-MODIFIED:20240716T110821Z
UID:35678-1721116800-1721131200@www.goiasfomento.com
SUMMARY:Vinícius de Cecílio Luz: Despachos Internos.
DESCRIPTION:
URL:https://www.goiasfomento.com/agenda/vinicius-de-cecilio-luz-despachos-internos-181/
LOCATION:Gabinete da Diretoria de Operações da GoiásFomento – Agência de Fomento de Goiás.
CATEGORIES:Diretoria de Operações
END:VEVENT
BEGIN:VEVENT
DTSTART;TZID=America/Sao_Paulo:20240716T140000
DTEND;TZID=America/Sao_Paulo:20240716T180000
DTSTAMP:20260425T153305
CREATED:20240716T110847Z
LAST-MODIFIED:20240716T110847Z
UID:35680-1721138400-1721152800@www.goiasfomento.com
SUMMARY:Vinícius de Cecílio Luz: Despachos Internos.
DESCRIPTION:
URL:https://www.goiasfomento.com/agenda/vinicius-de-cecilio-luz-despachos-internos-182/
LOCATION:Gabinete da Diretoria de Operações da GoiásFomento – Agência de Fomento de Goiás.
CATEGORIES:Diretoria de Operações
END:VEVENT
BEGIN:VEVENT
DTSTART;TZID=America/Sao_Paulo:20240717T080000
DTEND;TZID=America/Sao_Paulo:20240717T120000
DTSTAMP:20260425T153305
CREATED:20240717T115446Z
LAST-MODIFIED:20240717T115446Z
UID:35728-1721203200-1721217600@www.goiasfomento.com
SUMMARY:Vinícius de Cecílio Luz: Despachos Internos.
DESCRIPTION:
URL:https://www.goiasfomento.com/agenda/vinicius-de-cecilio-luz-despachos-internos-183/
LOCATION:Gabinete da Diretoria de Operações da GoiásFomento – Agência de Fomento de Goiás.
CATEGORIES:Diretoria de Operações
END:VEVENT
BEGIN:VEVENT
DTSTART;TZID=America/Sao_Paulo:20240717T140000
DTEND;TZID=America/Sao_Paulo:20240717T180000
DTSTAMP:20260425T153305
CREATED:20240717T115522Z
LAST-MODIFIED:20240717T115522Z
UID:35730-1721224800-1721239200@www.goiasfomento.com
SUMMARY:Vinícius de Cecílio Luz: Despachos Internos.
DESCRIPTION:
URL:https://www.goiasfomento.com/agenda/vinicius-de-cecilio-luz-despachos-internos-184/
LOCATION:Gabinete da Diretoria de Operações da GoiásFomento – Agência de Fomento de Goiás.
CATEGORIES:Diretoria de Operações
END:VEVENT
BEGIN:VEVENT
DTSTART;TZID=America/Sao_Paulo:20240718T080000
DTEND;TZID=America/Sao_Paulo:20240718T120000
DTSTAMP:20260425T153305
CREATED:20240718T114746Z
LAST-MODIFIED:20240718T114746Z
UID:35793-1721289600-1721304000@www.goiasfomento.com
SUMMARY:Vinícius de Cecílio Luz: Despachos Internos.
DESCRIPTION:
URL:https://www.goiasfomento.com/agenda/vinicius-de-cecilio-luz-despachos-internos-185/
LOCATION:Gabinete da Diretoria de Operações da GoiásFomento – Agência de Fomento de Goiás.
CATEGORIES:Diretoria de Operações
END:VEVENT
BEGIN:VEVENT
DTSTART;TZID=America/Sao_Paulo:20240718T140000
DTEND;TZID=America/Sao_Paulo:20240718T180000
DTSTAMP:20260425T153305
CREATED:20240718T115042Z
LAST-MODIFIED:20240718T115042Z
UID:35795-1721311200-1721325600@www.goiasfomento.com
SUMMARY:Vinícius de Cecílio Luz: Despachos Internos.
DESCRIPTION:
URL:https://www.goiasfomento.com/agenda/vinicius-de-cecilio-luz-despachos-internos-186/
LOCATION:Gabinete da Diretoria de Operações da GoiásFomento – Agência de Fomento de Goiás.
CATEGORIES:Diretoria de Operações
END:VEVENT
END:VCALENDAR