BEGIN:VCALENDAR
VERSION:2.0
PRODID:-//GoiásFomento - Agência de Fomento - ECPv6.15.20//NONSGML v1.0//EN
CALSCALE:GREGORIAN
METHOD:PUBLISH
X-WR-CALNAME:GoiásFomento - Agência de Fomento
X-ORIGINAL-URL:https://www.goiasfomento.com
X-WR-CALDESC:Eventos para GoiásFomento - Agência de Fomento
REFRESH-INTERVAL;VALUE=DURATION:PT1H
X-Robots-Tag:noindex
X-PUBLISHED-TTL:PT1H
BEGIN:VTIMEZONE
TZID:America/Sao_Paulo
BEGIN:STANDARD
TZOFFSETFROM:-0300
TZOFFSETTO:-0300
TZNAME:-03
DTSTART:20250101T000000
END:STANDARD
END:VTIMEZONE
BEGIN:VEVENT
DTSTART;TZID=America/Sao_Paulo:20260311T080000
DTEND;TZID=America/Sao_Paulo:20260311T100000
DTSTAMP:20260424T021811
CREATED:20260311T195316Z
LAST-MODIFIED:20260311T195316Z
UID:49172-1773216000-1773223200@www.goiasfomento.com
SUMMARY:Lara Garcia: Despachos Internos e Administrativos.
DESCRIPTION:
URL:https://www.goiasfomento.com/agenda/lara-garcia-despachos-internos-e-administrativos-203/
LOCATION:Gabinete da Diretoria de Operações da GoiásFomento – Agência de Fomento de Goiás.
CATEGORIES:Diretoria Administrativa e Financeira
END:VEVENT
BEGIN:VEVENT
DTSTART;TZID=America/Sao_Paulo:20260311T100000
DTEND;TZID=America/Sao_Paulo:20260311T120000
DTSTAMP:20260424T021811
CREATED:20260311T195406Z
LAST-MODIFIED:20260311T195406Z
UID:49174-1773223200-1773230400@www.goiasfomento.com
SUMMARY:Lara Garcia: Abertura CONVERGÊNCIA – PALESTRA INTERNACIONAL – Convergência 2026.
DESCRIPTION:
URL:https://www.goiasfomento.com/agenda/lara-garcia-abertura-convergencia-palestra-internacional-convergencia-2026/
LOCATION:Teatro Escola Basileu França
CATEGORIES:Diretoria Administrativa e Financeira
END:VEVENT
BEGIN:VEVENT
DTSTART;TZID=America/Sao_Paulo:20260311T140000
DTEND;TZID=America/Sao_Paulo:20260311T173000
DTSTAMP:20260424T021811
CREATED:20260311T195520Z
LAST-MODIFIED:20260311T195520Z
UID:49176-1773237600-1773250200@www.goiasfomento.com
SUMMARY:Lara Garcia: Despachos Internos e Administrativos.
DESCRIPTION:
URL:https://www.goiasfomento.com/agenda/lara-garcia-despachos-internos-e-administrativos-204/
LOCATION:Gabinete da Diretoria Administrativa e Financeira – Agência de Fomento de Goiás.
CATEGORIES:Diretoria Administrativa e Financeira
END:VEVENT
BEGIN:VEVENT
DTSTART;TZID=America/Sao_Paulo:20260311T173000
DTEND;TZID=America/Sao_Paulo:20260311T190000
DTSTAMP:20260424T021811
CREATED:20260311T195825Z
LAST-MODIFIED:20260311T200102Z
UID:49178-1773250200-1773255600@www.goiasfomento.com
SUMMARY:Lara Garcia: Entrega do Bolsa uniforme para os 76 mil alunos.
DESCRIPTION:
URL:https://www.goiasfomento.com/agenda/lara-garcia-entrega-do-bolsa-uniforme-para-os-76-mil-alunos/
LOCATION:Colégio da Polícia Militar de Goiás Hugo de Carvalho Ramos
CATEGORIES:Diretoria Administrativa e Financeira
END:VEVENT
END:VCALENDAR