BEGIN:VCALENDAR
VERSION:2.0
PRODID:-//GoiásFomento - Agência de Fomento - ECPv6.15.20//NONSGML v1.0//EN
CALSCALE:GREGORIAN
METHOD:PUBLISH
X-ORIGINAL-URL:https://www.goiasfomento.com
X-WR-CALDESC:Eventos para GoiásFomento - Agência de Fomento
REFRESH-INTERVAL;VALUE=DURATION:PT1H
X-Robots-Tag:noindex
X-PUBLISHED-TTL:PT1H
BEGIN:VTIMEZONE
TZID:America/Sao_Paulo
BEGIN:STANDARD
TZOFFSETFROM:-0300
TZOFFSETTO:-0300
TZNAME:-03
DTSTART:20250101T000000
END:STANDARD
END:VTIMEZONE
BEGIN:VEVENT
DTSTART;TZID=America/Sao_Paulo:20260304T080000
DTEND;TZID=America/Sao_Paulo:20260304T120000
DTSTAMP:20260424T021811
CREATED:20260305T131334Z
LAST-MODIFIED:20260305T131334Z
UID:48972-1772611200-1772625600@www.goiasfomento.com
SUMMARY:Lara Garcia: Abertura Ofícial do Goiás Social Mulher Goiânia.
DESCRIPTION:
URL:https://www.goiasfomento.com/agenda/lara-garcia-abertura-oficial-do-goias-social-mulher-goiania/
LOCATION:Praça  Civíca – Praça Dr. Pedro Ludovico Teixeira – St. Central\, Goiânia – GO\, 74003-010
CATEGORIES:Diretoria Administrativa e Financeira
END:VEVENT
BEGIN:VEVENT
DTSTART;TZID=America/Sao_Paulo:20260304T140000
DTEND;TZID=America/Sao_Paulo:20260304T180000
DTSTAMP:20260424T021811
CREATED:20260305T131405Z
LAST-MODIFIED:20260305T131405Z
UID:48974-1772632800-1772647200@www.goiasfomento.com
SUMMARY:Lara Garcia: Despachos Internos e Administrativos.
DESCRIPTION:
URL:https://www.goiasfomento.com/agenda/lara-garcia-despachos-internos-e-administrativos-193/
LOCATION:Gabinete da Diretoria Administrativa e Financeira – Agência de Fomento de Goiás.
CATEGORIES:Diretoria Administrativa e Financeira
END:VEVENT
END:VCALENDAR