BEGIN:VCALENDAR
VERSION:2.0
PRODID:-//GoiásFomento - Agência de Fomento - ECPv6.15.20//NONSGML v1.0//EN
CALSCALE:GREGORIAN
METHOD:PUBLISH
X-WR-CALNAME:GoiásFomento - Agência de Fomento
X-ORIGINAL-URL:https://www.goiasfomento.com
X-WR-CALDESC:Eventos para GoiásFomento - Agência de Fomento
REFRESH-INTERVAL;VALUE=DURATION:PT1H
X-Robots-Tag:noindex
X-PUBLISHED-TTL:PT1H
BEGIN:VTIMEZONE
TZID:America/Sao_Paulo
BEGIN:STANDARD
TZOFFSETFROM:-0300
TZOFFSETTO:-0300
TZNAME:-03
DTSTART:20250101T000000
END:STANDARD
END:VTIMEZONE
BEGIN:VEVENT
DTSTART;TZID=America/Sao_Paulo:20260224T080000
DTEND;TZID=America/Sao_Paulo:20260224T100000
DTSTAMP:20260424T021804
CREATED:20260225T152012Z
LAST-MODIFIED:20260225T152021Z
UID:48746-1771920000-1771927200@www.goiasfomento.com
SUMMARY:Lara Garcia: Despachos Internos e Administrativos.
DESCRIPTION:
URL:https://www.goiasfomento.com/agenda/lara-garcia-despachos-internos-e-administrativos-181/
LOCATION:Gabinete da Diretoria Administrativa e Financeira – Agência de Fomento de Goiás.
CATEGORIES:Diretoria Administrativa e Financeira
END:VEVENT
BEGIN:VEVENT
DTSTART;TZID=America/Sao_Paulo:20260224T100000
DTEND;TZID=America/Sao_Paulo:20260224T120000
DTSTAMP:20260424T021804
CREATED:20260225T151858Z
LAST-MODIFIED:20260225T151858Z
UID:48744-1771927200-1771934400@www.goiasfomento.com
SUMMARY:Lara Garcia:Reunião de alinhamento e planejamento estratégico GoiásFomento com o Sebrae.
DESCRIPTION:
URL:https://www.goiasfomento.com/agenda/lara-garciareuniao-de-alinhamento-e-planejamento-estrategico-goiasfomento-com-o-sebrae/
LOCATION:Gabinete da Diretoria Administrativa e Financeira – Agência de Fomento de Goiás.
CATEGORIES:Diretoria Administrativa e Financeira
END:VEVENT
BEGIN:VEVENT
DTSTART;TZID=America/Sao_Paulo:20260224T140000
DTEND;TZID=America/Sao_Paulo:20260224T180000
DTSTAMP:20260424T021804
CREATED:20260225T152049Z
LAST-MODIFIED:20260225T152049Z
UID:48748-1771941600-1771956000@www.goiasfomento.com
SUMMARY:Lara Garcia: Despachos Internos e Administrativos.
DESCRIPTION:
URL:https://www.goiasfomento.com/agenda/lara-garcia-despachos-internos-e-administrativos-182/
LOCATION:Gabinete da Diretoria Administrativa e Financeira – Agência de Fomento de Goiás.
CATEGORIES:Diretoria Administrativa e Financeira
END:VEVENT
END:VCALENDAR