BEGIN:VCALENDAR
VERSION:2.0
PRODID:-//GoiásFomento - Agência de Fomento - ECPv6.15.20//NONSGML v1.0//EN
CALSCALE:GREGORIAN
METHOD:PUBLISH
X-ORIGINAL-URL:https://www.goiasfomento.com
X-WR-CALDESC:Eventos para GoiásFomento - Agência de Fomento
REFRESH-INTERVAL;VALUE=DURATION:PT1H
X-Robots-Tag:noindex
X-PUBLISHED-TTL:PT1H
BEGIN:VTIMEZONE
TZID:America/Sao_Paulo
BEGIN:STANDARD
TZOFFSETFROM:-0300
TZOFFSETTO:-0300
TZNAME:-03
DTSTART:20250101T000000
END:STANDARD
END:VTIMEZONE
BEGIN:VEVENT
DTSTART;TZID=America/Sao_Paulo:20260220T080000
DTEND;TZID=America/Sao_Paulo:20260220T120000
DTSTAMP:20260424T034803
CREATED:20260220T111713Z
LAST-MODIFIED:20260220T111713Z
UID:48541-1771574400-1771588800@www.goiasfomento.com
SUMMARY:Lara Garcia: Despachos Internos e Administrativos.
DESCRIPTION:
URL:https://www.goiasfomento.com/agenda/lara-garcia-despachos-internos-e-administrativos-177/
LOCATION:Gabinete da Diretoria Administrativa e Financeira – Agência de Fomento de Goiás.
CATEGORIES:Diretoria Administrativa e Financeira
END:VEVENT
BEGIN:VEVENT
DTSTART;TZID=America/Sao_Paulo:20260220T140000
DTEND;TZID=America/Sao_Paulo:20260220T180000
DTSTAMP:20260424T034803
CREATED:20260220T111737Z
LAST-MODIFIED:20260220T111737Z
UID:48543-1771596000-1771610400@www.goiasfomento.com
SUMMARY:Lara Garcia: Despachos Internos e Administrativos.
DESCRIPTION:
URL:https://www.goiasfomento.com/agenda/lara-garcia-despachos-internos-e-administrativos-178/
LOCATION:Gabinete da Diretoria Administrativa e Financeira – Agência de Fomento de Goiás.
CATEGORIES:Diretoria Administrativa e Financeira
END:VEVENT
END:VCALENDAR