BEGIN:VCALENDAR
VERSION:2.0
PRODID:-//GoiásFomento - Agência de Fomento - ECPv6.15.20//NONSGML v1.0//EN
CALSCALE:GREGORIAN
METHOD:PUBLISH
X-WR-CALNAME:GoiásFomento - Agência de Fomento
X-ORIGINAL-URL:https://www.goiasfomento.com
X-WR-CALDESC:Eventos para GoiásFomento - Agência de Fomento
REFRESH-INTERVAL;VALUE=DURATION:PT1H
X-Robots-Tag:noindex
X-PUBLISHED-TTL:PT1H
BEGIN:VTIMEZONE
TZID:America/Sao_Paulo
BEGIN:STANDARD
TZOFFSETFROM:-0300
TZOFFSETTO:-0300
TZNAME:-03
DTSTART:20250101T000000
END:STANDARD
END:VTIMEZONE
BEGIN:VEVENT
DTSTART;TZID=America/Sao_Paulo:20260218T080000
DTEND;TZID=America/Sao_Paulo:20260218T140000
DTSTAMP:20260424T035457
CREATED:20260209T130346Z
LAST-MODIFIED:20260209T130346Z
UID:48366-1771401600-1771423200@www.goiasfomento.com
SUMMARY:Lara Garcia: Ponto Facultativo\, segundo Decreto Estadual nº 10.855\, de 23 de janeiro de 2026.
DESCRIPTION:
URL:https://www.goiasfomento.com/agenda/lara-garcia-ponto-facultativo-segundo-decreto-estadual-no-10-855-de-23-de-janeiro-de-2026-2/
LOCATION:Agência de Fomento de Goiás
CATEGORIES:Diretoria Administrativa e Financeira
END:VEVENT
BEGIN:VEVENT
DTSTART;TZID=America/Sao_Paulo:20260218T140000
DTEND;TZID=America/Sao_Paulo:20260218T180000
DTSTAMP:20260424T035457
CREATED:20260213T125408Z
LAST-MODIFIED:20260213T125408Z
UID:48506-1771423200-1771437600@www.goiasfomento.com
SUMMARY:Lara Garcia: Despachos Internos e Administrativos.
DESCRIPTION:
URL:https://www.goiasfomento.com/agenda/lara-garcia-despachos-internos-e-administrativos-174/
LOCATION:Gabinete da Diretoria Administrativa e Financeira – Agência de Fomento de Goiás.
CATEGORIES:Diretoria Administrativa e Financeira
END:VEVENT
END:VCALENDAR