BEGIN:VCALENDAR
VERSION:2.0
PRODID:-//GoiásFomento - Agência de Fomento - ECPv6.15.20//NONSGML v1.0//EN
CALSCALE:GREGORIAN
METHOD:PUBLISH
X-ORIGINAL-URL:https://www.goiasfomento.com
X-WR-CALDESC:Eventos para GoiásFomento - Agência de Fomento
REFRESH-INTERVAL;VALUE=DURATION:PT1H
X-Robots-Tag:noindex
X-PUBLISHED-TTL:PT1H
BEGIN:VTIMEZONE
TZID:America/Sao_Paulo
BEGIN:STANDARD
TZOFFSETFROM:-0300
TZOFFSETTO:-0300
TZNAME:-03
DTSTART:20250101T000000
END:STANDARD
END:VTIMEZONE
BEGIN:VEVENT
DTSTART;TZID=America/Sao_Paulo:20260108T080000
DTEND;TZID=America/Sao_Paulo:20260108T120000
DTSTAMP:20260424T064901
CREATED:20260106T124906Z
LAST-MODIFIED:20260106T124906Z
UID:47856-1767859200-1767873600@www.goiasfomento.com
SUMMARY:Vinícius Luz (Diretor de Operações) em Substituição a Lara Garcia\, (férias do titular): Atendimentos e Despachos Internos.
DESCRIPTION:
URL:https://www.goiasfomento.com/agenda/vinicius-luz-diretor-de-operacoes-em-substituicao-a-lara-garcia-ferias-do-titular-atendimentos-e-despachos-internos-15/
LOCATION:Gabinete da Diretoria de Operações da GoiásFomento – Agência de Fomento de Goiás.
CATEGORIES:Diretoria Administrativa e Financeira
END:VEVENT
BEGIN:VEVENT
DTSTART;TZID=America/Sao_Paulo:20260108T140000
DTEND;TZID=America/Sao_Paulo:20260108T180000
DTSTAMP:20260424T064901
CREATED:20260106T130256Z
LAST-MODIFIED:20260106T130256Z
UID:47862-1767880800-1767895200@www.goiasfomento.com
SUMMARY:Vinícius Luz (Diretor de Operações) em Substituição a Lara Garcia\, (férias do titular): Atendimentos e Despachos Internos.
DESCRIPTION:
URL:https://www.goiasfomento.com/agenda/vinicius-luz-diretor-de-operacoes-em-substituicao-a-lara-garcia-ferias-do-titular-atendimentos-e-despachos-internos-17/
LOCATION:Gabinete da Diretoria de Operações da GoiásFomento – Agência de Fomento de Goiás.
CATEGORIES:Diretoria Administrativa e Financeira
END:VEVENT
END:VCALENDAR