BEGIN:VCALENDAR
VERSION:2.0
PRODID:-//GoiásFomento - Agência de Fomento - ECPv6.15.20//NONSGML v1.0//EN
CALSCALE:GREGORIAN
METHOD:PUBLISH
X-ORIGINAL-URL:https://www.goiasfomento.com
X-WR-CALDESC:Eventos para GoiásFomento - Agência de Fomento
REFRESH-INTERVAL;VALUE=DURATION:PT1H
X-Robots-Tag:noindex
X-PUBLISHED-TTL:PT1H
BEGIN:VTIMEZONE
TZID:America/Sao_Paulo
BEGIN:STANDARD
TZOFFSETFROM:-0300
TZOFFSETTO:-0300
TZNAME:-03
DTSTART:20240101T000000
END:STANDARD
END:VTIMEZONE
BEGIN:VEVENT
DTSTART;TZID=America/Sao_Paulo:20251127T080000
DTEND;TZID=America/Sao_Paulo:20251127T120000
DTSTAMP:20260424T084128
CREATED:20251127T150105Z
LAST-MODIFIED:20251127T150105Z
UID:47251-1764230400-1764244800@www.goiasfomento.com
SUMMARY:Lara Garcia: Despachos Internos e Administrativos.
DESCRIPTION:
URL:https://www.goiasfomento.com/agenda/lara-garcia-despachos-internos-e-administrativos-99/
LOCATION:Gabinete da Diretoria Administrativa e Financeira – Agência de Fomento de Goiás.
CATEGORIES:Diretoria Administrativa e Financeira
END:VEVENT
BEGIN:VEVENT
DTSTART;TZID=America/Sao_Paulo:20251127T140000
DTEND;TZID=America/Sao_Paulo:20251127T180000
DTSTAMP:20260424T084128
CREATED:20251127T150132Z
LAST-MODIFIED:20251127T150132Z
UID:47253-1764252000-1764266400@www.goiasfomento.com
SUMMARY:Lara Garcia: Despachos Internos e Administrativos.
DESCRIPTION:
URL:https://www.goiasfomento.com/agenda/lara-garcia-despachos-internos-e-administrativos-100/
LOCATION:Gabinete da Diretoria Administrativa e Financeira – Agência de Fomento de Goiás.
CATEGORIES:Diretoria Administrativa e Financeira
END:VEVENT
END:VCALENDAR