BEGIN:VCALENDAR
VERSION:2.0
PRODID:-//GoiásFomento - Agência de Fomento - ECPv6.15.20//NONSGML v1.0//EN
CALSCALE:GREGORIAN
METHOD:PUBLISH
X-ORIGINAL-URL:https://www.goiasfomento.com
X-WR-CALDESC:Eventos para GoiásFomento - Agência de Fomento
REFRESH-INTERVAL;VALUE=DURATION:PT1H
X-Robots-Tag:noindex
X-PUBLISHED-TTL:PT1H
BEGIN:VTIMEZONE
TZID:America/Sao_Paulo
BEGIN:STANDARD
TZOFFSETFROM:-0300
TZOFFSETTO:-0300
TZNAME:-03
DTSTART:20240101T000000
END:STANDARD
END:VTIMEZONE
BEGIN:VEVENT
DTSTART;TZID=America/Sao_Paulo:20251125T080000
DTEND;TZID=America/Sao_Paulo:20251125T090000
DTSTAMP:20260424T084128
CREATED:20251125T190245Z
LAST-MODIFIED:20251125T190245Z
UID:47219-1764057600-1764061200@www.goiasfomento.com
SUMMARY:Lara Garcia: Despachos Internos e Administrativos.
DESCRIPTION:
URL:https://www.goiasfomento.com/agenda/lara-garcia-despachos-internos-e-administrativos-94/
LOCATION:Gabinete da Diretoria Administrativa e Financeira – Agência de Fomento de Goiás.
CATEGORIES:Diretoria Administrativa e Financeira
END:VEVENT
BEGIN:VEVENT
DTSTART;TZID=America/Sao_Paulo:20251125T090000
DTEND;TZID=America/Sao_Paulo:20251125T110000
DTSTAMP:20260424T084128
CREATED:20251125T190422Z
LAST-MODIFIED:20251125T190422Z
UID:47221-1764061200-1764068400@www.goiasfomento.com
SUMMARY:Lara Garcia: 1º Seminário de Educação Previdenciário.
DESCRIPTION:
URL:https://www.goiasfomento.com/agenda/lara-garcia-1o-seminario-de-educacao-previdenciario/
LOCATION:TJGO – Tribunal de Justiça do Estado de Goiás
CATEGORIES:Diretoria Administrativa e Financeira
END:VEVENT
BEGIN:VEVENT
DTSTART;TZID=America/Sao_Paulo:20251125T110000
DTEND;TZID=America/Sao_Paulo:20251125T120000
DTSTAMP:20260424T084128
CREATED:20251125T190514Z
LAST-MODIFIED:20251125T190514Z
UID:47224-1764068400-1764072000@www.goiasfomento.com
SUMMARY:Lara Garcia: Despachos Internos e Administrativos.
DESCRIPTION:
URL:https://www.goiasfomento.com/agenda/lara-garcia-despachos-internos-e-administrativos-95/
LOCATION:Gabinete da Diretoria Administrativa e Financeira – Agência de Fomento de Goiás.
CATEGORIES:Diretoria Administrativa e Financeira
END:VEVENT
BEGIN:VEVENT
DTSTART;TZID=America/Sao_Paulo:20251125T140000
DTEND;TZID=America/Sao_Paulo:20251125T180000
DTSTAMP:20260424T084128
CREATED:20251125T190537Z
LAST-MODIFIED:20251125T190537Z
UID:47226-1764079200-1764093600@www.goiasfomento.com
SUMMARY:Lara Garcia: Despachos Internos e Administrativos.
DESCRIPTION:
URL:https://www.goiasfomento.com/agenda/lara-garcia-despachos-internos-e-administrativos-96/
LOCATION:Gabinete da Diretoria Administrativa e Financeira – Agência de Fomento de Goiás.
CATEGORIES:Diretoria Administrativa e Financeira
END:VEVENT
END:VCALENDAR