BEGIN:VCALENDAR
VERSION:2.0
PRODID:-//GoiásFomento - Agência de Fomento - ECPv6.15.20//NONSGML v1.0//EN
CALSCALE:GREGORIAN
METHOD:PUBLISH
X-ORIGINAL-URL:https://www.goiasfomento.com
X-WR-CALDESC:Eventos para GoiásFomento - Agência de Fomento
REFRESH-INTERVAL;VALUE=DURATION:PT1H
X-Robots-Tag:noindex
X-PUBLISHED-TTL:PT1H
BEGIN:VTIMEZONE
TZID:America/Sao_Paulo
BEGIN:STANDARD
TZOFFSETFROM:-0300
TZOFFSETTO:-0300
TZNAME:-03
DTSTART:20240101T000000
END:STANDARD
END:VTIMEZONE
BEGIN:VEVENT
DTSTART;VALUE=DATE:20251121
DTEND;VALUE=DATE:20251122
DTSTAMP:20260424T084058
CREATED:20251104T200910Z
LAST-MODIFIED:20251104T200910Z
UID:46926-1763683200-1763769599@www.goiasfomento.com
SUMMARY:Lara Garcia:: Ponto Facultativo\, conforme o Decreto nº 10.806\, de 31 de outubro de 2025.
DESCRIPTION:
URL:https://www.goiasfomento.com/agenda/lara-garcia-ponto-facultativo-conforme-o-decreto-no-10-806-de-31-de-outubro-de-2025/
CATEGORIES:Diretoria Administrativa e Financeira
END:VEVENT
END:VCALENDAR