BEGIN:VCALENDAR
VERSION:2.0
PRODID:-//GoiásFomento - Agência de Fomento - ECPv6.15.20//NONSGML v1.0//EN
CALSCALE:GREGORIAN
METHOD:PUBLISH
X-WR-CALNAME:GoiásFomento - Agência de Fomento
X-ORIGINAL-URL:https://www.goiasfomento.com
X-WR-CALDESC:Eventos para GoiásFomento - Agência de Fomento
REFRESH-INTERVAL;VALUE=DURATION:PT1H
X-Robots-Tag:noindex
X-PUBLISHED-TTL:PT1H
BEGIN:VTIMEZONE
TZID:America/Sao_Paulo
BEGIN:STANDARD
TZOFFSETFROM:-0300
TZOFFSETTO:-0300
TZNAME:-03
DTSTART:20240101T000000
END:STANDARD
END:VTIMEZONE
BEGIN:VEVENT
DTSTART;VALUE=DATE:20251118
DTEND;VALUE=DATE:20251119
DTSTAMP:20260424T084045
CREATED:20251118T144600Z
LAST-MODIFIED:20251118T144600Z
UID:47138-1763424000-1763510399@www.goiasfomento.com
SUMMARY:Lara Garcia: GOIÁS SOCIAL em Cidade Ocidental de Goiás.
DESCRIPTION:
URL:https://www.goiasfomento.com/agenda/lara-garcia-goias-social-em-cidade-ocidental-de-goias/
CATEGORIES:Diretoria Administrativa e Financeira
END:VEVENT
END:VCALENDAR