BEGIN:VCALENDAR
VERSION:2.0
PRODID:-//GoiásFomento - Agência de Fomento - ECPv6.15.20//NONSGML v1.0//EN
CALSCALE:GREGORIAN
METHOD:PUBLISH
X-WR-CALNAME:GoiásFomento - Agência de Fomento
X-ORIGINAL-URL:https://www.goiasfomento.com
X-WR-CALDESC:Eventos para GoiásFomento - Agência de Fomento
REFRESH-INTERVAL;VALUE=DURATION:PT1H
X-Robots-Tag:noindex
X-PUBLISHED-TTL:PT1H
BEGIN:VTIMEZONE
TZID:America/Sao_Paulo
BEGIN:STANDARD
TZOFFSETFROM:-0300
TZOFFSETTO:-0300
TZNAME:-03
DTSTART:20240101T000000
END:STANDARD
END:VTIMEZONE
BEGIN:VEVENT
DTSTART;TZID=America/Sao_Paulo:20251023T080000
DTEND;TZID=America/Sao_Paulo:20251023T120000
DTSTAMP:20260424T101734
CREATED:20251022T141012Z
LAST-MODIFIED:20251022T141012Z
UID:46724-1761206400-1761220800@www.goiasfomento.com
SUMMARY:Lara Garcia: Despachos Internos e Administrativos.
DESCRIPTION:
URL:https://www.goiasfomento.com/agenda/lara-garcia-despachos-internos-e-administrativos-57/
LOCATION:Gabinete da Diretoria Administrativa e Financeira – Agência de Fomento de Goiás.
CATEGORIES:Diretoria Administrativa e Financeira
END:VEVENT
BEGIN:VEVENT
DTSTART;TZID=America/Sao_Paulo:20251023T140000
DTEND;TZID=America/Sao_Paulo:20251023T170000
DTSTAMP:20260424T101734
CREATED:20251028T180438Z
LAST-MODIFIED:20251028T180445Z
UID:46792-1761228000-1761238800@www.goiasfomento.com
SUMMARY:Lara Garcia: GoiasFomento + Municípios - GoiásFomento em parceria com a Federação Goiana dos Municípios (FGM).
DESCRIPTION:
URL:https://www.goiasfomento.com/agenda/lara-garcia-goiasfomento-municipios-goiasfomento-em-parceria-com-a-federacao-goiana-dos-municipios-fgm/
LOCATION:Federação Goiana de Municípios – R. 102\, 186 – St. Sul\, Goiânia – GO\, 74083-250.
CATEGORIES:Diretoria Administrativa e Financeira
END:VEVENT
BEGIN:VEVENT
DTSTART;TZID=America/Sao_Paulo:20251023T170000
DTEND;TZID=America/Sao_Paulo:20251023T180000
DTSTAMP:20260424T101734
CREATED:20251028T180515Z
LAST-MODIFIED:20251028T180521Z
UID:46794-1761238800-1761242400@www.goiasfomento.com
SUMMARY:Lara Garcia: Despachos Internos e Administrativos.
DESCRIPTION:
URL:https://www.goiasfomento.com/agenda/lara-garcia-despachos-internos-e-administrativos-60/
LOCATION:Gabinete da Diretoria Administrativa e Financeira – Agência de Fomento de Goiás.
CATEGORIES:Diretoria Administrativa e Financeira
END:VEVENT
END:VCALENDAR