BEGIN:VCALENDAR
VERSION:2.0
PRODID:-//GoiásFomento - Agência de Fomento - ECPv6.15.20//NONSGML v1.0//EN
CALSCALE:GREGORIAN
METHOD:PUBLISH
X-ORIGINAL-URL:https://www.goiasfomento.com
X-WR-CALDESC:Eventos para GoiásFomento - Agência de Fomento
REFRESH-INTERVAL;VALUE=DURATION:PT1H
X-Robots-Tag:noindex
X-PUBLISHED-TTL:PT1H
BEGIN:VTIMEZONE
TZID:America/Sao_Paulo
BEGIN:STANDARD
TZOFFSETFROM:-0300
TZOFFSETTO:-0300
TZNAME:-03
DTSTART:20240101T000000
END:STANDARD
END:VTIMEZONE
BEGIN:VEVENT
DTSTART;TZID=America/Sao_Paulo:20251010T080000
DTEND;TZID=America/Sao_Paulo:20251010T110000
DTSTAMP:20260424T101846
CREATED:20251010T142822Z
LAST-MODIFIED:20251010T142822Z
UID:46441-1760083200-1760094000@www.goiasfomento.com
SUMMARY:Lara Garcia: Despachos Internos e Administrativos.
DESCRIPTION:
URL:https://www.goiasfomento.com/agenda/lara-garcia-despachos-internos-e-administrativos-39/
LOCATION:Gabinete da Diretoria Administrativa e Financeira – Agência de Fomento de Goiás.
CATEGORIES:Diretoria Administrativa e Financeira
END:VEVENT
BEGIN:VEVENT
DTSTART;TZID=America/Sao_Paulo:20251010T110000
DTEND;TZID=America/Sao_Paulo:20251010T120000
DTSTAMP:20260424T101846
CREATED:20251010T142927Z
LAST-MODIFIED:20251010T142927Z
UID:46443-1760094000-1760097600@www.goiasfomento.com
SUMMARY:Lara Garcia: Reunião com o Rogério Carneiro - Subsecretário de Logística e Patrimônio da SEAD -Pauta Pareceria entre a SEAD e a Goiás Fomento para abastecimento de combustíveis.
DESCRIPTION:
URL:https://www.goiasfomento.com/agenda/lara-garcia-reuniao-com-o-rogerio-carneiro-subsecretario-de-logistica-e-patrimonio-da-sead-pauta-pareceria-entre-a-sead-e-a-goias-fomento-para-abastecimento-de-combustiveis/
LOCATION:Gabinete da Diretoria Administrativa e Financeira – Agência de Fomento de Goiás.
CATEGORIES:Diretoria Administrativa e Financeira
END:VEVENT
BEGIN:VEVENT
DTSTART;TZID=America/Sao_Paulo:20251010T140000
DTEND;TZID=America/Sao_Paulo:20251010T180000
DTSTAMP:20260424T101846
CREATED:20251010T143133Z
LAST-MODIFIED:20251010T143133Z
UID:46445-1760104800-1760119200@www.goiasfomento.com
SUMMARY:Lara Garcia: Despachos Internos e Administrativos.
DESCRIPTION:
URL:https://www.goiasfomento.com/agenda/lara-garcia-despachos-internos-e-administrativos-40/
LOCATION:Gabinete da Diretoria Administrativa e Financeira – Agência de Fomento de Goiás.
CATEGORIES:Diretoria Administrativa e Financeira
END:VEVENT
END:VCALENDAR