BEGIN:VCALENDAR
VERSION:2.0
PRODID:-//GoiásFomento - Agência de Fomento - ECPv6.15.20//NONSGML v1.0//EN
CALSCALE:GREGORIAN
METHOD:PUBLISH
X-ORIGINAL-URL:https://www.goiasfomento.com
X-WR-CALDESC:Eventos para GoiásFomento - Agência de Fomento
REFRESH-INTERVAL;VALUE=DURATION:PT1H
X-Robots-Tag:noindex
X-PUBLISHED-TTL:PT1H
BEGIN:VTIMEZONE
TZID:America/Sao_Paulo
BEGIN:STANDARD
TZOFFSETFROM:-0300
TZOFFSETTO:-0300
TZNAME:-03
DTSTART:20240101T000000
END:STANDARD
END:VTIMEZONE
BEGIN:VEVENT
DTSTART;TZID=America/Sao_Paulo:20250905T080000
DTEND;TZID=America/Sao_Paulo:20250905T120000
DTSTAMP:20260424T115014
CREATED:20250905T142459Z
LAST-MODIFIED:20250905T142459Z
UID:45905-1757059200-1757073600@www.goiasfomento.com
SUMMARY:Lara Garcia: Atendimentos e Despachos Internos.
DESCRIPTION:
URL:https://www.goiasfomento.com/agenda/lara-garcia-atendimentos-e-despachos-internos-74/
LOCATION:Gabinete da Diretoria Administrativa e Financeira – Agência de Fomento de Goiás.
CATEGORIES:Diretoria Administrativa e Financeira
END:VEVENT
BEGIN:VEVENT
DTSTART;TZID=America/Sao_Paulo:20250905T140000
DTEND;TZID=America/Sao_Paulo:20250905T153000
DTSTAMP:20260424T115014
CREATED:20250905T142529Z
LAST-MODIFIED:20250905T173633Z
UID:45907-1757080800-1757086200@www.goiasfomento.com
SUMMARY:Lara Garcia: Atendimentos e Despachos Internos.
DESCRIPTION:
URL:https://www.goiasfomento.com/agenda/lara-garcia-atendimentos-e-despachos-internos-75/
LOCATION:Gabinete da Presidência da GoiásFomento – Agência de Fomento de Goiás.
CATEGORIES:Diretoria Administrativa e Financeira
END:VEVENT
BEGIN:VEVENT
DTSTART;TZID=America/Sao_Paulo:20250905T153000
DTEND;TZID=America/Sao_Paulo:20250905T180000
DTSTAMP:20260424T115014
CREATED:20250905T173928Z
LAST-MODIFIED:20250905T173928Z
UID:45911-1757086200-1757095200@www.goiasfomento.com
SUMMARY:Lara Garcia: FICOMEX 2025.
DESCRIPTION:
URL:https://www.goiasfomento.com/agenda/lara-garcia-ficomex-2025/
LOCATION:Centro de Convenções de Goiânia.
CATEGORIES:Diretoria Administrativa e Financeira
END:VEVENT
END:VCALENDAR