BEGIN:VCALENDAR
VERSION:2.0
PRODID:-//GoiásFomento - Agência de Fomento - ECPv6.15.20//NONSGML v1.0//EN
CALSCALE:GREGORIAN
METHOD:PUBLISH
X-WR-CALNAME:GoiásFomento - Agência de Fomento
X-ORIGINAL-URL:https://www.goiasfomento.com
X-WR-CALDESC:Eventos para GoiásFomento - Agência de Fomento
REFRESH-INTERVAL;VALUE=DURATION:PT1H
X-Robots-Tag:noindex
X-PUBLISHED-TTL:PT1H
BEGIN:VTIMEZONE
TZID:America/Sao_Paulo
BEGIN:STANDARD
TZOFFSETFROM:-0300
TZOFFSETTO:-0300
TZNAME:-03
DTSTART:20240101T000000
END:STANDARD
END:VTIMEZONE
BEGIN:VEVENT
DTSTART;VALUE=DATE:20250904
DTEND;VALUE=DATE:20250905
DTSTAMP:20260424T114953
CREATED:20250903T184743Z
LAST-MODIFIED:20250903T185135Z
UID:45845-1756944000-1757030399@www.goiasfomento.com
SUMMARY:Lara Garcia: Curso Presencial "Inteligência Artificial e uso do Chat GPT.
DESCRIPTION:
URL:https://www.goiasfomento.com/agenda/lara-garcia-curso-presencial-inteligencia-artificial-e-uso-do-chat-gpt/
LOCATION:Escola de Governo – Endereço: R. C-135\, 439-521 – Jardim América\, Goiânia – GO\, 74275-040
CATEGORIES:Diretoria Administrativa e Financeira
END:VEVENT
END:VCALENDAR