BEGIN:VCALENDAR
VERSION:2.0
PRODID:-//GoiásFomento - Agência de Fomento - ECPv6.15.20//NONSGML v1.0//EN
CALSCALE:GREGORIAN
METHOD:PUBLISH
X-ORIGINAL-URL:https://www.goiasfomento.com
X-WR-CALDESC:Eventos para GoiásFomento - Agência de Fomento
REFRESH-INTERVAL;VALUE=DURATION:PT1H
X-Robots-Tag:noindex
X-PUBLISHED-TTL:PT1H
BEGIN:VTIMEZONE
TZID:America/Sao_Paulo
BEGIN:STANDARD
TZOFFSETFROM:-0300
TZOFFSETTO:-0300
TZNAME:-03
DTSTART:20240101T000000
END:STANDARD
END:VTIMEZONE
BEGIN:VEVENT
DTSTART;VALUE=DATE:20250731
DTEND;VALUE=DATE:20250801
DTSTAMP:20260424T131220
CREATED:20250804T194001Z
LAST-MODIFIED:20250804T194010Z
UID:45283-1753920000-1754006399@www.goiasfomento.com
SUMMARY:Lara Garcia: Reuniões Externas – São Paulo - SP.
DESCRIPTION:
URL:https://www.goiasfomento.com/agenda/lara-garcia-reunioes-externas-sao-paulo-sp/
LOCATION:São Paulo – SP.
CATEGORIES:Diretoria Administrativa e Financeira
END:VEVENT
END:VCALENDAR