BEGIN:VCALENDAR
VERSION:2.0
PRODID:-//GoiásFomento - Agência de Fomento - ECPv6.15.20//NONSGML v1.0//EN
CALSCALE:GREGORIAN
METHOD:PUBLISH
X-ORIGINAL-URL:https://www.goiasfomento.com
X-WR-CALDESC:Eventos para GoiásFomento - Agência de Fomento
REFRESH-INTERVAL;VALUE=DURATION:PT1H
X-Robots-Tag:noindex
X-PUBLISHED-TTL:PT1H
BEGIN:VTIMEZONE
TZID:America/Sao_Paulo
BEGIN:STANDARD
TZOFFSETFROM:-0300
TZOFFSETTO:-0300
TZNAME:-03
DTSTART:20240101T000000
END:STANDARD
END:VTIMEZONE
BEGIN:VEVENT
DTSTART;TZID=America/Sao_Paulo:20250626T080000
DTEND;TZID=America/Sao_Paulo:20250626T120000
DTSTAMP:20260424T162036
CREATED:20250626T162408Z
LAST-MODIFIED:20250626T162648Z
UID:44391-1750924800-1750939200@www.goiasfomento.com
SUMMARY:Lara Garcia : Atendimentos e Despachos Interno.
DESCRIPTION:
URL:https://www.goiasfomento.com/agenda/lara-garcia-atendimentos-e-despachos-interno-45/
LOCATION:Gabinete da Diretoria Administrativa e Financeira – Agência de Fomento de Goiás.
CATEGORIES:Diretoria Administrativa e Financeira
END:VEVENT
BEGIN:VEVENT
DTSTART;TZID=America/Sao_Paulo:20250626T140000
DTEND;TZID=America/Sao_Paulo:20250626T163000
DTSTAMP:20260424T162036
CREATED:20250626T160221Z
LAST-MODIFIED:20250626T160221Z
UID:44382-1750946400-1750955400@www.goiasfomento.com
SUMMARY:Lara Garcia: Lara Garcia : Reunião do Conselho Administrativo da GOIASPREV.
DESCRIPTION:
URL:https://www.goiasfomento.com/agenda/lara-garcia-lara-garcia-reuniao-do-conselho-administrativo-da-goiasprev/
LOCATION:GOIASPREV.
CATEGORIES:Diretoria Administrativa e Financeira
END:VEVENT
BEGIN:VEVENT
DTSTART;TZID=America/Sao_Paulo:20250626T163000
DTEND;TZID=America/Sao_Paulo:20250626T180000
DTSTAMP:20260424T162036
CREATED:20250626T160327Z
LAST-MODIFIED:20250626T160327Z
UID:44389-1750955400-1750960800@www.goiasfomento.com
SUMMARY:Lara Garcia : Atendimentos e Despachos Interno.
DESCRIPTION:
URL:https://www.goiasfomento.com/agenda/lara-garcia-atendimentos-e-despachos-interno-44/
LOCATION:Gabinete da Diretoria Administrativa e Financeira – Agência de Fomento de Goiás.
CATEGORIES:Diretoria Administrativa e Financeira
END:VEVENT
END:VCALENDAR