BEGIN:VCALENDAR
VERSION:2.0
PRODID:-//GoiásFomento - Agência de Fomento - ECPv6.15.20//NONSGML v1.0//EN
CALSCALE:GREGORIAN
METHOD:PUBLISH
X-WR-CALNAME:GoiásFomento - Agência de Fomento
X-ORIGINAL-URL:https://www.goiasfomento.com
X-WR-CALDESC:Eventos para GoiásFomento - Agência de Fomento
REFRESH-INTERVAL;VALUE=DURATION:PT1H
X-Robots-Tag:noindex
X-PUBLISHED-TTL:PT1H
BEGIN:VTIMEZONE
TZID:America/Sao_Paulo
BEGIN:STANDARD
TZOFFSETFROM:-0300
TZOFFSETTO:-0300
TZNAME:-03
DTSTART:20240101T000000
END:STANDARD
END:VTIMEZONE
BEGIN:VEVENT
DTSTART;TZID=America/Sao_Paulo:20250227T080000
DTEND;TZID=America/Sao_Paulo:20250227T090000
DTSTAMP:20260424T205121
CREATED:20250227T181750Z
LAST-MODIFIED:20250227T181750Z
UID:40551-1740643200-1740646800@www.goiasfomento.com
SUMMARY:Lucas Fernandes: Despachos Internos.
DESCRIPTION:
URL:https://www.goiasfomento.com/agenda/lucas-fernandes-despachos-internos-736/
LOCATION:Gabinete da Presidência da GoiásFomento – Agência de Fomento de Goiás.
CATEGORIES:Diretoria Administrativa e Financeira
END:VEVENT
BEGIN:VEVENT
DTSTART;TZID=America/Sao_Paulo:20250227T090000
DTEND;TZID=America/Sao_Paulo:20250227T100000
DTSTAMP:20260424T205121
CREATED:20250227T181611Z
LAST-MODIFIED:20250227T181611Z
UID:40546-1740646800-1740650400@www.goiasfomento.com
SUMMARY:Lucas Fernandes: Reunião da Diretoria Executiva da Agência de Fomento de Goiás.
DESCRIPTION:
URL:https://www.goiasfomento.com/agenda/lucas-fernandes-reuniao-da-diretoria-executiva-da-agencia-de-fomento-de-goias-12/
LOCATION:Gabinete da Presidência da GoiásFomento – Agência de Fomento de Goiás.
CATEGORIES:Diretoria Administrativa e Financeira
END:VEVENT
BEGIN:VEVENT
DTSTART;TZID=America/Sao_Paulo:20250227T100000
DTEND;TZID=America/Sao_Paulo:20250227T110000
DTSTAMP:20260424T205121
CREATED:20250227T182429Z
LAST-MODIFIED:20250227T182429Z
UID:40555-1740650400-1740654000@www.goiasfomento.com
SUMMARY:Lucas Fernandes: Reunião com o Guido Juliano Martins de Araújo - Gerente de Agronegócio e o  Igor Alexandre Copetti.
DESCRIPTION:
URL:https://www.goiasfomento.com/agenda/lucas-fernandes-reuniao-com-o-guido-juliano-martins-de-araujo-gerente-de-agronegocio-e-o-igor-alexandre-copetti/
LOCATION:Gabinete da Presidência da GoiásFomento – Agência de Fomento de Goiás.
CATEGORIES:Diretoria Administrativa e Financeira
END:VEVENT
BEGIN:VEVENT
DTSTART;TZID=America/Sao_Paulo:20250227T110000
DTEND;TZID=America/Sao_Paulo:20250227T120000
DTSTAMP:20260424T205121
CREATED:20250227T182625Z
LAST-MODIFIED:20250227T182625Z
UID:40563-1740654000-1740657600@www.goiasfomento.com
SUMMARY:Lucas Fernandes: Despachos Internos.
DESCRIPTION:
URL:https://www.goiasfomento.com/agenda/lucas-fernandes-despachos-internos-738/
LOCATION:Gabinete da Presidência da GoiásFomento – Agência de Fomento de Goiás.
CATEGORIES:Diretoria Administrativa e Financeira
END:VEVENT
BEGIN:VEVENT
DTSTART;TZID=America/Sao_Paulo:20250227T140000
DTEND;TZID=America/Sao_Paulo:20250227T180000
DTSTAMP:20260424T205121
CREATED:20250227T182559Z
LAST-MODIFIED:20250227T182559Z
UID:40561-1740664800-1740679200@www.goiasfomento.com
SUMMARY:Lucas Fernandes: Despachos Internos.
DESCRIPTION:
URL:https://www.goiasfomento.com/agenda/lucas-fernandes-despachos-internos-737/
LOCATION:Gabinete da Presidência da GoiásFomento – Agência de Fomento de Goiás.
CATEGORIES:Diretoria Administrativa e Financeira
END:VEVENT
END:VCALENDAR