BEGIN:VCALENDAR
VERSION:2.0
PRODID:-//GoiásFomento - Agência de Fomento - ECPv6.15.20//NONSGML v1.0//EN
CALSCALE:GREGORIAN
METHOD:PUBLISH
X-WR-CALNAME:GoiásFomento - Agência de Fomento
X-ORIGINAL-URL:https://www.goiasfomento.com
X-WR-CALDESC:Eventos para GoiásFomento - Agência de Fomento
REFRESH-INTERVAL;VALUE=DURATION:PT1H
X-Robots-Tag:noindex
X-PUBLISHED-TTL:PT1H
BEGIN:VTIMEZONE
TZID:America/Sao_Paulo
BEGIN:STANDARD
TZOFFSETFROM:-0300
TZOFFSETTO:-0300
TZNAME:-03
DTSTART:20240101T000000
END:STANDARD
END:VTIMEZONE
BEGIN:VEVENT
DTSTART;TZID=America/Sao_Paulo:20250218T080000
DTEND;TZID=America/Sao_Paulo:20250218T110000
DTSTAMP:20260424T223058
CREATED:20250218T140917Z
LAST-MODIFIED:20250218T140917Z
UID:40267-1739865600-1739876400@www.goiasfomento.com
SUMMARY:Lucas Fernandes – Despachos Internos.
DESCRIPTION:
URL:https://www.goiasfomento.com/agenda/lucas-fernandes-despachos-internos-721/
LOCATION:Gabinete da Presidência.
CATEGORIES:Diretoria Administrativa e Financeira
END:VEVENT
BEGIN:VEVENT
DTSTART;TZID=America/Sao_Paulo:20250218T110000
DTEND;TZID=America/Sao_Paulo:20250218T113000
DTSTAMP:20260424T223058
CREATED:20250218T140805Z
LAST-MODIFIED:20250218T140805Z
UID:40265-1739876400-1739878200@www.goiasfomento.com
SUMMARY:Lucas Fernandes –  Reunião com Cesmar Moura de Oliveira - Vice-Presidente - SGPA.
DESCRIPTION:
URL:https://www.goiasfomento.com/agenda/lucas-fernandes-reuniao-com-cesmar-moura-de-oliveira-vice-presidente-sgpa/
LOCATION:Gabinete da Presidência.
CATEGORIES:Diretoria Administrativa e Financeira
END:VEVENT
BEGIN:VEVENT
DTSTART;TZID=America/Sao_Paulo:20250218T113000
DTEND;TZID=America/Sao_Paulo:20250218T120000
DTSTAMP:20260424T223058
CREATED:20250218T141106Z
LAST-MODIFIED:20250218T141106Z
UID:40271-1739878200-1739880000@www.goiasfomento.com
SUMMARY:Lucas Fernandes – Despachos Internos.
DESCRIPTION:
URL:https://www.goiasfomento.com/agenda/lucas-fernandes-despachos-internos-722/
LOCATION:Gabinete da Presidência.
CATEGORIES:Diretoria Administrativa e Financeira
END:VEVENT
BEGIN:VEVENT
DTSTART;TZID=America/Sao_Paulo:20250218T120000
DTEND;TZID=America/Sao_Paulo:20250218T121500
DTSTAMP:20260424T223058
CREATED:20250218T141818Z
LAST-MODIFIED:20250218T141818Z
UID:40275-1739880000-1739880900@www.goiasfomento.com
SUMMARY:Lucas Fernandes – Entrevista para o Programa Jornal da Sucesso: Rádio Sucesso - Jaraguá Go 101\,5 FM.
DESCRIPTION:
URL:https://www.goiasfomento.com/agenda/lucas-fernandes-entrevista-para-o-programa-jornal-da-sucesso-radio-sucesso-jaragua-go-1015-fm/
LOCATION:Gabinete da Presidência.
CATEGORIES:Diretoria Administrativa e Financeira
END:VEVENT
BEGIN:VEVENT
DTSTART;TZID=America/Sao_Paulo:20250218T140000
DTEND;TZID=America/Sao_Paulo:20250218T180000
DTSTAMP:20260424T223058
CREATED:20250218T142239Z
LAST-MODIFIED:20250218T142239Z
UID:40279-1739887200-1739901600@www.goiasfomento.com
SUMMARY:Lucas Fernandes – Despachos Internos.
DESCRIPTION:
URL:https://www.goiasfomento.com/agenda/lucas-fernandes-despachos-internos-723/
LOCATION:Gabinete da Presidência.
CATEGORIES:Diretoria Administrativa e Financeira
END:VEVENT
END:VCALENDAR