BEGIN:VCALENDAR
VERSION:2.0
PRODID:-//GoiásFomento - Agência de Fomento - ECPv6.15.20//NONSGML v1.0//EN
CALSCALE:GREGORIAN
METHOD:PUBLISH
X-ORIGINAL-URL:https://www.goiasfomento.com
X-WR-CALDESC:Eventos para GoiásFomento - Agência de Fomento
REFRESH-INTERVAL;VALUE=DURATION:PT1H
X-Robots-Tag:noindex
X-PUBLISHED-TTL:PT1H
BEGIN:VTIMEZONE
TZID:America/Sao_Paulo
BEGIN:STANDARD
TZOFFSETFROM:-0300
TZOFFSETTO:-0300
TZNAME:-03
DTSTART:20240101T000000
END:STANDARD
END:VTIMEZONE
BEGIN:VEVENT
DTSTART;TZID=America/Sao_Paulo:20250214T080000
DTEND;TZID=America/Sao_Paulo:20250214T100000
DTSTAMP:20260424T223208
CREATED:20250214T124205Z
LAST-MODIFIED:20250214T124232Z
UID:40151-1739520000-1739527200@www.goiasfomento.com
SUMMARY:Lucas Fernandes – Despachos Internos.
DESCRIPTION:
URL:https://www.goiasfomento.com/agenda/lucas-fernandes-despachos-internos-716/
LOCATION:Gabinete da Presidência.
CATEGORIES:Diretoria Administrativa e Financeira
END:VEVENT
BEGIN:VEVENT
DTSTART;TZID=America/Sao_Paulo:20250214T100000
DTEND;TZID=America/Sao_Paulo:20250214T101500
DTSTAMP:20260424T223208
CREATED:20250214T125507Z
LAST-MODIFIED:20250214T140638Z
UID:40155-1739527200-1739528100@www.goiasfomento.com
SUMMARY:Lucas Fernandes – Entrevista para a Rádio São Carlos -103\,9 FM. Pauta: Semana do Crédito em Goianésia GO.
DESCRIPTION:
URL:https://www.goiasfomento.com/agenda/lucas-fernandes-entrevista-para-a-radio-sao-carlos-1039-fm-pauta-semana-do-credito-em-goianesia/
LOCATION:Gabinete da Presidência.
CATEGORIES:Diretoria Administrativa e Financeira
END:VEVENT
BEGIN:VEVENT
DTSTART;TZID=America/Sao_Paulo:20250214T101500
DTEND;TZID=America/Sao_Paulo:20250214T114000
DTSTAMP:20260424T223208
CREATED:20250214T125924Z
LAST-MODIFIED:20250214T125935Z
UID:40159-1739528100-1739533200@www.goiasfomento.com
SUMMARY:Lucas Fernandes – Despachos Internos.
DESCRIPTION:
URL:https://www.goiasfomento.com/agenda/lucas-fernandes-despachos-internos-717/
LOCATION:Gabinete da Presidência.
CATEGORIES:Diretoria Administrativa e Financeira
END:VEVENT
BEGIN:VEVENT
DTSTART;TZID=America/Sao_Paulo:20250214T114000
DTEND;TZID=America/Sao_Paulo:20250214T120000
DTSTAMP:20260424T223208
CREATED:20250214T130618Z
LAST-MODIFIED:20250214T135219Z
UID:40163-1739533200-1739534400@www.goiasfomento.com
SUMMARY:Lucas Fernandes – Entrevista RÁDIO RVC - 90.3 FM PROGRAMA Fatorama. Pauta: Semana do Crédito em Goianésia GO.
DESCRIPTION:
URL:https://www.goiasfomento.com/agenda/lucas-fernandes-entrevista-radio-rvc-90-3-fm-programa-fatorama-pauta-semana-do-credito-em-goianesia/
LOCATION:Gabinete da Presidência.
CATEGORIES:Diretoria Administrativa e Financeira
END:VEVENT
BEGIN:VEVENT
DTSTART;TZID=America/Sao_Paulo:20250214T140000
DTEND;TZID=America/Sao_Paulo:20250214T180000
DTSTAMP:20260424T223208
CREATED:20250214T130905Z
LAST-MODIFIED:20250214T130905Z
UID:40167-1739541600-1739556000@www.goiasfomento.com
SUMMARY:Lucas Fernandes – Despachos Internos.
DESCRIPTION:
URL:https://www.goiasfomento.com/agenda/lucas-fernandes-despachos-internos-718/
LOCATION:Gabinete da Presidência.
CATEGORIES:Diretoria Administrativa e Financeira
END:VEVENT
END:VCALENDAR