BEGIN:VCALENDAR
VERSION:2.0
PRODID:-//GoiásFomento - Agência de Fomento - ECPv6.15.20//NONSGML v1.0//EN
CALSCALE:GREGORIAN
METHOD:PUBLISH
X-WR-CALNAME:GoiásFomento - Agência de Fomento
X-ORIGINAL-URL:https://www.goiasfomento.com
X-WR-CALDESC:Eventos para GoiásFomento - Agência de Fomento
REFRESH-INTERVAL;VALUE=DURATION:PT1H
X-Robots-Tag:noindex
X-PUBLISHED-TTL:PT1H
BEGIN:VTIMEZONE
TZID:America/Sao_Paulo
BEGIN:STANDARD
TZOFFSETFROM:-0300
TZOFFSETTO:-0300
TZNAME:-03
DTSTART:20240101T000000
END:STANDARD
END:VTIMEZONE
BEGIN:VEVENT
DTSTART;TZID=America/Sao_Paulo:20250206T080000
DTEND;TZID=America/Sao_Paulo:20250206T090000
DTSTAMP:20260424T223021
CREATED:20250206T185657Z
LAST-MODIFIED:20250206T185657Z
UID:39889-1738828800-1738832400@www.goiasfomento.com
SUMMARY:Lucas Fernandes – Despachos Internos.
DESCRIPTION:
URL:https://www.goiasfomento.com/agenda/lucas-fernandes-despachos-internos-701/
LOCATION:Gabinete da Presidência.
CATEGORIES:Diretoria Administrativa e Financeira
END:VEVENT
BEGIN:VEVENT
DTSTART;TZID=America/Sao_Paulo:20250206T090000
DTEND;TZID=America/Sao_Paulo:20250206T110000
DTSTAMP:20260424T223021
CREATED:20250206T185846Z
LAST-MODIFIED:20250206T185846Z
UID:39891-1738832400-1738839600@www.goiasfomento.com
SUMMARY:Lucas Fernandes – Reunião da Diretoria com a Empresa Inttegrar
DESCRIPTION:
URL:https://www.goiasfomento.com/agenda/lucas-fernandes-reuniao-da-diretoria-com-a-empresa-inttegrar/
LOCATION:Rua Jussara\, Qd.33a\, Lt. 24\, Vila Brasilia Aparecida de Goiânia\, GO
CATEGORIES:Diretoria Administrativa e Financeira
END:VEVENT
BEGIN:VEVENT
DTSTART;TZID=America/Sao_Paulo:20250206T110000
DTEND;TZID=America/Sao_Paulo:20250206T120000
DTSTAMP:20260424T223021
CREATED:20250206T185958Z
LAST-MODIFIED:20250206T185958Z
UID:39894-1738839600-1738843200@www.goiasfomento.com
SUMMARY:Lucas Fernandes – Reunião com Geferson Abel- Vereador por Goiânia e Empresários.
DESCRIPTION:
URL:https://www.goiasfomento.com/agenda/lucas-fernandes-reuniao-com-geferson-abel-vereador-por-goiania-e-empresarios/
LOCATION:Gabinete da Presidência.
CATEGORIES:Diretoria Administrativa e Financeira
END:VEVENT
BEGIN:VEVENT
DTSTART;TZID=America/Sao_Paulo:20250206T140000
DTEND;TZID=America/Sao_Paulo:20250206T180000
DTSTAMP:20260424T223021
CREATED:20250206T190052Z
LAST-MODIFIED:20250206T190052Z
UID:39896-1738850400-1738864800@www.goiasfomento.com
SUMMARY:Lucas Fernandes – Despachos Internos.
DESCRIPTION:
URL:https://www.goiasfomento.com/agenda/lucas-fernandes-despachos-internos-702/
LOCATION:Gabinete da Presidência.
CATEGORIES:Diretoria Administrativa e Financeira
END:VEVENT
END:VCALENDAR