BEGIN:VCALENDAR
VERSION:2.0
PRODID:-//GoiásFomento - Agência de Fomento - ECPv6.15.20//NONSGML v1.0//EN
CALSCALE:GREGORIAN
METHOD:PUBLISH
X-WR-CALNAME:GoiásFomento - Agência de Fomento
X-ORIGINAL-URL:https://www.goiasfomento.com
X-WR-CALDESC:Eventos para GoiásFomento - Agência de Fomento
REFRESH-INTERVAL;VALUE=DURATION:PT1H
X-Robots-Tag:noindex
X-PUBLISHED-TTL:PT1H
BEGIN:VTIMEZONE
TZID:America/Sao_Paulo
BEGIN:STANDARD
TZOFFSETFROM:-0300
TZOFFSETTO:-0300
TZNAME:-03
DTSTART:20240101T000000
END:STANDARD
END:VTIMEZONE
BEGIN:VEVENT
DTSTART;TZID=America/Sao_Paulo:20250130T080000
DTEND;TZID=America/Sao_Paulo:20250130T120000
DTSTAMP:20260424T223022
CREATED:20250130T185611Z
LAST-MODIFIED:20250130T185611Z
UID:39662-1738224000-1738238400@www.goiasfomento.com
SUMMARY:Lucas Fernandes – Despachos Internos.
DESCRIPTION:
URL:https://www.goiasfomento.com/agenda/lucas-fernandes-despachos-internos-690/
LOCATION:Gabinete da Presidência.
CATEGORIES:Diretoria Administrativa e Financeira
END:VEVENT
BEGIN:VEVENT
DTSTART;TZID=America/Sao_Paulo:20250130T140000
DTEND;TZID=America/Sao_Paulo:20250130T150000
DTSTAMP:20260424T223022
CREATED:20250130T193229Z
LAST-MODIFIED:20250130T193229Z
UID:39664-1738245600-1738249200@www.goiasfomento.com
SUMMARY:Lucas Fernandes – Despachos Internos.
DESCRIPTION:
URL:https://www.goiasfomento.com/agenda/lucas-fernandes-despachos-internos-691/
LOCATION:Gabinete da Presidência.
CATEGORIES:Diretoria Administrativa e Financeira
END:VEVENT
BEGIN:VEVENT
DTSTART;TZID=America/Sao_Paulo:20250130T150000
DTEND;TZID=America/Sao_Paulo:20250130T163000
DTSTAMP:20260424T223022
CREATED:20250130T193507Z
LAST-MODIFIED:20250130T193507Z
UID:39667-1738249200-1738254600@www.goiasfomento.com
SUMMARY:Lucas Fernandes – Reunião com Rafael Arruda - Procurador do Estado de Goiás.
DESCRIPTION:
URL:https://www.goiasfomento.com/agenda/lucas-fernandes-reuniao-com-rafael-arruda-procurador-do-estado-de-goias/
LOCATION:Procuradoria-Geral do Estado de Goiás
CATEGORIES:Diretoria Administrativa e Financeira
END:VEVENT
BEGIN:VEVENT
DTSTART;TZID=America/Sao_Paulo:20250130T163000
DTEND;TZID=America/Sao_Paulo:20250130T180000
DTSTAMP:20260424T223022
CREATED:20250130T193610Z
LAST-MODIFIED:20250130T193610Z
UID:39671-1738254600-1738260000@www.goiasfomento.com
SUMMARY:Lucas Fernandes – Reunião com Giovani Cortopassi-Secretário de Indústria\, Comércio e Turismo de Catalão.
DESCRIPTION:
URL:https://www.goiasfomento.com/agenda/lucas-fernandes-reuniao-com-giovani-cortopassi-secretario-de-industria-comercio-e-turismo-de-catalao/
LOCATION:Gabinete da Presidência.
CATEGORIES:Diretoria Administrativa e Financeira
END:VEVENT
END:VCALENDAR