BEGIN:VCALENDAR
VERSION:2.0
PRODID:-//GoiásFomento - Agência de Fomento - ECPv6.15.20//NONSGML v1.0//EN
CALSCALE:GREGORIAN
METHOD:PUBLISH
X-WR-CALNAME:GoiásFomento - Agência de Fomento
X-ORIGINAL-URL:https://www.goiasfomento.com
X-WR-CALDESC:Eventos para GoiásFomento - Agência de Fomento
REFRESH-INTERVAL;VALUE=DURATION:PT1H
X-Robots-Tag:noindex
X-PUBLISHED-TTL:PT1H
BEGIN:VTIMEZONE
TZID:America/Sao_Paulo
BEGIN:STANDARD
TZOFFSETFROM:-0300
TZOFFSETTO:-0300
TZNAME:-03
DTSTART:20240101T000000
END:STANDARD
END:VTIMEZONE
BEGIN:VEVENT
DTSTART;TZID=America/Sao_Paulo:20250115T080000
DTEND;TZID=America/Sao_Paulo:20250115T100000
DTSTAMP:20260425T001825
CREATED:20250115T131416Z
LAST-MODIFIED:20250115T131416Z
UID:39295-1736928000-1736935200@www.goiasfomento.com
SUMMARY:Lucas Fernandes – Despachos Internos.
DESCRIPTION:
URL:https://www.goiasfomento.com/agenda/lucas-fernandes-despachos-internos-667/
LOCATION:Gabinete da Presidência.
CATEGORIES:Diretoria Administrativa e Financeira
END:VEVENT
BEGIN:VEVENT
DTSTART;TZID=America/Sao_Paulo:20250115T100000
DTEND;TZID=America/Sao_Paulo:20250115T110000
DTSTAMP:20260425T001825
CREATED:20250115T132018Z
LAST-MODIFIED:20250115T132018Z
UID:39297-1736935200-1736938800@www.goiasfomento.com
SUMMARY:Lucas Fernandes –Reunião com o Dr. Eney\, Karyna Gerente de Recursos Humanos e o Fernando Reis.
DESCRIPTION:
URL:https://www.goiasfomento.com/agenda/lucas-fernandes-reuniao-com-o-dr-eney-karyna-gerente-de-recursos-humanos-e-o-fernando-reis/
LOCATION:Gabinete da Presidência.
CATEGORIES:Diretoria Administrativa e Financeira
END:VEVENT
BEGIN:VEVENT
DTSTART;TZID=America/Sao_Paulo:20250115T110000
DTEND;TZID=America/Sao_Paulo:20250115T120000
DTSTAMP:20260425T001825
CREATED:20250115T132302Z
LAST-MODIFIED:20250115T132302Z
UID:39299-1736938800-1736942400@www.goiasfomento.com
SUMMARY:Lucas Fernandes: Reunião por video com Senhor Arthur Cascudo da Secretaria de Governo de Mato Grosso do Sul.
DESCRIPTION:
URL:https://www.goiasfomento.com/agenda/lucas-fernandes-reuniao-por-video-com-senhor-arthur-cascudo-da-secretaria-de-governo-de-mato-grosso-do-sul/
LOCATION:Gabinete da Presidência.
CATEGORIES:Diretoria Administrativa e Financeira
END:VEVENT
BEGIN:VEVENT
DTSTART;TZID=America/Sao_Paulo:20250115T140000
DTEND;TZID=America/Sao_Paulo:20250115T180000
DTSTAMP:20260425T001825
CREATED:20250115T133041Z
LAST-MODIFIED:20250115T133041Z
UID:39301-1736949600-1736964000@www.goiasfomento.com
SUMMARY:Lucas Fernandes: Despachos Internos.
DESCRIPTION:
URL:https://www.goiasfomento.com/agenda/lucas-fernandes-despachos-internos-668/
LOCATION:Gabinete da Presidência.
CATEGORIES:Diretoria Administrativa e Financeira
END:VEVENT
END:VCALENDAR