BEGIN:VCALENDAR
VERSION:2.0
PRODID:-//GoiásFomento - Agência de Fomento - ECPv6.15.20//NONSGML v1.0//EN
CALSCALE:GREGORIAN
METHOD:PUBLISH
X-WR-CALNAME:GoiásFomento - Agência de Fomento
X-ORIGINAL-URL:https://www.goiasfomento.com
X-WR-CALDESC:Eventos para GoiásFomento - Agência de Fomento
REFRESH-INTERVAL;VALUE=DURATION:PT1H
X-Robots-Tag:noindex
X-PUBLISHED-TTL:PT1H
BEGIN:VTIMEZONE
TZID:America/Sao_Paulo
BEGIN:STANDARD
TZOFFSETFROM:-0300
TZOFFSETTO:-0300
TZNAME:-03
DTSTART:20230101T000000
END:STANDARD
END:VTIMEZONE
BEGIN:VEVENT
DTSTART;TZID=America/Sao_Paulo:20240724T080000
DTEND;TZID=America/Sao_Paulo:20240724T120000
DTSTAMP:20260425T095458
CREATED:20240724T112240Z
LAST-MODIFIED:20240724T112240Z
UID:35890-1721808000-1721822400@www.goiasfomento.com
SUMMARY:Lucas Fernandes de Andrade: Despachos Internos.
DESCRIPTION:
URL:https://www.goiasfomento.com/agenda/lucas-fernandes-de-andrade-despachos-internos-24/
LOCATION:Diretoria Administrativa e Financeira da GoiásFomento – Agência de Fomento de Goiás.
CATEGORIES:Diretoria Administrativa e Financeira
END:VEVENT
BEGIN:VEVENT
DTSTART;TZID=America/Sao_Paulo:20240724T140000
DTEND;TZID=America/Sao_Paulo:20240724T160000
DTSTAMP:20260425T095458
CREATED:20240724T112316Z
LAST-MODIFIED:20240724T195029Z
UID:35892-1721829600-1721836800@www.goiasfomento.com
SUMMARY:Lucas Fernandes de Andrade: Despachos Internos.
DESCRIPTION:
URL:https://www.goiasfomento.com/agenda/lucas-fernandes-de-andrade-despachos-internos-25/
LOCATION:Diretoria Administrativa e Financeira da GoiásFomento – Agência de Fomento de Goiás.
CATEGORIES:Diretoria Administrativa e Financeira
END:VEVENT
BEGIN:VEVENT
DTSTART;TZID=America/Sao_Paulo:20240724T160000
DTEND;TZID=America/Sao_Paulo:20240724T180000
DTSTAMP:20260425T095458
CREATED:20240724T195110Z
LAST-MODIFIED:20240724T195110Z
UID:35904-1721836800-1721844000@www.goiasfomento.com
SUMMARY:Lucas Fernandes de Andrade: Reunião da Diretoria Executiva da Agência de Fomento de Goiás.
DESCRIPTION:
URL:https://www.goiasfomento.com/agenda/lucas-fernandes-de-andrade-reuniao-da-diretoria-executiva-da-agencia-de-fomento-de-goias/
LOCATION:Diretoria Administrativa e Financeira da GoiásFomento – Agência de Fomento de Goiás.
CATEGORIES:Diretoria Administrativa e Financeira
END:VEVENT
END:VCALENDAR