BEGIN:VCALENDAR
VERSION:2.0
PRODID:-//GoiásFomento - Agência de Fomento - ECPv6.15.20//NONSGML v1.0//EN
CALSCALE:GREGORIAN
METHOD:PUBLISH
X-WR-CALNAME:GoiásFomento - Agência de Fomento
X-ORIGINAL-URL:https://www.goiasfomento.com
X-WR-CALDESC:Eventos para GoiásFomento - Agência de Fomento
REFRESH-INTERVAL;VALUE=DURATION:PT1H
X-Robots-Tag:noindex
X-PUBLISHED-TTL:PT1H
BEGIN:VTIMEZONE
TZID:America/Sao_Paulo
BEGIN:STANDARD
TZOFFSETFROM:-0300
TZOFFSETTO:-0300
TZNAME:-03
DTSTART:20230101T000000
END:STANDARD
END:VTIMEZONE
BEGIN:VEVENT
DTSTART;TZID=America/Sao_Paulo:20240718T080000
DTEND;TZID=America/Sao_Paulo:20240718T090000
DTSTAMP:20260425T095523
CREATED:20240718T115452Z
LAST-MODIFIED:20240718T115452Z
UID:35801-1721289600-1721293200@www.goiasfomento.com
SUMMARY:Lucas Fernandes de Andrade: Despachos Internos.
DESCRIPTION:
URL:https://www.goiasfomento.com/agenda/lucas-fernandes-de-andrade-despachos-internos-16/
LOCATION:Diretoria Administrativa e Financeira da GoiásFomento – Agência de Fomento de Goiás.
CATEGORIES:Diretoria Administrativa e Financeira
END:VEVENT
BEGIN:VEVENT
DTSTART;TZID=America/Sao_Paulo:20240718T090000
DTEND;TZID=America/Sao_Paulo:20240718T101500
DTSTAMP:20260425T095523
CREATED:20240718T124554Z
LAST-MODIFIED:20240718T124554Z
UID:35806-1721293200-1721297700@www.goiasfomento.com
SUMMARY:Lucas Fernandes de Andrade: Reunião com Luis Henrique Crispim – Subcontrolador de Auditoria Interna e Controle - CGE.
DESCRIPTION:
URL:https://www.goiasfomento.com/agenda/lucas-fernandes-de-andrade-reuniao-com-luis-henrique-crispim-subcontrolador-de-auditoria-interna-e-controle-cge/
LOCATION:CGE – Palácio Pedro Ludovico Teixeira\, Rua 82\, nº 400\, 3º Andar – Setor Central – GOIÂNIA/GO
CATEGORIES:Diretoria Administrativa e Financeira
END:VEVENT
BEGIN:VEVENT
DTSTART;TZID=America/Sao_Paulo:20240718T101500
DTEND;TZID=America/Sao_Paulo:20240718T120000
DTSTAMP:20260425T095523
CREATED:20240718T124907Z
LAST-MODIFIED:20240718T124907Z
UID:35810-1721297700-1721304000@www.goiasfomento.com
SUMMARY:Lucas Fernandes de Andrade: Despachos Internos.
DESCRIPTION:
URL:https://www.goiasfomento.com/agenda/lucas-fernandes-de-andrade-despachos-internos-17/
LOCATION:Diretoria Administrativa e Financeira da GoiásFomento – Agência de Fomento de Goiás.
CATEGORIES:Diretoria Administrativa e Financeira
END:VEVENT
BEGIN:VEVENT
DTSTART;TZID=America/Sao_Paulo:20240718T140000
DTEND;TZID=America/Sao_Paulo:20240718T180000
DTSTAMP:20260425T095523
CREATED:20240718T125106Z
LAST-MODIFIED:20240718T125106Z
UID:35814-1721311200-1721325600@www.goiasfomento.com
SUMMARY:Lucas Fernandes de Andrade: Despachos Internos.
DESCRIPTION:
URL:https://www.goiasfomento.com/agenda/lucas-fernandes-de-andrade-despachos-internos-18/
LOCATION:Diretoria Administrativa e Financeira da GoiásFomento – Agência de Fomento de Goiás.
CATEGORIES:Diretoria Administrativa e Financeira
END:VEVENT
END:VCALENDAR