BEGIN:VCALENDAR
VERSION:2.0
PRODID:-//GoiásFomento - Agência de Fomento - ECPv6.15.20//NONSGML v1.0//EN
CALSCALE:GREGORIAN
METHOD:PUBLISH
X-ORIGINAL-URL:https://www.goiasfomento.com
X-WR-CALDESC:Eventos para GoiásFomento - Agência de Fomento
REFRESH-INTERVAL;VALUE=DURATION:PT1H
X-Robots-Tag:noindex
X-PUBLISHED-TTL:PT1H
BEGIN:VTIMEZONE
TZID:America/Sao_Paulo
BEGIN:STANDARD
TZOFFSETFROM:-0300
TZOFFSETTO:-0300
TZNAME:-03
DTSTART:20230101T000000
END:STANDARD
END:VTIMEZONE
BEGIN:VEVENT
DTSTART;TZID=America/Sao_Paulo:20240716T080000
DTEND;TZID=America/Sao_Paulo:20240716T090000
DTSTAMP:20260425T095627
CREATED:20240716T183634Z
LAST-MODIFIED:20240716T183634Z
UID:35708-1721116800-1721120400@www.goiasfomento.com
SUMMARY:Lucas Fernandes de Andrade: Despachos Internos.
DESCRIPTION:
URL:https://www.goiasfomento.com/agenda/lucas-fernandes-de-andrade-despachos-internos-9/
LOCATION:Diretoria Administrativa e Financeira da GoiásFomento – Agência de Fomento de Goiás.
CATEGORIES:Diretoria Administrativa e Financeira
END:VEVENT
BEGIN:VEVENT
DTSTART;TZID=America/Sao_Paulo:20240716T090000
DTEND;TZID=America/Sao_Paulo:20240716T110000
DTSTAMP:20260425T095627
CREATED:20240716T183756Z
LAST-MODIFIED:20240716T183756Z
UID:35710-1721120400-1721127600@www.goiasfomento.com
SUMMARY:Lucas Fernandes: Reunião com os Gerentes da Agência de Fomento de Goiás.
DESCRIPTION:
URL:https://www.goiasfomento.com/agenda/lucas-fernandes-reuniao-com-os-gerentes-da-agencia-de-fomento-de-goias-5/
LOCATION:Diretoria Administrativa e Financeira da GoiásFomento – Agência de Fomento de Goiás.
CATEGORIES:Diretoria Administrativa e Financeira
END:VEVENT
BEGIN:VEVENT
DTSTART;TZID=America/Sao_Paulo:20240716T110000
DTEND;TZID=America/Sao_Paulo:20240716T120000
DTSTAMP:20260425T095627
CREATED:20240715T121337Z
LAST-MODIFIED:20240715T130120Z
UID:35656-1721127600-1721131200@www.goiasfomento.com
SUMMARY:Lucas Fernandes de Andrade:   Entrevista ao vivo no Programa Brasil Central – TBC. Pauta: Balanço 1º Semestre GoiásFomento.
DESCRIPTION:
URL:https://www.goiasfomento.com/agenda/lucas-fernandes-de-andrade-entrevista-ao-vivo-no-programa-brasil-central-tbc-pauta-balanco-1o-semestre-goiasfomento/
LOCATION:TBC -Avenida SC-01 Nº 299 – Parque Santa Cruz\, Goiânia – GO\, 74860-270
CATEGORIES:Diretoria Administrativa e Financeira
END:VEVENT
BEGIN:VEVENT
DTSTART;TZID=America/Sao_Paulo:20240716T140000
DTEND;TZID=America/Sao_Paulo:20240716T160000
DTSTAMP:20260425T095627
CREATED:20240716T184420Z
LAST-MODIFIED:20240716T184420Z
UID:35718-1721138400-1721145600@www.goiasfomento.com
SUMMARY:Lucas Fernandes de Andrade: Despachos Internos.
DESCRIPTION:
URL:https://www.goiasfomento.com/agenda/lucas-fernandes-de-andrade-despachos-internos-11/
LOCATION:Diretoria Administrativa e Financeira da GoiásFomento – Agência de Fomento de Goiás.
CATEGORIES:Diretoria Administrativa e Financeira
END:VEVENT
BEGIN:VEVENT
DTSTART;TZID=America/Sao_Paulo:20240716T160000
DTEND;TZID=America/Sao_Paulo:20240716T170000
DTSTAMP:20260425T095627
CREATED:20240716T191701Z
LAST-MODIFIED:20240716T191701Z
UID:35722-1721145600-1721149200@www.goiasfomento.com
SUMMARY:Lucas Fernandes de Andrade: Reunião com o Correspondente Idelfonso e os Empresários  Elyon\, Cesar e Valeria da Empresa Ziontech.
DESCRIPTION:
URL:https://www.goiasfomento.com/agenda/lucas-fernandes-de-andrade-reuniao-com-o-correspondente-idelfonso-e-os-empresarios-elyon-cesar-e-valeria-da-empresa-ziontech/
LOCATION:Diretoria Administrativa e Financeira da GoiásFomento – Agência de Fomento de Goiás.
CATEGORIES:Diretoria Administrativa e Financeira
END:VEVENT
BEGIN:VEVENT
DTSTART;TZID=America/Sao_Paulo:20240716T170000
DTEND;TZID=America/Sao_Paulo:20240716T180000
DTSTAMP:20260425T095627
CREATED:20240716T191833Z
LAST-MODIFIED:20240716T191833Z
UID:35724-1721149200-1721152800@www.goiasfomento.com
SUMMARY:Lucas Fernandes de Andrade: Despachos Internos.
DESCRIPTION:
URL:https://www.goiasfomento.com/agenda/lucas-fernandes-de-andrade-despachos-internos-12/
LOCATION:Diretoria Administrativa e Financeira da GoiásFomento – Agência de Fomento de Goiás.
CATEGORIES:Diretoria Administrativa e Financeira
END:VEVENT
END:VCALENDAR