BEGIN:VCALENDAR
VERSION:2.0
PRODID:-//GoiásFomento - Agência de Fomento - ECPv6.15.20//NONSGML v1.0//EN
CALSCALE:GREGORIAN
METHOD:PUBLISH
X-ORIGINAL-URL:https://www.goiasfomento.com
X-WR-CALDESC:Eventos para GoiásFomento - Agência de Fomento
REFRESH-INTERVAL;VALUE=DURATION:PT1H
X-Robots-Tag:noindex
X-PUBLISHED-TTL:PT1H
BEGIN:VTIMEZONE
TZID:America/Sao_Paulo
BEGIN:STANDARD
TZOFFSETFROM:-0300
TZOFFSETTO:-0300
TZNAME:-03
DTSTART:20230101T000000
END:STANDARD
END:VTIMEZONE
BEGIN:VEVENT
DTSTART;TZID=America/Sao_Paulo:20240710T080000
DTEND;TZID=America/Sao_Paulo:20240710T090000
DTSTAMP:20260425T095628
CREATED:20240710T114756Z
LAST-MODIFIED:20240710T114756Z
UID:35531-1720598400-1720602000@www.goiasfomento.com
SUMMARY:Lucas Fernandes: Despachos Internos.
DESCRIPTION:
URL:https://www.goiasfomento.com/agenda/lucas-fernandes-despachos-internos-444/
LOCATION:Gabinete da Diretoria Administrativa e Financeira – Agência de Fomento de Goiás.
CATEGORIES:Diretoria Administrativa e Financeira
END:VEVENT
BEGIN:VEVENT
DTSTART;TZID=America/Sao_Paulo:20240710T090000
DTEND;TZID=America/Sao_Paulo:20240710T113000
DTSTAMP:20260425T095628
CREATED:20240710T123156Z
LAST-MODIFIED:20240710T131046Z
UID:35534-1720602000-1720611000@www.goiasfomento.com
SUMMARY:Lucas Fernandes: Goiás Futuro do Brasil: Gestão de Riscos no Presente e no Futuro de Goiás - com Secretário-Chefe Henrique Ziller.
DESCRIPTION:
URL:https://www.goiasfomento.com/agenda/lucas-fernandes-goias-futuro-do-brasil-gestao-de-riscos-no-presente-e-no-futuro-de-goias-com-secretario-chefe-henrique-ziller/
LOCATION:Centro Cultural Oscar Niemeyer
CATEGORIES:Diretoria Administrativa e Financeira
END:VEVENT
BEGIN:VEVENT
DTSTART;TZID=America/Sao_Paulo:20240710T113000
DTEND;TZID=America/Sao_Paulo:20240710T120000
DTSTAMP:20260425T095628
CREATED:20240710T130027Z
LAST-MODIFIED:20240710T130027Z
UID:35539-1720611000-1720612800@www.goiasfomento.com
SUMMARY:Lucas Fernandes: Despachos Internos.
DESCRIPTION:
URL:https://www.goiasfomento.com/agenda/lucas-fernandes-despachos-internos-445/
LOCATION:Gabinete da Diretoria Administrativa e Financeira – Agência de Fomento de Goiás.
CATEGORIES:Diretoria Administrativa e Financeira
END:VEVENT
BEGIN:VEVENT
DTSTART;TZID=America/Sao_Paulo:20240710T140000
DTEND;TZID=America/Sao_Paulo:20240710T180000
DTSTAMP:20260425T095628
CREATED:20240710T130658Z
LAST-MODIFIED:20240710T130658Z
UID:35541-1720620000-1720634400@www.goiasfomento.com
SUMMARY:Lucas Fernandes: Reunião com os Gerentes da Agência de Fomento de Goiás.
DESCRIPTION:
URL:https://www.goiasfomento.com/agenda/lucas-fernandes-reuniao-com-os-gerentes-da-agencia-de-fomento-de-goias-4/
LOCATION:Gabinete da Diretoria Administrativa e Financeira – Agência de Fomento de Goiás.
CATEGORIES:Diretoria Administrativa e Financeira
END:VEVENT
END:VCALENDAR